{"text_format":"1","workbook":"xlsx","n_sheets":9,"sheets":["q","change","GRAPHS","Month or Percentile","Sheet1","InputData","Sheet2","Sheet3","Sheet4"],"not_rendered":{"charts":10,"images":3,"macros":1,"external_links":0,"defined_names":1,"comments":1,"pivot_tables":0},"unopened":[],"bounds":{"document_bytes":16777216,"sheet_cells":100000,"rows_first":2000,"rows_last":500,"rows_between":2000,"halvings":0,"cell_chars":16384,"cell_head_chars":4096},"cells_cut":0,"cells_raw":0,"read":"whole","date_system":"1900"}

{"sheet":"q","index":0,"n_rows":160,"n_cols":70,"rows_kept":160,"cut":false,"hidden":false,"merged":[]}
[null,"Folder","First File","Second File",null,null,null,{"$f":"INT(99.9*90/100+0.5)","v":90},null,null,null,{"$f":"INT(50*90/100+0.5)","v":45},null,null,{"$f":"TRUNC(50*90/100+0.5)","v":45},null,null,null,"Rating",null,null,null,null,null,null,null,null,null,null,null,null,null,null,null,null,null,null,null,null,"Veg","Sp","Limit","zone","elevation"]
["PRESENT DAY","c:\\_Projects\\_Software\\VB code\\24_EWR site flows_scenario comparitor\\scen 1 PD\\","EWR 1.pd",null,null,null,null,null,null,null,null,null,null,null,null,null,null,null,"coefficients in",6,null,null,null,null,null,null,null,null,null,null,null,null,null,null,null,null,null,null,null,null,"Phragmites","low","marginal",0.34]
["Array Parameter",null,null,null,"Oct","Nov","Dec","Jan","Feb","Mar","Apr","May","Jun","Jul","Aug","Sep","Annual",null,"y=aQb+ c","Croc",null,{"$f":"A2","v":"PRESENT DAY"},null,null,null,null,null,null,null,null,null,null,null,null,null,null,null,null,{"$f":"V3","v":"PRESENT DAY"}]
[1E-3,null,null,0.1,20.53,7.47,45.43,43.36,84.17,100.74,65.44,14.17,6.1,23.33,8.2899999999999991,9.27,null,null,"a1",0.65300000000000002,null,"Flow converted to max depth",null,null,{"$f":"D3","v":0},"Oct","Nov","Dec","Jan","Feb","Mar","Apr","May","Jun","Jul","Aug","Sep",null,"Inundation of Veg component",null,null,null,{"$f":"Z4","v":"Oct"},"Nov","Dec","Jan","Feb","Mar","Apr","May","Jun","Jul","Aug","Sep"]
[0.01,null,null,1,12.11,6.64,35.69,36.32,74.319999999999993,68.510000000000005,40.46,11.1,5.27,6.19,7.07,9.19,null,null,"b1",0.20499999999999999,null,{"$f":"A4","v":1E-3},null,null,{"$f":"D4","v":0.1},{"$f":"IF(E4<$T$10,$T$4*E4^$T$5+$T$6,$T$7*E4^$T$8+$T$9)","v":1.2132573078543423},{"$f":"IF(F4<$T$10,$T$4*F4^$T$5+$T$6,$T$7*F4^$T$8+$T$9)","v":0.98615210173599266},1.4278035003433576,1.4142183964832882,1.6202067357376539,1.6810072260174425,1.5387251627722138,1.124459972882319,0.94603193590627011,1.245476973671692,1.0074345943473695,1.0307765426725684,null,{"$f":"V5","v":1E-3},null,null,{"$f":"Y5","v":0.1},{"$f":"$AR$2-Z5","v":-0.87325730785434219},{"$f":"$AR$2-AA5","v":-0.64615210173599258},{"$f":"$AR$2-AB5","v":-1.0878035003433575},{"$f":"$AR$2-AC5","v":-1.0742183964832881},{"$f":"$AR$2-AD5","v":-1.2802067357376539},{"$f":"$AR$2-AE5","v":-1.3410072260174424},{"$f":"$AR$2-AF5","v":-1.1987251627722137},{"$f":"$AR$2-AG5","v":-0.78445997288231895},{"$f":"$AR$2-AH5","v":-0.60603193590627003},{"$f":"$AR$2-AI5","v":-0.90547697367169189},{"$f":"$AR$2-AJ5","v":-0.6674345943473694},{"$f":"$AR$2-AK5","v":-0.69077654267256827}]
[0.05,null,null,5,4.0750000000000002,5.1829999999999998,11.080500000000001,23.605499999999999,44.391500000000001,45.3065,21.018000000000001,8.4079999999999995,4.1890000000000001,3.8045,2.887,7.2225000000000001,null,null,"c1",0,null,0.01,null,null,1,{"$f":"IF(E5<$T$10,$T$4*E5^$T$5+$T$6,$T$7*E5^$T$8+$T$9)","v":1.0888241141819421},0.96262611080455474,1.3588928814725019,1.3637761101225443,1.5793916948837039,1.5532549439026873,1.3942912000177554,1.0695581267219059,0.91808809824207094,0.9488766602596943,0.97508878428546597,1.0289466584318878,null,0.01,null,null,{"$f":"Y6","v":1},-0.74882411418194206,-0.62262611080455477,-1.0188928814725018,-1.0237761101225442,-1.2393916948837038,-1.2132549439026872,-1.0542912000177553,-0.72955812672190579,-0.57808809824207086,-0.60887666025969422,-0.635088784285466,-0.68894665843188774]
[0.1,null,null,10,1.77,2.6760000000000002,7.3450000000000006,17.843999999999998,35.798000000000002,35.481000000000002,14.083,7.117,3.5389999999999997,3.5219999999999998,2.2000000000000002,3.8890000000000002,null,null,"a2",0.19800000000000001,null,0.05,null,null,5,0.87094221585383058,0.91496046556929944,1.0691726719991541,1.2484779833718271,1.4210509340454114,1.4270069443136557,1.2191142726495316,1.010357769317993,0.87588241097486275,0.85876470531791049,0.81153036037455162,0.97936398464406527,null,0.05,null,null,5,-0.53094221585383061,-0.57496046556929947,-0.72917267199915403,-0.90847798337182706,-1.0810509340454113,-1.0870069443136556,-0.87911427264953157,-0.67035776931799296,-0.53588241097486278,-0.51876470531791052,-0.47153036037455159,-0.6393639846440653]
[0.15,null,null,15,1.6335,2.3145000000000002,5.3540000000000001,15.286,22.451500000000003,26.261500000000002,13.032,5.9750000000000005,3.3104999999999998,3.1225000000000001,1.6844999999999999,2.7285000000000004,null,null,"b2",0.46300000000000002,null,0.1,null,null,10,0.73408728344983676,0.79900193971442601,0.98274648760643668,1.1788786031802587,1.3597348474218243,1.3572577520749158,1.1230412100971201,0.97641413824023993,0.8461233819796744,0.8452885736556307,0.76755557568144317,0.86264072980513928,null,0.1,null,null,10,-0.39408728344983673,-0.45900193971442599,-0.6427464876064366,-0.83887860318025864,-1.0197348474218242,-1.0172577520749158,-0.78304121009712002,-0.63641413824023996,-0.50612338197967444,-0.50528857365563074,-0.42755557568144315,-0.5226407298051392]
[0.2,null,null,20,1.494,1.8280000000000003,4.0380000000000003,12.608000000000002,17.590000000000003,21.54,10.31,4.9820000000000002,2.8780000000000001,2.6860000000000004,1.534,2.1579999999999999,null,null,"c2",0,null,0.15,null,null,15,0.7221087453998386,0.77558054091572115,0.92106917132412547,1.1420718355538069,1.2357154608315846,1.2760676080752911,1.1053261656079207,0.94202505259014813,0.83462495856242624,0.82468136846908313,0.72667419704598379,0.80219064440309484,null,0.15,null,null,15,-0.38210874539983858,-0.43558054091572113,-0.58106917132412539,-0.80207183555380679,-0.89571546083158449,-0.93606760807529099,-0.76532616560792066,-0.60202505259014805,-0.49462495856242622,-0.48468136846908311,-0.38667419704598377,-0.46219064440309482]
[0.3,null,null,30,1.2470000000000001,1.0670000000000002,2.9969999999999999,6.4480000000000004,10.618000000000002,13.110000000000001,6.9300000000000006,4.1040000000000001,2.484,2.17,1.1239999999999999,1.5010000000000001,null,null,"Q intersect",102,null,0.2,null,null,20,0.70901439675983347,0.73895552484491334,0.86931520485845915,1.097856689055495,1.1754189236709764,1.2252608290414557,1.0534919166604704,0.90757169858976849,0.81101109041679353,0.79961312295170117,0.71286514378957022,0.76452858259663747,null,0.2,null,null,20,-0.36901439675983344,-0.39895552484491331,-0.52931520485845907,-0.75785668905549497,-0.83541892367097637,-0.88526082904145564,-0.71349191666047029,-0.56757169858976853,-0.47101109041679351,-0.45961312295170115,-0.3728651437895702,-0.42452858259663745]
[0.4,null,null,40,1.1020000000000001,0.94599999999999995,1.996,4.0220000000000002,5.8520000000000003,9.6859999999999999,4.8860000000000001,3.67,1.8620000000000001,1.9219999999999999,1.01,1.1459999999999999,null,null,"y intersect",1.6850000000000001,null,0.3,null,null,30,0.6832282327815502,0.66173923837465121,0.81777525207362656,0.95685319682898484,1.0598683883670796,1.10667916330355,0.97109897197708417,0.87220925058551035,0.78689947857670128,0.76539818266170523,0.6688369766718677,0.7096941464462293,null,0.3,null,null,30,-0.34322823278155018,-0.32173923837465118,-0.47777525207362653,-0.61685319682898476,-0.71986838836707956,-0.7666791633035499,-0.63109897197708409,-0.53220925058551027,-0.44689947857670126,-0.4253981826617052,-0.32883697667186768,-0.36969414644622928]
[0.5,null,null,50,0.99,0.77500000000000002,1.6,3.085,3.62,7.125,2.9950000000000001,3.0999999999999996,1.54,1.635,0.94,1.04,null,null,"Depth",{"$f":"IF(T13<T10,T4*T13^T5+T6,T7*T13^T8+T9)","v":0.90824294312846343},null,0.4,null,null,40,0.6661321704474199,0.64561091511265833,0.75239533010609516,0.86860795980222982,0.93801669121838593,1.0400944920958215,0.90395880865573375,0.85245158861776904,0.74175249359764484,0.74659078436864978,0.65433336048357327,0.67150001682987936,null,0.4,null,null,40,-0.32613217044741988,-0.30561091511265831,-0.41239533010609514,-0.52860795980222974,-0.59801669121838597,-0.70009449209582142,-0.56395880865573367,-0.51245158861776896,-0.40175249359764481,-0.40659078436864976,-0.31433336048357324,-0.33150001682987934]
[0.6,null,null,60,0.86,0.67400000000000004,1.26,2.0960000000000001,2.794,4.5359999999999996,1.984,2.492,0.93800000000000006,1.208,0.85,0.96399999999999997,null,null,"Discharge",5,null,0.5,null,null,50,0.65165599680396213,0.61975498726435208,0.71904782627157438,0.8226412653148707,0.8500577637881237,0.97663903695741783,0.81766334789307893,0.82345965979370872,0.71343585047701208,0.722244629962419,0.64476936003950591,0.65827144422302164,null,0.5,null,null,50,-0.31165599680396211,-0.27975498726435205,-0.37904782627157435,-0.48264126531487067,-0.51005776378812362,-0.63663903695741775,-0.4776633478930789,-0.4834596597937087,-0.37343585047701205,-0.38224462996241898,-0.30476936003950589,-0.31827144422302162]
[0.7,null,null,70,0.72,0.6,0.93200000000000016,1.6080000000000001,1.8160000000000005,3.4970000000000003,1.6830000000000001,1.5630000000000002,0.77300000000000002,0.99,0.8,0.9,null,null,null,null,null,0.6,null,null,60,0.63311902451714008,0.60226615757675661,0.68468236642691704,0.75997340283669335,0.80610124821296314,0.89028930383447769,0.75146580519852957,0.78741834581203596,0.64448789269921858,0.67879229316335521,0.63160282095163345,0.64811037424992179,null,0.6,null,null,60,-0.29311902451714006,-0.26226615757675659,-0.34468236642691702,-0.41997340283669332,-0.46610124821296312,-0.55028930383447761,-0.41146580519852954,-0.44741834581203593,-0.30448789269921855,-0.33879229316335518,-0.29160282095163342,-0.30811037424992177]
[0.8,null,null,80,0.58399999999999996,0.52,0.752,1.06,1.3860000000000001,2.7240000000000002,1.1459999999999999,1.1379999999999999,0.65,0.79,0.75,0.73,null,null,null,null,null,0.7,null,null,70,0.610472834573213,0.58807699100144473,0.64364061821953544,0.71978338982530521,0.73795848284699839,0.84405507582446404,0.72654149805428203,0.71560731574996339,0.61942678003217821,0.65165599680396213,0.6238018072031899,0.63904714025052545,null,0.7,null,null,70,-0.27047283457321297,-0.2480769910014447,-0.30364061821953542,-0.37978338982530518,-0.39795848284699836,-0.50405507582446396,-0.38654149805428201,-0.37560731574996337,-0.27942678003217819,-0.31165599680396211,-0.28380180720318987,-0.29904714025052542]
[0.85,null,null,85,0.52949999999999997,0.45,0.6329999999999999,0.89149999999999963,1.0589999999999999,1.9974999999999994,0.79299999999999993,1.0554999999999999,0.61,0.6865,0.72649999999999992,0.64599999999999991,null,null,null,null,null,0.8,null,null,80,0.58482753895602235,0.57107594451093602,0.61593919145771514,0.66084694042888503,0.69819163859040745,0.80191924748477728,0.67150001682987936,0.67053637921517306,0.59780620616921853,0.62219531263729322,0.61560301796121464,0.61220146932644182,null,0.8,null,null,80,-0.24482753895602233,-0.23107594451093599,-0.27593919145771512,-0.32084694042888501,-0.35819163859040742,-0.46191924748477725,-0.33150001682987934,-0.33053637921517304,-0.25780620616921851,-0.28219531263729319,-0.27560301796121461,-0.27220146932644179]
[0.9,null,null,90,0.46200000000000013,0.41,0.61,0.73500000000000021,0.76,1.7510000000000001,0.67300000000000015,0.94099999999999995,0.6,0.61,0.69,0.43100000000000055,null,null,null,null,null,0.85,null,null,85,0.57319936946004157,0.55439811708122433,0.59456719269697522,0.63780520265550156,0.66071908717030792,0.75251120810317718,0.62267895038195431,0.66027084356447496,0.59007307390361197,0.60453923525635811,0.61159860068973249,0.59705019904523848,null,0.85,null,null,85,-0.23319936946004155,-0.2143981170812243,-0.2545671926969752,-0.29780520265550153,-0.32071908717030789,-0.41251120810317715,-0.28267895038195429,-0.32027084356447494,-0.25007307390361194,-0.26453923525635809,-0.27159860068973246,-0.25705019904523846]
[0.95,null,null,95,0.38550000000000006,0.35,0.5455000000000001,0.50750000000000017,0.53100000000000014,1.1555,0.59750000000000014,0.74,0.5455000000000001,0.56650000000000011,0.50200000000000011,0.36,null,null,null,null,null,0.9,null,null,90,0.5573972044838077,0.54391855187206717,0.59007307390361197,0.6130587364816743,0.61727681866448836,0.73246493922299527,0.60208286760376961,0.64490991520978092,0.58807699100144473,0.59007307390361197,0.60516979684187244,0.54951685985976406,null,0.9,null,null,90,-0.21739720448380767,-0.20391855187206714,-0.25007307390361194,-0.27305873648167428,-0.27727681866448833,-0.39246493922299525,-0.26208286760376959,-0.30490991520978089,-0.2480769910014447,-0.25007307390361194,-0.26516979684187242,-0.20951685985976404]
[0.99,null,null,99,0.32280000000000025,0.29550000000000015,0.47,0.40640000000000009,0.39740000000000042,0.55290000000000061,0.42910000000000004,0.61460000000000015,0.45820000000000011,0.37730000000000008,0.37640000000000012,0.29910000000000003,null,null,null,null,null,0.95,null,null,95,0.53709137678874141,0.52655910935567107,0.57670817278774855,0.56823446430863422,0.57353187307375975,0.67263741500103091,0.58757384119763334,0.61391137986066846,0.57670817278774855,0.58119137905745211,0.56696655813222607,0.52960880144764666,null,0.95,null,null,95,-0.19709137678874139,-0.18655910935567105,-0.23670817278774853,-0.2282344643086342,-0.23353187307375972,-0.33263741500103089,-0.24757384119763332,-0.27391137986066844,-0.23670817278774853,-0.24119137905745208,-0.22696655813222605,-0.18960880144764664]
[0.99900000000000011,null,null,99.9,0.25,0.25,0.47,0.37,0.27,0.38,0.42,0.56000000000000005,0.44,0.35,0.34,0.28999999999999998,null,{"$f":"TRUNC(12.33)","v":12},null,null,null,0.99,null,null,99,0.51789838188425363,0.50860129980552315,0.55936236412455198,0.54293606328021582,0.5404492184542059,0.57830338211440613,0.54901938220247204,0.59098254676696826,0.55645426271247811,0.53472929362503252,0.5344675622866536,0.50986540546786552,null,0.99,null,null,99,-0.17789838188425361,-0.16860129980552313,-0.21936236412455196,-0.20293606328021579,-0.20044921845420588,-0.2383033821144061,-0.20901938220247201,-0.25098254676696824,-0.21645426271247808,-0.1947292936250325,-0.19446756228665357,-0.16986540546786549]
[]
["NATURAL","c:\\_Projects\\_Software\\VB code\\24_EWR site flows_scenario comparitor\\natural\\","EWR_1.txt"]
[null,"Array Parameter",null,null,"Oct","Nov","Dec","Jan","Feb","Mar","Apr","May","Jun","Jul","Aug","Sep","Annual",null,null,null,null,{"$f":"A22","v":"NATURAL"},null,null,null,null,null,null,null,null,null,null,null,null,null,null,null,null,{"$f":"V23","v":"NATURAL"}]
[0.1,1E-3,null,0.1,5.13,10.76,40.43,50.94,94.11,114.47,78.16,18.8,9.61,7.21,6.42,5.92,null,null,null,null,null,"Flow converted to max depth",null,null,{"$f":"D23","v":0},"Oct","Nov","Dec","Jan","Feb","Mar","Apr","May","Jun","Jul","Aug","Sep",null,"Vegetation components",null,null,null,{"$f":"Z24","v":"Oct"},"Nov","Dec","Jan","Feb","Mar","Apr","May","Jun","Jul","Aug","Sep"]
[1,0.01,null,1,4.9400000000000004,10.3,20.21,45.29,86,80.41,46.55,14.04,8.5500000000000007,6.72,6.34,5.2,null,null,null,null,null,{"$f":"A24","v":0.1},null,null,{"$f":"D24","v":0.1},{"$f":"IF(E24<$T$10,$T$4*E24^$T$5+$T$6,$T$7*E24^$T$8+$T$9)","v":0.9130346114031358},{"$f":"IF(F24<$T$10,$T$4*F24^$T$5+$T$6,$T$7*F24^$T$8+$T$9)","v":1.0627587685291608},1.3940792025059652,1.4617067890848892,1.6577098377726831,1.7776220937800495,1.5957873357620289,1.1915589700500675,1.0384162500881631,0.97901627284002035,0.95599993341834322,0.94024088333285416,null,{"$f":"V25","v":0.1},null,null,{"$f":"Y25","v":0.1},{"$f":"$AR$2-Z25","v":-0.57303461140313572},{"$f":"$AR$2-AA25","v":-0.72275876852916077},{"$f":"$AR$2-AB25","v":-1.0540792025059651},{"$f":"$AR$2-AC25","v":-1.1217067890848891},{"$f":"$AR$2-AD25","v":-1.317709837772683},{"$f":"$AR$2-AE25","v":-1.4376220937800495},{"$f":"$AR$2-AF25","v":-1.2557873357620288},{"$f":"$AR$2-AG25","v":-0.85155897005006742},{"$f":"$AR$2-AH25","v":-0.69841625008816299},{"$f":"$AR$2-AI25","v":-0.63901627284002038},{"$f":"$AR$2-AJ25","v":-0.61599993341834325},{"$f":"$AR$2-AK25","v":-0.60024088333285408}]
[5,0.05,null,5,4.7069999999999999,7.7975000000000003,15.419500000000001,39.835999999999999,72.711500000000001,60.253,29.1845,13.4725,7.8950000000000005,6.1989999999999998,5.5324999999999998,4.7335000000000003,null,null,null,null,null,1,null,null,1,{"$f":"IF(E25<$T$10,$T$4*E25^$T$5+$T$6,$T$7*E25^$T$8+$T$9)","v":0.90599793081561475},1.0532823636474036,1.209356311670668,1.4269003911723697,1.6273664706095934,1.6050987037250872,1.4349498287510016,1.1223374079673931,1.0138325599696572,0.96499237616064804,0.95354562775249208,0.91557487577111996,null,1,null,null,1,-0.56599793081561467,-0.71328236364740349,-0.86935631167066796,-1.0869003911723696,-1.2873664706095933,-1.2650987037250871,-1.0949498287510016,-0.78233740796739304,-0.67383255996965707,-0.62499237616064796,-0.613545627752492,-0.57557487577111988]
[11,0.1,null,10,4.4580000000000002,5.734,12.796000000000001,26.995000000000001,47.664999999999999,47.039000000000001,23.806000000000001,12.683999999999999,7.0729999999999995,5.8239999999999998,4.9630000000000001,4.3570000000000002,null,null,null,null,null,5,null,null,5,0.897068778778359,0.99486473085165406,1.1441094980350575,1.3898556747525719,1.5723231819289218,1.5128950771470082,1.3039753869793844,1.1128844154095117,0.99740230793088269,0.94915932044005746,0.92728251965432673,0.8981018054969907,null,5,null,null,5,-0.55706877877835903,-0.65486473085165398,-0.80410949803505738,-1.0498556747525718,-1.2323231819289218,-1.1728950771470081,-0.96397538697938434,-0.77288441540951158,-0.65740230793088261,-0.60915932044005738,-0.58728251965432676,-0.55810180549699062]
[16,0.15,null,15,3.8835000000000002,5.476,12.024000000000001,23.093,32.664000000000001,37.548499999999997,19.446000000000002,11.092499999999999,6.64,5.569,4.7534999999999998,4.0840000000000005,null,null,null,null,null,11,null,null,10,0.88712924099888135,0.93410781912897489,1.1011928901646517,1.2832942971281041,1.4419297380993596,1.4380271571624506,1.2506445625997094,1.099210097217276,0.97517359029392237,0.93709487209038012,0.90686106773385755,0.88297138846904377,null,11,null,null,10,-0.54712924099888127,-0.59410781912897481,-0.76119289016465164,-0.94329429712810398,-1.1019297380993596,-1.0980271571624505,-0.91064456259970927,-0.75921009721727595,-0.6351735902939224,-0.59709487209038015,-0.56686106773385747,-0.54297138846904369]
[21,0.2,null,20,3.7519999999999998,5.0600000000000005,9.4359999999999999,21.004000000000001,28.564,29.53,18.462000000000003,10.096,6.1580000000000004,5.1280000000000001,4.492,3.94,null,null,null,null,null,16,null,null,15,0.86239049204204821,0.92533328923214875,1.0872344867395776,1.2428727155270722,1.3344349300391485,1.3731078901807099,1.1998401456219285,1.0694099386619544,0.96262611080455474,0.92853335875208243,0.89887840814607722,0.87133619856293543,null,16,null,null,15,-0.52239049204204813,-0.58533328923214878,-0.74723448673957749,-0.90287271552707216,-0.9944349300391484,-1.0331078901807098,-0.85984014562192845,-0.72940993866195436,-0.62262611080455477,-0.58853335875208246,-0.55887840814607714,-0.53133619856293546]
[31,0.3,null,30,3.4849999999999999,4.5510000000000002,7.74,14.670000000000002,16.724999999999998,19.439,14.266,8.8849999999999998,5.7160000000000002,4.9800000000000004,4.28,3.7210000000000001,null,null,null,null,null,21,null,null,20,0.85632192038640631,0.91046663914925818,1.0345338547812593,1.2189477589595901,1.2982432740539618,1.3071252012810881,1.1871355876052292,1.0489717597989108,0.94786899276956815,0.9129616285149067,0.88851206523785353,0.86494781666306508,null,21,null,null,20,-0.51632192038640623,-0.5704666391492581,-0.69453385478125917,-0.87894775895958999,-0.9582432740539617,-0.96712520128108803,-0.84713558760522911,-0.70897175979891069,-0.60786899276956818,-0.57296162851490662,-0.54851206523785345,-0.524947816663065]
[41,0.4,null,40,3.1419999999999999,3.8660000000000001,6.4020000000000001,10.598000000000001,13.462,14.682,11.896000000000001,7.8520000000000003,5.4779999999999998,4.78,4.0919999999999996,3.496,null,null,null,null,null,31,null,null,30,0.843460505179225,0.8908920481310566,0.99335636344103839,1.1324821217158212,1.1633308286572572,1.1997515918305213,1.1260174900317506,1.0218518954836846,0.93350594138095699,0.90749699690589669,0.87974975370649666,0.85486672654088458,null,31,null,null,30,-0.50346050517922492,-0.55089204813105663,-0.65335636344103842,-0.79248212171582111,-0.82333082865725715,-0.85975159183052119,-0.78601749003175048,-0.68185189548368452,-0.59350594138095691,-0.56749699690589672,-0.53974975370649658,-0.51486672654088461]
[51,0.5,null,50,2.895,3.5750000000000002,5.65,9.1950000000000003,11.92,12.035,9.3249999999999993,6.66,5.16,4.3849999999999998,3.79,3.2850000000000001,null,null,null,null,null,41,null,null,40,0.82573453440172684,0.86159240200994747,0.95544984340779948,1.0594588274672556,1.1127065548664905,1.1326719649752468,1.0848517081892424,0.99628626001238452,0.92540256088694384,0.89990341536970042,0.87168582637541492,0.84400559027622857,null,41,null,null,40,-0.48573453440172681,-0.52159240200994739,-0.61544984340779951,-0.71945882746725554,-0.77270655486649042,-0.79267196497524672,-0.74485170818924229,-0.65628626001238444,-0.58540256088694376,-0.55990341536970045,-0.53168582637541495,-0.5040055902762286]
[61,0.6,null,60,2.718,3.13,4.8039999999999994,7.3519999999999994,9.14,8.6980000000000004,7.21,5.6959999999999997,4.7639999999999993,4.1379999999999999,3.5880000000000001,3.0139999999999998,null,null,null,null,null,51,null,null,50,0.81199085439389829,0.84788074108290135,0.93128608322828199,1.0290613964414643,1.0853000265465342,1.0874383143090405,1.032027318607518,0.96321979305323158,0.91412664952311884,0.8841316727059586,0.85809272366695,0.8333029761656533,null,51,null,null,50,-0.47199085439389826,-0.50788074108290138,-0.59128608322828202,-0.68906139644146425,-0.74530002654653416,-0.7474383143090404,-0.69202731860751787,-0.6232197930532315,-0.57412664952311876,-0.54413167270595864,-0.51809272366694992,-0.49330297616565327]
[71,0.7,null,70,2.516,2.8210000000000002,4.1180000000000003,5.76,7.3410000000000011,7.42,6.22,5.1230000000000002,4.3520000000000003,3.7930000000000001,3.35,2.7230000000000003,null,null,null,null,null,61,null,null,60,0.80155682992858635,0.82508704941397348,0.90082783267785616,0.98293841507732738,1.0277965401626072,1.0174056824937132,0.97901627284002035,0.9328354185032468,0.89928508515407757,0.8736857070259183,0.84851188600908312,0.81872404838517032,null,61,null,null,60,-0.46155682992858632,-0.48508704941397346,-0.56082783267785619,-0.64293841507732741,-0.68779654016260716,-0.67740568249371313,-0.63901627284002038,-0.59283541850324672,-0.5592850851540776,-0.53368570702591822,-0.50851188600908315,-0.4787240483851703]
[81,0.8,null,80,2.1659999999999999,2.484,3.3460000000000001,5.0819999999999999,6.2640000000000002,5.9359999999999999,5.4980000000000002,4.6160000000000005,3.8919999999999999,3.4420000000000002,2.956,2.4220000000000002,null,null,null,null,null,71,null,null,70,0.78896704249545013,0.807692060664842,0.87281837658000938,0.93497455179948052,0.98263674946857882,0.98479533316985457,0.94981759430126278,0.91277907224132915,0.88276357143788065,0.85823192183518671,0.8366568415094835,0.80185888865947019,null,71,null,null,70,-0.44896704249545011,-0.46769206066484198,-0.53281837658000941,-0.59497455179948044,-0.64263674946857874,-0.6447953331698546,-0.6098175943012627,-0.57277907224132907,-0.54276357143788068,-0.51823192183518674,-0.49665684150948347,-0.46185888865947017]
[85,0.85,null,85,2.04,2.2519999999999998,2.9419999999999997,4.3314999999999992,5.5424999999999995,5.2759999999999998,5.2379999999999995,4.5259999999999998,3.7465000000000002,3.2565,2.7765,2.3729999999999998,null,null,null,null,null,81,null,null,80,0.76510874169790699,0.78689947857670128,0.83645195062449451,0.91127674317207508,0.95119112575536557,0.94076126884628286,0.92609417392094207,0.89348583202948628,0.86277710456654644,0.84131650458883034,0.81546925039727414,0.78283255811682417,null,81,null,null,80,-0.42510874169790697,-0.44689947857670126,-0.49645195062449449,-0.57127674317207511,-0.61119112575536549,-0.60076126884628289,-0.58609417392094199,-0.5534858320294862,-0.52277710456654636,-0.50131650458883037,-0.47546925039727411,-0.44283255811682415]
[91,0.9,null,90,2.0209999999999999,2.0430000000000001,2.8239999999999998,3.6180000000000021,4.556,4.6750000000000007,4.6250000000000009,4.1210000000000004,3.5760000000000001,3.133,2.6370000000000005,2.17,null,null,null,null,null,85,null,null,85,0.75576602677626747,0.77124027433945797,0.81467601110969512,0.88190953194741328,0.92762586621694576,0.91830227996013059,0.91694251045736874,0.88988659339435605,0.85606444009659766,0.8318157767034996,0.80506362641890028,0.77955940886034469,null,85,null,null,85,-0.41576602677626745,-0.43124027433945794,-0.4746760111096951,-0.5419095319474132,-0.58762586621694579,-0.57830227996013051,-0.57694251045736866,-0.54988659339435597,-0.51606444009659769,-0.49181577670349957,-0.46506362641890026,-0.43955940886034467]
[96,0.95,null,95,1.6885000000000001,1.8255000000000001,2.285000000000001,2.9685000000000015,3.645,4.1775000000000002,3.8360000000000016,3.3795000000000015,2.862000000000001,2.492,2.1940000000000004,1.8945000000000005,null,null,null,null,null,91,null,null,90,0.7543176600995295,0.75599373493539823,0.80786806944599798,0.84996146537682904,0.89109261192290534,0.8958151694847637,0.89384267891851388,0.87294868933531877,0.84792935541263881,0.82524910542700081,0.79660083606398124,0.76539818266170523,null,91,null,null,90,-0.41431766009952947,-0.41599373493539821,-0.46786806944599796,-0.50996146537682896,-0.55109261192290537,-0.55581516948476373,-0.5538426789185138,-0.5329486893353188,-0.50792935541263873,-0.48524910542700078,-0.45660083606398122,-0.4253981826617052]
[99,0.99,null,99,1.5477000000000016,1.448500000000001,1.6074000000000006,2.2369000000000021,2.7942000000000022,3.019700000000002,2.6675000000000009,2.1792000000000002,1.8610000000000004,1.6738000000000006,1.4520000000000006,1.2682,null,null,null,null,null,96,null,null,95,0.72702760232638719,0.73874823778002241,0.77354369954005642,0.81617497987377652,0.8512579394177554,0.87538894002514345,0.860217540616939,0.83816193530627114,0.81008474763952487,0.78741834581203596,0.76712597635669666,0.74438836479215653,null,96,null,null,95,-0.38702760232638717,-0.39874823778002239,-0.43354369954005639,-0.47617497987377649,-0.51125793941775544,-0.53538894002514348,-0.52021754061693892,-0.49816193530627112,-0.47008474763952485,-0.44741834581203593,-0.42712597635669663,-0.40438836479215651]
[100,0.99900000000000011,null,99.9,1.1200000000000001,1.1299999999999999,1.48,1.7,2.23,2.41,2.44,2.0699999999999998,1.77,1.51,1.27,1.25,null,null,null,null,null,99,null,null,99,0.71416567315411683,0.70453321674228453,0.71972832359941719,0.7701773245258674,0.80611307684961819,0.81904122180506089,0.79848100469433891,0.76606229067691589,0.74167081167860438,0.72572554767952424,0.70488186552412491,0.68559346579078595,null,99,null,null,99,-0.37416567315411681,-0.3645332167422845,-0.37972832359941716,-0.43017732452586738,-0.46611307684961817,-0.47904122180506087,-0.45848100469433889,-0.42606229067691587,-0.40167081167860436,-0.38572554767952422,-0.36488186552412488,-0.34559346579078593]
[]
["Sc 2A","c:\\_Projects\\_Software\\VB code\\24_EWR site flows_scenario comparitor\\scen 2A\\","EWR 1.pd","EWR 1b.pd"]
["Array Parameter",null,null,null,"Oct","Nov","Dec","Jan","Feb","Mar","Apr","May","Jun","Jul","Aug","Sep","Annual",null,null,null,null,{"$f":"A42","v":"Sc 2A"},null,null,null,null,null,null,null,null,null,null,null,null,null,null,null,null,{"$f":"V43","v":"Sc 2A"},null,null,null,null,null,null,null,null,null,null,null,null,null,null,null,{"$f":"AM43","v":"Sc 2A"}]
[1E-3,null,null,0.1,27.779999999999998,9.35,35.700000000000003,43.36,84.17,100.74,65.44,14.17,6.1,14.209999999999999,9.09,10.809999999999999,null,null,null,null,null,"Flow converted to max depth",null,null,{"$f":"D43","v":0},"Oct","Nov","Dec","Jan","Feb","Mar","Apr","May","Jun","Jul","Aug","Sep",null,"Vegetation components",null,null,null,{"$f":"Z44","v":"Oct"},"Nov","Dec","Jan","Feb","Mar","Apr","May","Jun","Jul","Aug","Sep",{"$f":"AM44","v":"Vegetation components"},null,null,{"$f":"AP44","v":0},{"$f":"AQ44","v":"Oct"},"Nov","Dec","Jan","Feb","Mar","Apr","May","Jun","Jul","Aug","Sep"]
[0.01,null,null,1,9.0200000000000014,7.88,33.059999999999995,36.32,74.320000000000007,68.509999999999991,40.459999999999994,11.010000000000002,5.53,7.07,2.92,8.9,null,null,null,null,null,{"$f":"A44","v":1E-3},null,null,{"$f":"D44","v":0.1},{"$f":"IF(E44<$T$10,$T$4*E44^$T$5+$T$6,$T$7*E44^$T$8+$T$9)","v":1.2908574654368596},{"$f":"IF(F44<$T$10,$T$4*F44^$T$5+$T$6,$T$7*F44^$T$8+$T$9)","v":1.0325939151203976},1.3589709263084855,1.4142183964832882,1.6202067357376539,1.6810072260174425,1.5387251627722138,1.124459972882319,0.94603193590627011,1.1251099547395429,1.0266414090839242,1.0637692900869071,null,{"$f":"V45","v":1E-3},null,null,{"$f":"Y45","v":0.1},{"$f":"$AR$2-Z45","v":-0.95085746543685956},{"$f":"$AR$2-AA45","v":-0.69259391512039747},{"$f":"$AR$2-AB45","v":-1.0189709263084854},{"$f":"$AR$2-AC45","v":-1.0742183964832881},{"$f":"$AR$2-AD45","v":-1.2802067357376539},{"$f":"$AR$2-AE45","v":-1.3410072260174424},{"$f":"$AR$2-AF45","v":-1.1987251627722137},{"$f":"$AR$2-AG45","v":-0.78445997288231895},{"$f":"$AR$2-AH45","v":-0.60603193590627003},{"$f":"$AR$2-AI45","v":-0.78510995473954281},{"$f":"$AR$2-AJ45","v":-0.68664140908392413},{"$f":"$AR$2-AK45","v":-0.72376929008690705},{"$f":"AM45","v":1E-3},null,null,0.1,{"$f":"AQ45-AQ5","v":-7.7600157582517371E-2},{"$f":"AR45-AR5","v":-4.6441813384404895E-2},{"$f":"AS45-AS5","v":6.8832574034872085E-2},{"$f":"AT45-AT5","v":0},{"$f":"AU45-AU5","v":0},{"$f":"AV45-AV5","v":0},{"$f":"AW45-AW5","v":0},{"$f":"AX45-AX5","v":0},{"$f":"AY45-AY5","v":0},{"$f":"AZ45-AZ5","v":0.12036701893214907},{"$f":"BA45-BA5","v":-1.9206814736554723E-2},{"$f":"BB45-BB5","v":-3.2992747414338774E-2}]
[0.05,null,null,5,3.3695000000000004,6.5884999999999998,13.729000000000001,26.4315,42.428500000000007,44.722500000000004,21.018000000000001,9.0444999999999993,4.1935000000000002,3.7985000000000002,2.5430000000000001,2.2229999999999999,null,null,null,null,null,0.01,null,null,1,{"$f":"IF(E45<$T$10,$T$4*E45^$T$5+$T$6,$T$7*E45^$T$8+$T$9)","v":1.0250157094643144},0.9970135389610022,1.3377355403725859,1.3637761101225443,1.5793916948837041,1.5532549439026873,1.3942912000177554,1.0677745899841982,0.92719660593072328,0.97508878428546597,0.81342340766308396,1.022205310009106,null,0.01,null,null,1,-0.68501570946431434,-0.65701353896100212,-0.99773554037258583,-1.0237761101225442,-1.239391694883704,-1.2132549439026872,-1.0542912000177553,-0.72777458998419808,-0.5871966059307232,-0.635088784285466,-0.47342340766308394,-0.68220531000910589,0.01,null,null,1,{"$f":"AQ46-AQ6","v":6.380840471762772E-2},-3.4387428156447353E-2,2.1157341099915961E-2,0,0,0,0,1.7835367377077027E-3,-9.1085076886523453E-3,-2.6212124025771777E-2,0.16166537662238206,6.7413484227818454E-3]
[0.1,null,null,10,2.137,2.923,7.7589999999999995,17.507999999999999,29.015000000000001,34.928999999999995,14.083,7.2730000000000006,3.6669999999999998,3.645,1.8260000000000001,1.865,null,null,null,null,null,0.05,null,null,5,0.83765290836332318,0.96109080901854549,1.1171954461993883,1.2777566573126575,1.4079362969577611,1.4232166838655909,1.2191142726495316,1.0255858416207406,0.87607521515724729,0.85848689131239841,0.7906953506342127,0.76919379314496494,null,0.05,null,null,5,-0.49765290836332315,-0.62109080901854541,-0.77719544619938818,-0.93775665731265745,-1.067936296957761,-1.0832166838655908,-0.87911427264953157,-0.68558584162074054,-0.53607521515724721,-0.51848689131239833,-0.45069535063421268,-0.42919379314496492,0.05,null,null,5,3.3289307490507458E-2,-4.6130343449245936E-2,-4.8022774200234153E-2,-2.9278673940830391E-2,1.311463708765026E-2,3.7902604480648527E-3,0,-1.5228072302747586E-2,-1.9280418238443175E-4,2.7781400551218915E-4,2.0835009740338917E-2,0.21017019149910038]
[0.15,null,null,15,1.7415000000000003,2.4569999999999999,6.9175000000000004,16.155000000000001,22.3355,25.429500000000001,13.025499999999999,6.96,3.427,3.3035000000000001,1.65,1.4904999999999999,null,null,null,null,null,0.1,null,null,10,0.76299748831576375,0.81359465808147591,0.99385576307631507,1.1742935394510425,1.3024192577477096,1.3529020114395447,1.1230412100971201,0.98076388823144844,0.85230869266179798,0.8512579394177554,0.73878971323966536,0.7419973302841173,null,0.1,null,null,10,-0.42299748831576373,-0.47359465808147588,-0.6538557630763151,-0.83429353945104245,-0.96241925774770953,-1.0129020114395446,-0.78304121009712002,-0.64076388823144836,-0.5123086926617979,-0.51125793941775544,-0.39878971323966533,-0.40199733028411727,0.1,null,null,10,-2.8910204865926992E-2,-1.4592718367049895E-2,-1.1109275469878499E-2,4.5850637292161878E-3,5.7315589674114653E-2,4.3557406353711414E-3,0,-4.349749991208407E-3,-6.1853106821234682E-3,-5.9693657621247009E-3,2.8765862441777812E-2,0.12064339952102193]
[0.2,null,null,20,1.492,1.99,5.1720000000000006,10.392000000000001,17.7,20.268000000000001,9.234,6.4259999999999993,3.0720000000000001,3.0740000000000003,1.5399999999999998,1.2759999999999998,null,null,null,null,null,0.15,null,null,15,0.73164851325717561,0.78513843570579578,0.97073963182781509,1.1550907567344257,1.2344039292504583,1.2676735667069166,1.1052131254596382,0.97195929063191366,0.8405635872562095,0.83426286982787168,0.72359805335750982,0.70867357197702829,null,0.15,null,null,15,-0.39164851325717559,-0.44513843570579575,-0.63073963182781512,-0.81509075673442566,-0.8944039292504582,-0.92767356670691647,-0.76521312545963815,-0.63195929063191358,-0.50056358725620953,-0.49426286982787165,-0.38359805335750979,-0.36867357197702827,0.15,null,null,15,-9.5397678573370115E-3,-9.5578947900746281E-3,-4.9670460503689728E-2,-1.301892118061887E-2,1.3115315811262906E-3,8.3940413683745163E-3,1.1304014828250608E-4,-2.9934238041765537E-2,-5.9386286937833099E-3,-9.5815013587885467E-3,3.0761436884739757E-3,9.351707242606655E-2]
[0.3,null,null,30,1.2950000000000002,1.2490000000000001,3.5720000000000001,5.835,9.9830000000000005,14.169,6.2880000000000003,4.968,2.3740000000000001,2.702,1.2010000000000001,1.1400000000000001,null,null,null,null,null,0.2,null,null,20,0.70881971756688278,0.75193112466752288,0.91456205178240835,1.0552041840280617,1.1769220535551248,1.2100669930767056,1.0299546547230187,0.95618302427945268,0.82192942722247853,0.82203909645734685,0.71343585047701208,0.68645578531648521,null,0.2,null,null,20,-0.36881971756688275,-0.41193112466752285,-0.57456205178240838,-0.71520418402806163,-0.83692205355512472,-0.87006699307670554,-0.68995465472301865,-0.6161830242794526,-0.4819294272224785,-0.48203909645734683,-0.37343585047701205,-0.34645578531648519,0.2,null,null,20,1.9467919295068636E-4,-1.297559982260954E-2,-4.5246846923949313E-2,4.2652505027433341E-2,-1.5031298841483576E-3,1.5193835964750102E-2,2.3537261937451648E-2,-4.8611325689684071E-2,-1.0918336805684992E-2,-2.242597350564568E-2,-5.707066874418576E-4,7.8072797280152262E-2]
[0.4,null,null,40,1.1259999999999999,0.98799999999999999,2.6819999999999999,4.7619999999999996,5.3159999999999998,10.184000000000001,3.0679999999999996,4.242,1.9119999999999999,2.2320000000000002,1.0920000000000001,1.0660000000000001,null,null,null,null,null,0.3,null,null,30,0.68853890383718042,0.68345272769688625,0.84773483320031329,0.9374574346303236,1.0465541419660329,1.1244437046564084,0.95193709466673981,0.90704828525850889,0.77962674257965681,0.8005872640149968,0.67798408255785192,0.67077779227297529,null,0.3,null,null,30,-0.34853890383718039,-0.34345272769688623,-0.50773483320031332,-0.59745743463032364,-0.70655414196603283,-0.78444370465640834,-0.61193709466673973,-0.56704828525850881,-0.43962674257965678,-0.46058726401499678,-0.33798408255785189,-0.33077779227297527,0.3,null,null,30,-5.3106710556302117E-3,-2.1713489322235047E-2,-2.9959581126686785E-2,1.9395762198661126E-2,1.3314246401046725E-2,-1.7764541352858432E-2,1.9161877310344355E-2,-3.4839034672998537E-2,7.2727359970444772E-3,-3.5189081353291574E-2,-9.1471058859842191E-3,3.8916354173254009E-2]
[0.5,null,null,50,1.0550000000000002,0.84499999999999997,2.16,3.21,3.45,7.1899999999999995,2.2450000000000001,3.6399999999999997,1.48,2.0099999999999998,0.98,0.99,null,null,null,null,null,0.4,null,null,40,0.66908077507925412,0.65138590208558023,0.79936886709024169,0.89920767784322209,0.91972523069896095,1.0508396506079418,0.8217099183550467,0.87814284566899492,0.74579282061375107,0.7698311679494011,0.66488850113211417,0.66161205270483769,null,0.4,null,null,40,-0.3290807750792541,-0.3113859020855802,-0.45936886709024166,-0.55920767784322201,-0.57972523069896087,-0.71083965060794174,-0.48170991835504667,-0.53814284566899495,-0.40579282061375105,-0.42983116794940107,-0.32488850113211415,-0.32161205270483767,0.4,null,null,40,-2.9486046318342174E-3,-5.7749869729218917E-3,-4.6973536984146524E-2,-3.0599718040992263E-2,1.8291460519425096E-2,-1.0745158512120323E-2,8.2248890300686994E-2,-2.5691257051225991E-2,-4.0403270161062377E-3,-2.3240383580751311E-2,-1.0555140648540906E-2,9.8879641250416705E-3]
[0.6,null,null,60,0.874,0.746,1.786,2.1059999999999999,2.3679999999999999,6.1259999999999994,1.6839999999999999,2.95,1.008,1.69,0.89999999999999991,0.92800000000000005,null,null,null,null,null,0.5,null,null,50,0.66020671233874373,0.63083939507138487,0.76467378246060813,0.82936692715521387,0.84171699445040804,0.97845893580536036,0.77074822292615408,0.85101842897985969,0.70764726570984371,0.75347417742062739,0.65030115714565162,0.65165599680396213,null,0.5,null,null,50,-0.3202067123387437,-0.29083939507138484,-0.42467378246060811,-0.48936692715521385,-0.50171699445040807,-0.63845893580536028,-0.43074822292615406,-0.51101842897985961,-0.36764726570984368,-0.41347417742062736,-0.3103011571456516,-0.31165599680396211,0.5,null,null,50,-8.5507155347815944E-3,-1.1084407807032792E-2,-4.5625956189033756E-2,-6.7256618403431778E-3,8.3407693377155478E-3,-1.819898847942536E-3,4.6915124966924848E-2,-2.7558769186150911E-2,5.7885847671683699E-3,-3.1229547458208384E-2,-5.5317971061457083E-3,6.6154474190595058E-3]
[0.7,null,null,70,0.76300000000000001,0.64300000000000002,1.2430000000000001,1.5310000000000001,1.722,4.6360000000000001,1.2980000000000003,2.2950000000000004,0.78,1.2,0.82,0.83300000000000007,null,null,null,null,null,0.6,null,null,60,0.63521833478002543,0.6149285272054732,0.73544276424767718,0.76071529180906627,0.77922240149415978,0.94685715375495771,0.72662997449035649,0.81512965721790287,0.65406753068494239,0.72715995772163999,0.63904714025052545,0.64307335638223628,null,0.6,null,null,60,-0.2952183347800254,-0.27492852720547317,-0.39544276424767716,-0.42071529180906625,-0.43922240149415975,-0.60685715375495763,-0.38662997449035647,-0.47512965721790285,-0.31406753068494236,-0.38715995772163997,-0.29904714025052542,-0.30307335638223626,0.6,null,null,60,-2.0993102628853455E-3,-1.2662369628716585E-2,-5.0760397820760139E-2,-7.4188897237292828E-4,2.6878846718803362E-2,-5.6567849920480029E-2,2.4835830708173079E-2,-2.7711311405866912E-2,-9.5796379857238101E-3,-4.8367664558284784E-2,-7.4443192988919993E-3,5.0370178676855115E-3]
[0.8,null,null,80,0.63600000000000001,0.52,0.84000000000000008,0.93199999999999994,1.3939999999999999,3.516,0.91799999999999993,1.3859999999999999,0.67400000000000004,0.98199999999999998,0.77200000000000002,0.70200000000000007,null,null,null,null,null,0.7,null,null,70,0.61777554364408294,0.59648074768614046,0.68277838284265313,0.71257912470529194,0.72996153611991599,0.89427807618871302,0.68886559266380221,0.77423648430142944,0.62057256922110193,0.67786831839392392,0.62696748851354167,0.62899241243691428,null,0.7,null,null,70,-0.27777554364408291,-0.25648074768614043,-0.34277838284265311,-0.37257912470529192,-0.38996153611991596,-0.55427807618871294,-0.34886559266380218,-0.43423648430142942,-0.28057256922110191,-0.33786831839392389,-0.28696748851354165,-0.28899241243691426,0.7,null,null,70,-7.3027090708699394E-3,-8.403756684695729E-3,-3.9137764623117688E-2,7.2042651200132646E-3,7.9969467270823991E-3,-5.0223000364248982E-2,3.7675905390479825E-2,-5.8629168551466049E-2,-1.1457891889237182E-3,-2.6212321589961785E-2,-3.1656813103517756E-3,1.0054727813611164E-2]
[0.85,null,null,85,0.58299999999999996,0.40649999999999997,0.74649999999999994,0.71649999999999991,1.0114999999999994,2.9544999999999995,0.77649999999999997,1.1524999999999999,0.61649999999999994,0.80599999999999994,0.75,0.59799999999999964,null,null,null,null,null,0.8,null,null,80,0.59514376759560439,0.57107594451093602,0.63007236943778644,0.64364061821953544,0.69901589269498121,0.84499317055419809,0.64164664961519269,0.69819163859040734,0.60226615757675661,0.65057300147899111,0.61926242319034619,0.60731259675140337,null,0.8,null,null,80,-0.25514376759560436,-0.23107594451093599,-0.29007236943778641,-0.30364061821953542,-0.35901589269498119,-0.50499317055419812,-0.30164664961519266,-0.35819163859040731,-0.26226615757675659,-0.31057300147899108,-0.27926242319034617,-0.26731259675140334,0.8,null,null,80,-1.0316228639582037E-2,0,-1.4133177980071299E-2,1.7206322209349589E-2,-8.242541045737628E-4,-4.3073923069420872E-2,2.9853367214686677E-2,-2.7655259375234276E-2,-4.4599514075380764E-3,-2.837768884169789E-2,-3.6594052291315515E-3,4.8888725750384499E-3]
[0.9,null,null,90,0.48800000000000043,0.38100000000000006,0.63,0.61700000000000033,0.7420000000000001,1.8610000000000011,0.64300000000000013,1.08,0.59099999999999997,0.64100000000000001,0.68400000000000016,0.42100000000000004,null,null,null,null,null,0.85,null,null,85,0.58462210859273256,0.54296344787867357,0.61501299555428446,0.60986330248956444,0.65453245833667761,0.81538440351310326,0.62000070108191807,0.67227904235479174,0.5913566199175605,0.6247580559432242,0.61560301796121464,0.58767460487178702,null,0.85,null,null,85,-0.24462210859273253,-0.20296344787867354,-0.27501299555428443,-0.26986330248956442,-0.31453245833667759,-0.47538440351310324,-0.28000070108191805,-0.33227904235479172,-0.25135661991756048,-0.28475805594322418,-0.27560301796121461,-0.247674604871787,0.85,null,null,85,-1.1422739132690984E-2,1.1434669202550762E-2,-2.0445802857309237E-2,2.7941900165937117E-2,6.1866288336303032E-3,-6.2873195409926086E-2,2.6782493000362395E-3,-1.2008198790316782E-2,-1.2835460139485333E-3,-2.021882068686609E-2,-4.0044172714821524E-3,9.3755941734514625E-3]
[0.95,null,null,95,0.38650000000000012,0.31550000000000006,0.51200000000000012,0.49300000000000016,0.62650000000000006,1.2150000000000003,0.6110000000000001,0.78500000000000025,0.47650000000000009,0.59100000000000008,0.47950000000000031,0.35550000000000004,null,null,null,null,null,0.9,null,null,90,0.56368859093876666,0.53580011352293622,0.59398844128617867,0.59145490786888544,0.61425115511855355,0.74167081167860449,0.59648074768614046,0.66338408933548199,0.58625777424998238,0.59609993891641389,0.60408726755051056,0.54687870283649787,null,0.9,null,null,90,-0.22368859093876664,-0.19580011352293619,-0.25398844128617865,-0.25145490786888541,-0.27425115511855352,-0.40167081167860447,-0.25648074768614043,-0.32338408933548196,-0.24625777424998235,-0.25609993891641386,-0.26408726755051054,-0.20687870283649784,0.9,null,null,90,-6.2913864549589693E-3,8.118438349130952E-3,-3.9153673825667035E-3,2.1603828612788867E-2,3.0256635459348091E-3,-9.2058724556092209E-3,5.6021199176291558E-3,-1.8474174125701071E-2,1.8192167514623492E-3,-6.0268650128019186E-3,1.0825292913618778E-3,2.6381570232661966E-3]
[0.99,null,null,99,0.3,0.28730000000000006,0.37910000000000005,0.37,0.36910000000000004,0.95640000000000014,0.4755000000000002,0.56830000000000036,0.42730000000000007,0.42730000000000007,0.36,0.30910000000000004,null,null,null,null,null,0.95,null,null,95,0.53737669553594869,0.51547552641131544,0.56926374201703722,0.56486777531325427,0.59331045555661899,0.67959678904785814,0.59027124805416842,0.62138599521335347,0.56093956941596645,0.58625777424998238,0.56166174722009421,0.52824488481298471,null,0.95,null,null,95,-0.19737669553594867,-0.17547552641131542,-0.2292637420170372,-0.22486777531325425,-0.25331045555661896,-0.33959678904785812,-0.25027124805416839,-0.28138599521335345,-0.22093956941596643,-0.24625777424998235,-0.22166174722009419,-0.18824488481298468,0.95,null,null,95,-2.853187472072749E-4,1.108358294435563E-2,7.44443077071133E-3,3.3666889953799517E-3,-1.9778582482859242E-2,-6.9593740468272269E-3,-2.6974068565350784E-3,-7.4746153526850101E-3,1.5768603371782097E-2,-5.0663951925302708E-3,5.3048109121318632E-3,1.3639166346619547E-3]
[0.99900000000000011,null,null,99.9,0.3,0.26,0.37,0.37,0.36,0.92,0.43,0.45,0.4,0.4,0.36,0.3,null,null,null,null,null,0.99,null,null,99,0.51017954071773186,0.50567558388956024,0.53525127080938473,0.53259187251203877,0.53232603913667753,0.64705961142466317,0.56069804022374881,0.5815694713190851,0.54854646957912823,0.54854646957912823,0.52960880144764666,0.51331443501621232,null,0.99,null,null,99,-0.17017954071773184,-0.16567558388956022,-0.1952512708093847,-0.19259187251203874,-0.19232603913667751,-0.30705961142466315,-0.22069804022374878,-0.24156947131908507,-0.2085464695791282,-0.2085464695791282,-0.18960880144764664,-0.1733144350162123,0.99,null,null,99,7.7188411665217727E-3,2.925715915962912E-3,2.4111093315167254E-2,1.0344190768177053E-2,8.1231793175283729E-3,-6.8756229310257044E-2,-1.1678658021276767E-2,9.413075447883168E-3,7.907793133349883E-3,-1.3817175954095706E-2,4.858760839006937E-3,-3.4490295483468048E-3]
[]
["Sc 2B","c:\\_Projects\\_Software\\VB code\\24_EWR site flows_scenario comparitor\\scen 2B\\","EWR 1.pd","EWR 1b.pd"]
[null,"Array Parameter",null,null,"Oct","Nov","Dec","Jan","Feb","Mar","Apr","May","Jun","Jul","Aug","Sep","Annual",null,null,null,null,{"$f":"A62","v":"Sc 2B"},null,null,null,null,null,null,null,null,null,null,null,null,null,null,null,null,{"$f":"V63","v":"Sc 2B"}]
[0.1,1E-3,null,0.1,36.04,8.67,35.69,43.36,84.17,100.74,65.44,14.17,6.1,5.0599999999999996,5.76,11.16,null,null,null,null,null,"Flow converted to max depth",null,null,{"$f":"D63","v":0},"Oct","Nov","Dec","Jan","Feb","Mar","Apr","May","Jun","Jul","Aug","Sep",null,"Vegetation components",null,null,null,{"$f":"Z64","v":"Oct"},"Nov","Dec","Jan","Feb","Mar","Apr","May","Jun","Jul","Aug","Sep"]
[1,0.01,null,1,33.71,8.17,22.31,36.32,74.320000000000007,68.509999999999991,40.459999999999994,11.440000000000001,5.27,4.49,5.33,10.14,null,null,null,null,null,{"$f":"A64","v":0.1},null,null,{"$f":"D64","v":0.1},{"$f":"IF(E64<$T$10,$T$4*E64^$T$5+$T$6,$T$7*E64^$T$8+$T$9)","v":1.3616141677518865},{"$f":"IF(F64<$T$10,$T$4*F64^$T$5+$T$6,$T$7*F64^$T$8+$T$9)","v":1.0167334134874171},1.3588928814725019,1.4142183964832882,1.6202067357376539,1.6810072260174425,1.5387251627722138,1.124459972882319,0.94603193590627011,0.91046663914925818,0.93497455179948052,1.0707407744110053,null,{"$f":"V65","v":0.1},null,null,{"$f":"Y65","v":0.1},{"$f":"$AR$2-Z65","v":-1.0216141677518864},{"$f":"$AR$2-AA65","v":-0.676733413487417},{"$f":"$AR$2-AB65","v":-1.0188928814725018},{"$f":"$AR$2-AC65","v":-1.0742183964832881},{"$f":"$AR$2-AD65","v":-1.2802067357376539},{"$f":"$AR$2-AE65","v":-1.3410072260174424},{"$f":"$AR$2-AF65","v":-1.1987251627722137},{"$f":"$AR$2-AG65","v":-0.78445997288231895},{"$f":"$AR$2-AH65","v":-0.60603193590627003},{"$f":"$AR$2-AI65","v":-0.5704666391492581},{"$f":"$AR$2-AJ65","v":-0.59497455179948044},{"$f":"$AR$2-AK65","v":-0.73074077441100527}]
[5,0.05,null,5,4.8425000000000011,6.2254999999999994,9.7510000000000012,26.4315,42.428500000000007,46.438499999999998,21.018000000000001,9.0775000000000006,3.9984999999999999,3.7450000000000001,2.887,3.2315000000000005,null,null,null,null,null,1,null,null,1,{"$f":"IF(E65<$T$10,$T$4*E65^$T$5+$T$6,$T$7*E65^$T$8+$T$9)","v":1.3430857012412154},1.0044277502596592,1.2341148926513437,1.3637761101225443,1.5793916948837041,1.5532549439026873,1.3942912000177554,1.0761938757304255,0.91808809824207094,0.88843095338646516,0.92022125261547605,1.0499073161265589,null,1,null,null,1,-1.0030857012412153,-0.66442775025965917,-0.89411489265134358,-1.0237761101225442,-1.239391694883704,-1.2132549439026872,-1.0542912000177553,-0.73619387573042538,-0.57808809824207086,-0.54843095338646508,-0.58022125261547597,-0.70990731612655877]
[11,0.1,null,10,2.1669999999999998,2.923,7.21,17.507000000000001,32.773000000000003,34.722999999999999,14.083,7.5679999999999996,3.44,3.5669999999999997,1.93,1.8169999999999999,null,null,null,null,null,5,null,null,5,0.90230311214388348,0.94998970734342181,1.0415215452805724,1.2777566573126575,1.4079362969577611,1.4342445518547742,1.2191142726495316,1.0263518372667211,0.86756512746300252,0.85599416604892631,0.81153036037455162,0.83050267213460072,null,5,null,null,5,-0.56230311214388351,-0.60998970734342173,-0.70152154528057231,-0.93775665731265745,-1.067936296957761,-1.0942445518547741,-0.87911427264953157,-0.686351837266721,-0.52756512746300244,-0.51599416604892623,-0.47153036037455159,-0.49050267213460069]
[16,0.15,null,15,1.9570000000000001,2.3984999999999999,5.516,16.102999999999998,22.448,25.325500000000002,13.025499999999999,6.96,3.2675000000000001,3.4474999999999998,1.6910000000000001,1.3565,null,null,null,null,null,11,null,null,10,0.7651811417513209,0.81359465808147591,0.97901627284002035,1.1742797894144141,1.3353465904290054,1.3512624722286064,1.1230412100971201,0.98879056005221455,0.8412162665105456,0.847491436758391,0.7472267823394948,0.73804176940329658,null,11,null,null,10,-0.42518114175132088,-0.47359465808147588,-0.63901627284002038,-0.83427978941441405,-0.99534659042900531,-1.0112624722286063,-0.78304121009712002,-0.64879056005221458,-0.50121626651054552,-0.50749143675839092,-0.40722678233949477,-0.39804176940329655]
[21,0.2,null,20,1.6059999999999999,1.9019999999999999,4.242,10.392000000000001,17.692,21.632000000000005,9.234,5.9200000000000008,2.8679999999999999,3.0740000000000003,1.5740000000000001,1.256,null,null,null,null,null,16,null,null,15,0.74935791790644235,0.78126941768475577,0.92671491764519409,1.1543275841898715,1.2356759676667748,1.266609021790595,1.1052131254596382,0.97195929063191366,0.83239100504495112,0.84159192074903366,0.72724814277604133,0.69511912876107429,null,16,null,null,15,-0.40935791790644233,-0.44126941768475575,-0.58671491764519401,-0.81432758418987139,-0.89567596766677471,-0.9266090217905949,-0.76521312545963815,-0.63195929063191358,-0.49239100504495109,-0.50159192074903358,-0.3872481427760413,-0.35511912876107427]
[31,0.3,null,30,1.387,1.373,3.004,5.4760000000000009,9.6189999999999998,14.268000000000001,6.3329999999999993,4.6470000000000002,2.0820000000000003,2.6480000000000001,1.3270000000000002,1.1340000000000001,null,null,null,null,null,21,null,null,20,0.71959977216214766,0.7449915320370103,0.87814284566899492,1.0552041840280617,1.1768129858130492,1.2263318265522027,1.0299546547230187,0.94024088333285416,0.81043260750771307,0.82203909645734685,0.71663687371244666,0.68423621613133323,null,21,null,null,20,-0.37959977216214763,-0.40499153203701027,-0.53814284566899495,-0.71520418402806163,-0.83681298581304908,-0.88633182655220266,-0.68995465472301865,-0.60024088333285408,-0.47043260750771304,-0.48203909645734683,-0.37663687371244664,-0.34423621613133321]
[41,0.4,null,40,1.2,1.006,2.504,4.266,5.0339999999999998,10.768000000000001,3.286,4.1019999999999994,1.8419999999999999,2.16,1.1000000000000001,1.05,null,null,null,null,null,31,null,null,30,0.69829487686936798,0.69684412258423067,0.81816644976770181,0.92533328923214875,1.0386155388665024,1.1260498495891451,0.95332970678889573,0.89471265293146751,0.75893001642128877,0.79728091332356099,0.69199303056092032,0.67005253942585552,null,31,null,null,30,-0.35829487686936795,-0.35684412258423065,-0.47816644976770178,-0.58533328923214878,-0.69861553886650229,-0.78604984958914503,-0.61332970678889565,-0.55471265293146743,-0.41893001642128874,-0.45728091332356097,-0.35199303056092029,-0.3300525394258555]
[51,0.5,null,50,1.1100000000000001,0.83000000000000007,2.1550000000000002,3.21,3.4699999999999998,8.5300000000000011,2.4900000000000002,3.2850000000000001,1.4550000000000001,1.9,0.96499999999999997,0.995,null,null,null,null,null,41,null,null,40,0.67786831839392392,0.653801281240182,0.78819416925633101,0.87915905950804696,0.90950562540626922,1.0629207024982341,0.833354972038718,0.87212209778677796,0.74011218535005563,0.76467378246060813,0.66588415644292909,0.65956406745204854,null,41,null,null,40,-0.33786831839392389,-0.31380128124018197,-0.44819416925633099,-0.53915905950804688,-0.56950562540626914,-0.72292070249823404,-0.49335497203871798,-0.53212209778677799,-0.4001121853500556,-0.42467378246060811,-0.32588415644292906,-0.31956406745204852]
[61,0.6,null,60,0.94,0.78400000000000003,1.5699999999999998,1.984,2.3679999999999999,6.4580000000000002,1.8740000000000001,2.9140000000000001,0.95199999999999996,1.6739999999999999,0.88200000000000001,0.92800000000000005,null,null,null,null,null,51,null,null,50,0.6671206622097724,0.62852736405073439,0.76431058207923941,0.82936692715521387,0.8427149987268997,1.0133459419663178,0.78728875329018588,0.8333029761656533,0.70518017596459004,0.74483087258412517,0.64824814175566936,0.65232934072284066,null,51,null,null,50,-0.32712066220977237,-0.28852736405073437,-0.42431058207923938,-0.48936692715521385,-0.50271499872689973,-0.6733459419663177,-0.44728875329018586,-0.49330297616565327,-0.36518017596459001,-0.40483087258412515,-0.30824814175566934,-0.31232934072284063]
[71,0.7,null,70,0.81200000000000017,0.65600000000000003,1.2430000000000001,1.516,1.7120000000000004,4.8239999999999998,1.3820000000000001,2.5170000000000003,0.78,1.1860000000000002,0.79300000000000004,0.81600000000000006,null,null,null,null,null,61,null,null,60,0.64476936003950591,0.62122364020487453,0.71626315277445685,0.75146580519852957,0.77922240149415978,0.95715721992727831,0.74272996653199119,0.81308048677417888,0.64644823746731273,0.72574332359917004,0.6364059644342055,0.64307335638223628,null,61,null,null,60,-0.30476936003950589,-0.2812236402048745,-0.37626315277445682,-0.41146580519852954,-0.43922240149415975,-0.61715721992727834,-0.40272996653199117,-0.47308048677417885,-0.3064482374673127,-0.38574332359917002,-0.29640596443420547,-0.30307335638223626]
[81,0.8,null,80,0.67400000000000004,0.52,0.872,0.95,1.3919999999999999,3.6199999999999997,0.89200000000000002,1.6480000000000001,0.65400000000000003,0.96399999999999997,0.75,0.64400000000000002,null,null,null,null,null,71,null,null,70,0.62570866213432763,0.59893331147380169,0.68277838284265313,0.71114230905413467,0.72909052132164209,0.90159537997267902,0.69777809236832866,0.78903131622237543,0.62057256922110193,0.67623951194001219,0.62267895038195431,0.6263393017593587,null,71,null,null,70,-0.28570866213432761,-0.25893331147380166,-0.34277838284265311,-0.37114230905413464,-0.38909052132164207,-0.56159537997267894,-0.35777809236832864,-0.44903131622237541,-0.28057256922110191,-0.33623951194001217,-0.28267895038195429,-0.28633930175935868]
[85,0.85,null,85,0.58649999999999991,0.40649999999999997,0.75949999999999995,0.74249999999999983,1.0324999999999998,2.7949999999999999,0.75949999999999995,1.28,0.60650000000000004,0.78,0.69299999999999984,0.4624999999999998,null,null,null,null,null,81,null,null,80,0.60226615757675661,0.57107594451093602,0.63492007763954184,0.64616959735196122,0.69881018243471016,0.8500577637881237,0.63787851781369054,0.72341816350954569,0.59855852367392137,0.64811037424992179,0.61560301796121464,0.59667079905695408,null,81,null,null,80,-0.26226615757675659,-0.23107594451093599,-0.29492007763954181,-0.3061695973519612,-0.35881018243471013,-0.51005776378812362,-0.29787851781369051,-0.38341816350954566,-0.25855852367392135,-0.30811037424992177,-0.27560301796121461,-0.25667079905695406]
[91,0.9,null,90,0.47100000000000003,0.38,0.63100000000000001,0.59099999999999997,0.76500000000000024,1.6780000000000004,0.66999999999999993,1.1020000000000001,0.59,0.64100000000000001,0.48400000000000026,0.37100000000000005,null,null,null,null,null,85,null,null,85,0.58533989408890275,0.54296344787867357,0.6171935457347576,0.61433598515320476,0.65729547674433741,0.80616038466637507,0.6171935457347576,0.68689637594752428,0.58937742411385652,0.62057256922110193,0.60570825752327306,0.55752081628240413,null,85,null,null,85,-0.24533989408890272,-0.20296344787867354,-0.27719354573475757,-0.27433598515320473,-0.31729547674433739,-0.46616038466637505,-0.27719354573475757,-0.34689637594752426,-0.24937742411385649,-0.28057256922110191,-0.26570825752327304,-0.21752081628240411]
[96,0.95,null,95,0.36,0.31,0.48550000000000004,0.49300000000000016,0.62650000000000006,1.2150000000000003,0.60650000000000015,0.8905000000000004,0.43550000000000005,0.59100000000000008,0.4,0.34,null,null,null,null,null,91,null,null,90,0.55960613524579939,0.53551152087359533,0.59418160140328069,0.58625777424998238,0.61810716156708423,0.72609848792697496,0.60153169549968954,0.6661321704474199,0.5860542822714826,0.59609993891641389,0.56273830796328395,0.53288664069319125,null,91,null,null,90,-0.21960613524579936,-0.1955115208735953,-0.25418160140328067,-0.24625777424998235,-0.2781071615670842,-0.38609848792697493,-0.26153169549968952,-0.32613217044741988,-0.24605428227148257,-0.25609993891641386,-0.22273830796328392,-0.19288664069319122]
[99,0.99,null,99,0.29820000000000008,0.28730000000000006,0.36010000000000036,0.36640000000000011,0.36910000000000004,0.93920000000000037,0.52190000000000036,0.65020000000000078,0.39460000000000023,0.43910000000000005,0.35640000000000011,0.30910000000000004,null,null,null,null,null,96,null,null,95,0.52960880144764666,0.51362047542783784,0.56309539319044755,0.56486777531325427,0.59331045555661899,0.67959678904785814,0.58937742411385663,0.63765847421551769,0.55068817883186372,0.58625777424998238,0.54117220086414264,0.5234393394891218,null,96,null,null,95,-0.18960880144764664,-0.17362047542783782,-0.22309539319044752,-0.22486777531325425,-0.25331045555661896,-0.33959678904785812,-0.24937742411385661,-0.29765847421551767,-0.21068817883186369,-0.24625777424998235,-0.20117220086414261,-0.18343933948912178]
[100,0.99900000000000011,null,99.9,0.28000000000000003,0.26,0.26,0.33,0.36,0.83,0.44,0.45,0.34,0.43,0.32,0.3,null,null,null,null,null,99,null,null,99,0.5095505178499008,0.50567558388956024,0.52963895639719483,0.53152543502397509,0.53232603913667753,0.6446568302888398,0.5715030824354812,0.59784390933419784,0.53966640425986523,0.55161832587254778,0.52851876175117596,0.51331443501621232,null,99,null,null,99,-0.16955051784990077,-0.16567558388956022,-0.1896389563971948,-0.19152543502397507,-0.19232603913667751,-0.30465683028883978,-0.23150308243548118,-0.25784390933419782,-0.1996664042598652,-0.21161832587254775,-0.18851876175117593,-0.1733144350162123]
[]
["Sc 3","c:\\_Projects\\_Software\\VB code\\24_EWR site flows_scenario comparitor\\scen 3\\","EWR 1.pd"]
[null,"Array Parameter",null,null,"Oct","Nov","Dec","Jan","Feb","Mar","Apr","May","Jun","Jul","Aug","Sep","Annual",null,null,null,null,{"$f":"A82","v":"Sc 3"},null,null,null,null,null,null,null,null,null,null,null,null,null,null,null,null,{"$f":"V83","v":"Sc 3"}]
[0.1,1E-3,null,0.1,39.9,8.67,35.69,43.36,84.17,100.74,65.44,14.17,6.1,23.8,2.92,5.93,null,null,null,null,null,"Flow converted to max depth",null,null,{"$f":"D83","v":0},"Oct","Nov","Dec","Jan","Feb","Mar","Apr","May","Jun","Jul","Aug","Sep",null,"Vegetation components",null,null,null,{"$f":"Z84","v":"Oct"},"Nov","Dec","Jan","Feb","Mar","Apr","May","Jun","Jul","Aug","Sep"]
[1,0.01,null,1,9.33,7.47,33,36.32,74.319999999999993,68.510000000000005,40.46,10.33,5.27,6.97,2.86,4.8499999999999996,null,null,null,null,null,{"$f":"A84","v":0.1},null,null,{"$f":"D84","v":0.1},{"$f":"IF(E84<$T$10,$T$4*E84^$T$5+$T$6,$T$7*E84^$T$8+$T$9)","v":1.3903131321400801},{"$f":"IF(F84<$T$10,$T$4*F84^$T$5+$T$6,$T$7*F84^$T$8+$T$9)","v":1.0167334134874171},1.3588928814725019,1.4142183964832882,1.6202067357376539,1.6810072260174425,1.5387251627722138,1.124459972882319,0.94603193590627011,1.2505799382634561,0.81342340766308396,0.94056625510589953,null,{"$f":"V85","v":0.1},null,null,{"$f":"Y85","v":0.1},{"$f":"$AR$2-Z85","v":-1.05031313214008},{"$f":"$AR$2-AA85","v":-0.676733413487417},{"$f":"$AR$2-AB85","v":-1.0188928814725018},{"$f":"$AR$2-AC85","v":-1.0742183964832881},{"$f":"$AR$2-AD85","v":-1.2802067357376539},{"$f":"$AR$2-AE85","v":-1.3410072260174424},{"$f":"$AR$2-AF85","v":-1.1987251627722137},{"$f":"$AR$2-AG85","v":-0.78445997288231895},{"$f":"$AR$2-AH85","v":-0.60603193590627003},{"$f":"$AR$2-AI85","v":-0.91057993826345607},{"$f":"$AR$2-AJ85","v":-0.47342340766308394},{"$f":"$AR$2-AK85","v":-0.60056625510589945}]
[5,0.05,null,5,4.0045000000000002,5.1829999999999998,10.0855,26.571000000000002,44.391500000000001,42.952500000000001,21.018000000000001,8.1694999999999993,3.9984999999999999,4.6140000000000008,2.2925,3.6070000000000002,null,null,null,null,null,1,null,null,1,{"$f":"IF(E85<$T$10,$T$4*E85^$T$5+$T$6,$T$7*E85^$T$8+$T$9)","v":1.03214073443721},0.98615210173599266,1.3372374753292855,1.3637761101225443,1.5793916948837039,1.5532549439026873,1.3942912000177554,1.0539105383976974,0.91808809824207094,0.97224540838416529,0.80996866551346669,0.90258941833900297,null,1,null,null,1,-0.69214073443720991,-0.64615210173599258,-0.99723747532928542,-1.0237761101225442,-1.2393916948837038,-1.2132549439026872,-1.0542912000177553,-0.71391053839769736,-0.57808809824207086,-0.63224540838416532,-0.46996866551346667,-0.562589418339003]
[11,0.1,null,10,2.1100000000000003,2.6760000000000002,6.766,17.440999999999999,36.637999999999998,34.385000000000005,14.083,7.117,3.5389999999999997,3.5869999999999997,1.784,1.96,null,null,null,null,null,5,null,null,5,0.86783184477638176,0.91496046556929944,1.0487480230983195,1.2791362319769946,1.4210509340454114,1.4114835231534055,1.2191142726495316,1.0044151485033519,0.86756512746300252,0.89340645761456339,0.77406351344059154,0.84943106634630439,null,5,null,null,5,-0.52783184477638168,-0.57496046556929947,-0.70874802309831941,-0.93913623197699447,-1.0810509340454113,-1.0714835231534054,-0.87911427264953157,-0.66441514850335182,-0.52756512746300244,-0.55340645761456342,-0.43406351344059152,-0.50943106634630442]
[16,0.15,null,15,1.6644999999999999,2.3145000000000002,6.0605000000000002,15.716500000000002,23.290500000000002,24.673000000000002,13.032,6.1539999999999999,3.3104999999999998,3.149,1.5835000000000001,1.5470000000000002,null,null,null,null,null,11,null,null,10,0.76101126337783509,0.79900193971442601,0.9663428550939307,1.1733709033537487,1.3662154482260043,1.3485555234255562,1.1230412100971201,0.97641413824023993,0.8461233819796744,0.84846340100058204,0.73527385840013715,0.74959326514929536,null,11,null,null,10,-0.42101126337783507,-0.45900193971442599,-0.62634285509393073,-0.83337090335374864,-1.0262154482260042,-1.0085555234255561,-0.78304121009712002,-0.63641413824023996,-0.50612338197967444,-0.50846340100058196,-0.39527385840013712,-0.40959326514929534]
[21,0.2,null,20,1.4039999999999999,1.8979999999999999,4.7320000000000002,12.318000000000001,17.692,19.826000000000001,11.244000000000002,5.306,2.8780000000000001,2.794,1.3939999999999999,1.28,null,null,null,null,null,16,null,null,15,0.72489709639447397,0.77558054091572115,0.94477287225599016,1.1485929012213802,1.2450443956982387,1.2598495431100072,1.1053261656079207,0.94774274182132612,0.83462495856242624,0.82611132660450848,0.71752144422641106,0.7140994450713255,null,16,null,null,15,-0.38489709639447395,-0.43558054091572113,-0.60477287225599019,-0.80859290122138017,-0.90504439569823858,-0.91984954311000711,-0.76532616560792066,-0.60774274182132615,-0.49462495856242622,-0.48611132660450845,-0.37752144422641104,-0.37409944507132548]
[31,0.3,null,30,1.2,1.3380000000000001,3.492,6.34,10.618000000000002,13.706000000000001,7.2249999999999996,4.1450000000000005,2.5990000000000002,2.1840000000000002,1.0740000000000001,1.17,null,null,null,null,null,21,null,null,20,0.70004093851430682,0.74467007862833967,0.89804345520676887,1.0926320167128563,1.1768129858130492,1.2046097587775793,1.072388017915147,0.91937029312685792,0.81101109041679353,0.80610124821296314,0.69901589269498121,0.68689637594752428,null,21,null,null,20,-0.3600409385143068,-0.40467007862833965,-0.55804345520676879,-0.75263201671285618,-0.83681298581304908,-0.86460975877757917,-0.73238801791514696,-0.57937029312685784,-0.47101109041679351,-0.46610124821296312,-0.35901589269498119,-0.34689637594752426]
[41,0.4,null,40,1.1020000000000001,1.01,2.6379999999999999,4.6480000000000006,6.51,9.7580000000000009,4.766,3.76,1.9339999999999999,1.9219999999999999,1.006,1.1259999999999999,null,null,null,null,null,31,null,null,30,0.67786831839392392,0.69316509381180891,0.84380753548116172,0.95354562775249208,1.0598683883670796,1.1168115079762089,0.97943346958643529,0.87398848537169294,0.79423398890499985,0.76640789739854909,0.66262689455773094,0.67435919402888544,null,31,null,null,30,-0.33786831839392389,-0.35316509381180888,-0.50380753548116175,-0.613545627752492,-0.71986838836707956,-0.77681150797620879,-0.63943346958643521,-0.53398848537169297,-0.45423398890499983,-0.42640789739854906,-0.32262689455773091,-0.33435919402888542]
[51,0.5,null,50,1.01,0.83,1.92,3.335,4.28,7.1349999999999998,2.9950000000000001,3.1749999999999998,1.4950000000000001,1.6850000000000001,0.94499999999999995,1.06,null,null,null,null,null,41,null,null,40,0.6661321704474199,0.65433336048357327,0.79666275436536238,0.89475211934133003,0.95873213397542245,1.0416747764479606,0.89936246663430874,0.8566959020485776,0.74754399570839669,0.74659078436864978,0.653801281240182,0.66908077507925412,null,41,null,null,40,-0.32613217044741988,-0.31433336048357324,-0.45666275436536236,-0.55475211934133006,-0.61873213397542237,-0.7016747764479605,-0.55936246663430866,-0.51669590204857752,-0.40754399570839667,-0.40659078436864976,-0.31380128124018197,-0.3290807750792541]
[61,0.6,null,60,0.86,0.72599999999999998,1.234,1.9039999999999999,3.286,4.8999999999999995,2.0019999999999998,2.706,0.81400000000000006,1.3140000000000001,0.86399999999999999,0.98,null,null,null,null,null,51,null,null,50,0.65433336048357327,0.62852736405073439,0.74643145610952277,0.83588749489719638,0.87974975370649666,0.97691987822004067,0.81766334789307893,0.82750503672305864,0.7091116586707582,0.72671840916742148,0.64547095117494069,0.66084694042888503,null,51,null,null,50,-0.31433336048357324,-0.28852736405073437,-0.40643145610952275,-0.49588749489719636,-0.53974975370649658,-0.6369198782200407,-0.4776633478930789,-0.48750503672305862,-0.36911165867075818,-0.38671840916742145,-0.30547095117494066,-0.32084694042888501]
[71,0.7,null,70,0.71299999999999997,0.61299999999999999,0.93200000000000016,1.2390000000000001,2.0670000000000002,3.4970000000000003,1.67,1.9350000000000001,0.69,1.056,0.80300000000000005,0.93300000000000005,null,null,null,null,null,61,null,null,60,0.63311902451714008,0.61151228821409975,0.6817619970476444,0.74515205724076128,0.833354972038718,0.9044891835923613,0.75285842751816412,0.8008300825160245,0.62602428990694603,0.69059786462206252,0.63372158315056037,0.65030115714565162,null,61,null,null,60,-0.29311902451714006,-0.27151228821409973,-0.34176199704764437,-0.40515205724076125,-0.49335497203871798,-0.56448918359236133,-0.4128584275181641,-0.46083008251602448,-0.28602428990694601,-0.35059786462206249,-0.29372158315056035,-0.3103011571456516]
[81,0.8,null,80,0.60399999999999998,0.55000000000000004,0.67,0.99199999999999999,1.3380000000000001,2.6280000000000001,0.93600000000000005,1.4019999999999999,0.626,0.80400000000000005,0.76200000000000001,0.81600000000000006,null,null,null,null,null,71,null,null,70,0.60925139869625389,0.59066682405283322,0.64364061821953544,0.68232738056449704,0.75780589436967605,0.84405507582446404,0.72538748394430674,0.7476232175448545,0.60516979684187244,0.66033495064301151,0.62428064161647689,0.6437821311888966,null,71,null,null,70,-0.26925139869625386,-0.25066682405283319,-0.30364061821953542,-0.34232738056449702,-0.41780589436967602,-0.50405507582446396,-0.38538748394430672,-0.40762321754485448,-0.26516979684187242,-0.32033495064301148,-0.28428064161647687,-0.30378213118889658]
[85,0.85,null,85,0.55299999999999994,0.52,0.60649999999999993,0.80599999999999983,1.0194999999999999,2.1559999999999997,0.77299999999999991,1.1524999999999999,0.61,0.71599999999999986,0.75,0.69249999999999978,null,null,null,null,null,81,null,null,80,0.58887857485987882,0.57768026687586094,0.60153169549968954,0.65192565808160408,0.69316509381180891,0.79604272967830181,0.64420594783967111,0.69983639475103254,0.59321335480073034,0.62443993704291034,0.61760947547117007,0.6263393017593587,null,81,null,null,80,-0.2488785748598788,-0.23768026687586091,-0.26153169549968952,-0.31192565808160405,-0.35316509381180888,-0.45604272967830178,-0.30420594783967109,-0.35983639475103252,-0.25321335480073032,-0.28443993704291032,-0.27760947547117004,-0.28633930175935868]
[91,0.9,null,90,0.47100000000000003,0.42800000000000038,0.54200000000000015,0.69400000000000017,0.76400000000000023,1.4540000000000011,0.65200000000000014,0.95600000000000029,0.59099999999999997,0.6130000000000001,0.71099999999999997,0.58400000000000019,null,null,null,null,null,85,null,null,85,0.57832482246005723,0.57107594451093602,0.58937742411385652,0.6247580559432242,0.65559036679477278,0.76438327571093301,0.61942678003217821,0.67227904235479174,0.59007307390361197,0.60977603335393615,0.61560301796121464,0.60561864293470546,null,85,null,null,85,-0.23832482246005721,-0.23107594451093599,-0.24937742411385649,-0.28475805594322418,-0.31559036679477276,-0.42438327571093298,-0.27942678003217819,-0.33227904235479172,-0.25007307390361194,-0.26977603335393613,-0.27560301796121461,-0.26561864293470544]
[96,0.95,null,95,0.34650000000000009,0.36550000000000005,0.47,0.52550000000000008,0.51550000000000007,1.0485000000000002,0.59750000000000014,0.75650000000000006,0.50100000000000011,0.58550000000000002,0.58300000000000018,0.37550000000000006,null,null,null,null,null,91,null,null,90,0.55960613524579939,0.54873056789382069,0.57594768238630079,0.60588733260417005,0.61794143887401631,0.7050807935274449,0.59818282358217623,0.6470041244826914,0.58625777424998238,0.59066682405283322,0.6089006664902662,0.58482753895602235,null,91,null,null,90,-0.21960613524579936,-0.20873056789382066,-0.23594768238630076,-0.26588733260417002,-0.27794143887401629,-0.36508079352744488,-0.2581828235821762,-0.30700412448269138,-0.24625777424998235,-0.25066682405283319,-0.26890066649026617,-0.24482753895602233]
[99,0.99,null,99,0.28910000000000002,0.33910000000000007,0.39460000000000023,0.40640000000000009,0.39740000000000042,0.38910000000000006,0.42910000000000004,0.61640000000000017,0.45820000000000011,0.42280000000000023,0.42190000000000027,0.29910000000000003,null,null,null,null,null,96,null,null,95,0.52547534652890704,0.5312575247209933,0.55936236412455198,0.57230901762188213,0.57005933066277248,0.6593707996236966,0.58757384119763334,0.61669299087398466,0.56673484441209421,0.585135160776591,0.58462210859273256,0.53420533294847339,null,96,null,null,95,-0.18547534652890701,-0.19125752472099328,-0.21936236412455196,-0.23230901762188211,-0.23005933066277245,-0.31937079962369658,-0.24757384119763332,-0.27669299087398463,-0.22673484441209418,-0.24513516077659098,-0.24462210859273253,-0.19420533294847336]
[100,0.99900000000000011,null,99.9,0.28000000000000003,0.33,0.34,0.37,0.27,0.38,0.42,0.57999999999999996,0.44,0.35,0.34,0.28999999999999998,null,null,null,null,null,99,null,null,99,0.50632344788264605,0.52315499732531445,0.53966640425986523,0.54293606328021582,0.5404492184542059,0.53811578727185694,0.54901938220247204,0.5913369547230346,0.55645426271247811,0.54735722101928008,0.54711816480774245,0.50986540546786552,null,99,null,null,99,-0.16632344788264602,-0.18315499732531443,-0.1996664042598652,-0.20293606328021579,-0.20044921845420588,-0.19811578727185691,-0.20901938220247201,-0.25133695472303458,-0.21645426271247808,-0.20735722101928006,-0.20711816480774242,-0.16986540546786549]
[]
["Sc 4A","c:\\_Projects\\_Software\\VB code\\24_EWR site flows_scenario comparitor\\scen 4A\\","EWR 1.pd"]
[null,"Array Parameter",null,null,"Oct","Nov","Dec","Jan","Feb","Mar","Apr","May","Jun","Jul","Aug","Sep","Annual",null,null,null,null,{"$f":"A102","v":"Sc 4A"},null,null,null,null,null,null,null,null,null,null,null,null,null,null,null,null,{"$f":"V103","v":"Sc 4A"}]
[0.1,1E-3,null,0.1,3.11,6.11,33.81,42.44,83.33,99.82,64.55,13.25,5.21,4.3899999999999997,2.2599999999999998,1.63,null,null,null,null,null,"Flow converted to max depth",null,null,{"$f":"D103","v":0},"Oct","Nov","Dec","Jan","Feb","Mar","Apr","May","Jun","Jul","Aug","Sep",null,"Vegetation components",null,null,null,{"$f":"Z104","v":"Oct"},"Nov","Dec","Jan","Feb","Mar","Apr","May","Jun","Jul","Aug","Sep"]
[1,0.01,null,1,1.56,3.81,10.46,35.39,73.48,67.59,39.56,11.56,4.38,3.89,2.23,1.62,null,null,null,null,null,{"$f":"A104","v":0.1},null,null,{"$f":"D104","v":0.1},{"$f":"IF(E104<$T$10,$T$4*E104^$T$5+$T$6,$T$7*E104^$T$8+$T$9)","v":0.82400350879405304},{"$f":"IF(F104<$T$10,$T$4*F104^$T$5+$T$6,$T$7*F104^$T$8+$T$9)","v":0.94634965769970358},1.3439015080595353,1.408014519196731,1.6168787918300591,1.6778486476651675,1.5344117369654786,1.1090916517407163,0.91593554795892052,0.88433824613669887,0.77180113215129642,0.72179129522069019,null,{"$f":"V105","v":0.1},null,null,{"$f":"Y105","v":0.1},{"$f":"$AR$2-Z105","v":-0.48400350879405302},{"$f":"$AR$2-AA105","v":-0.60634965769970361},{"$f":"$AR$2-AB105","v":-1.0039015080595353},{"$f":"$AR$2-AC105","v":-1.068014519196731},{"$f":"$AR$2-AD105","v":-1.276878791830059},{"$f":"$AR$2-AE105","v":-1.3378486476651674},{"$f":"$AR$2-AF105","v":-1.1944117369654785},{"$f":"$AR$2-AG105","v":-0.76909165174071625},{"$f":"$AR$2-AH105","v":-0.57593554795892055},{"$f":"$AR$2-AI105","v":-0.54433824613669879},{"$f":"$AR$2-AJ105","v":-0.4318011321512964},{"$f":"$AR$2-AK105","v":-0.38179129522069016}]
[5,0.05,null,5,1.4144999999999999,2.8294999999999999,6.6349999999999998,23.287500000000001,43.551500000000004,42.653999999999996,20.117999999999999,7.8220000000000001,3.1855000000000002,3.0049999999999999,1.8539999999999999,1.4935,null,null,null,null,null,1,null,null,1,{"$f":"IF(E105<$T$10,$T$4*E105^$T$5+$T$6,$T$7*E105^$T$8+$T$9)","v":0.71532552773905722},0.85901906233684844,1.0566159849645478,1.3565434121139825,1.5757156793637783,1.5489560054583218,1.3878761710709273,1.0784984797607235,0.88392491193156386,0.86268619734877372,0.76968970591471275,0.72088129898708675,null,1,null,null,1,-0.3753255277390572,-0.51901906233684847,-0.7166159849645477,-1.0165434121139825,-1.2357156793637782,-1.2089560054583217,-1.0478761710709272,-0.73849847976072347,-0.54392491193156389,-0.52268619734877375,-0.42968970591471273,-0.38088129898708672]
[11,0.1,null,10,1.3,1.3460000000000001,3.2330000000000001,15.76,35.650000000000006,33.465000000000003,13.193000000000001,6.2809999999999997,2.649,2.6520000000000001,1.175,1.2670000000000001,null,null,null,null,null,5,null,null,5,0.70111100874054333,0.80819036650750231,0.9624774681485988,1.2450115178505667,1.4154965668910509,1.4094670677530012,1.208225690951978,0.99550474100090824,0.82806531001485761,0.8182222759770118,0.7410980591235744,0.70896574639465415,null,5,null,null,5,-0.3611110087405433,-0.46819036650750229,-0.62247746814859872,-0.90501151785056666,-1.0754965668910508,-1.0694670677530012,-0.86822569095197788,-0.65550474100090828,-0.48806531001485759,-0.47822227597701178,-0.40109805912357438,-0.36896574639465413]
[16,0.15,null,15,1.1704999999999999,1.1280000000000001,2.5065,12.5875,22.450500000000002,23.385999999999999,12.1355,4.8639999999999999,2.4205000000000001,2.137,1.0605,1.17,null,null,null,null,null,11,null,null,10,0.68908305188288521,0.69401270112837354,0.83058168573949331,1.1492438939339646,1.3585805281756684,1.3410788127357425,1.1081118816038824,0.95171975455621405,0.79734262709163828,0.79752765733597653,0.67494897777469021,0.68546042726056333,null,11,null,null,10,-0.34908305188288519,-0.35401270112837352,-0.49058168573949329,-0.80924389393396456,-1.0185805281756684,-1.0010788127357424,-0.76811188160388233,-0.61171975455621408,-0.45734262709163825,-0.4575276573359765,-0.33494897777469018,-0.34546042726056331]
[21,0.2,null,20,1.1060000000000001,1.008,2.2599999999999998,9.1679999999999993,17.416,16.952000000000002,9.0860000000000003,4.3220000000000001,1.98,1.84,1.026,1.1299999999999999,null,null,null,null,null,16,null,null,15,0.67441826247208392,0.6693242294669316,0.78835542696160876,1.097490514596815,1.235704177569682,1.2460892519788083,1.0892937318455072,0.90312291616043217,0.78273314428755436,0.76299748831576375,0.66091083110277671,0.67435919402888544,null,16,null,null,15,-0.33441826247208389,-0.32932422946693157,-0.44835542696160874,-0.75749051459681493,-0.8957041775696819,-0.90608925197880819,-0.74929373184550707,-0.56312291616043209,-0.44273314428755434,-0.42299748831576373,-0.32091083110277668,-0.33435919402888542]
[31,0.3,null,30,0.95,0.91700000000000004,1.8290000000000002,4.1340000000000003,8.2710000000000008,11.243000000000002,5.5329999999999995,3.1970000000000001,1.369,1.2610000000000001,0.95,1.0770000000000002,null,null,null,null,null,21,null,null,20,0.66662712686458514,0.65406753068494239,0.77180113215129642,1.0284412208248144,1.1730259142363424,1.166550313528318,1.0265487805638127,0.88151266755090141,0.75115497032553136,0.73994737696392821,0.65644506875284192,0.66956734092901538,null,21,null,null,20,-0.32662712686458512,-0.31406753068494236,-0.4318011321512964,-0.68844122082481429,-0.83302591423634231,-0.82655031352831787,-0.68654878056381263,-0.54151266755090144,-0.41115497032553133,-0.39994737696392818,-0.3164450687528419,-0.32956734092901535]
[41,0.4,null,40,0.85599999999999998,0.77600000000000002,1.298,2.5739999999999998,5.0720000000000001,7.3260000000000005,3.556,2.7,0.97199999999999998,0.94399999999999995,0.91600000000000004,1.016,null,null,null,null,null,31,null,null,30,0.64616959735196122,0.64150330042461845,0.73903837656955773,0.87351250796362778,1.0069608262499725,1.072368465503559,0.92729969869526518,0.82867726060777658,0.69642746194393801,0.68479372803479888,0.64616959735196122,0.6630059111462514,null,31,null,null,30,-0.3061695973519612,-0.30150330042461843,-0.39903837656955771,-0.53351250796362781,-0.66696082624997244,-0.73236846550355894,-0.58729969869526522,-0.48867726060777655,-0.35642746194393798,-0.34479372803479885,-0.3061695973519612,-0.32300591114625138]
[51,0.5,null,50,0.72499999999999998,0.70499999999999996,0.96499999999999997,1.9449999999999998,3.1150000000000002,4.7650000000000006,2.06,2.0499999999999998,0.78500000000000003,0.82,0.84,0.95,null,null,null,null,null,41,null,null,40,0.63251423368239423,0.61991883843650086,0.68886559266380221,0.79266180610859915,0.91090886040230423,0.98222480760548814,0.84695500833728765,0.80046574758339961,0.64920934942961528,0.64533086944021012,0.64135982690247095,0.65512834686603738,null,41,null,null,40,-0.29251423368239421,-0.27991883843650084,-0.34886559266380218,-0.45266180610859913,-0.57090886040230426,-0.64222480760548817,-0.50695500833728757,-0.46046574758339959,-0.30920934942961525,-0.3053308694402101,-0.30135982690247093,-0.31512834686603736]
[61,0.6,null,60,0.69,0.63,0.73799999999999999,1.06,1.6320000000000001,2.6179999999999999,1.4339999999999999,1.494,0.72,0.76,0.8,0.874,null,null,null,null,null,51,null,null,50,0.61133952139191483,0.60784374261752039,0.64824814175566936,0.74841365107216506,0.82427491212409265,0.89932377912180483,0.75727908338338923,0.75652402201295277,0.62138599521335347,0.62696748851354167,0.63007236943778644,0.64616959735196122,null,51,null,null,50,-0.27133952139191481,-0.26784374261752036,-0.30824814175566934,-0.40841365107216504,-0.48427491212409263,-0.55932377912180486,-0.4172790833833892,-0.41652402201295274,-0.28138599521335345,-0.28696748851354165,-0.29007236943778641,-0.3061695973519612]
[71,0.7,null,70,0.60299999999999998,0.57299999999999995,0.64600000000000002,0.83200000000000007,1.1380000000000001,2.0329999999999999,0.83299999999999996,0.876,0.65300000000000002,0.67300000000000004,0.78,0.76300000000000001,null,null,null,null,null,61,null,null,60,0.60516979684187244,0.59398844128617867,0.61357087375900921,0.66084694042888503,0.72197276160154678,0.79542082649955526,0.70308164034246845,0.70901439675983347,0.610472834573213,0.61727681866448836,0.6238018072031899,0.63521833478002543,null,61,null,null,60,-0.26516979684187242,-0.25398844128617865,-0.27357087375900918,-0.32084694042888501,-0.38197276160154675,-0.45542082649955523,-0.36308164034246843,-0.36901439675983344,-0.27047283457321297,-0.27727681866448833,-0.28380180720318987,-0.2952183347800254]
[81,0.8,null,80,0.5,0.51200000000000001,0.57999999999999996,0.68200000000000005,0.82600000000000007,1.3760000000000001,0.7,0.73199999999999998,0.61,0.61,0.75,0.66,null,null,null,null,null,71,null,null,70,0.58867857546573732,0.58255224302318509,0.59705019904523848,0.62883754446642381,0.67053637921517306,0.75523367062333813,0.62899241243691428,0.63551604981715848,0.59837078797785714,0.60208286760376961,0.62057256922110193,0.61777554364408294,null,71,null,null,70,-0.24867857546573729,-0.24255224302318507,-0.25705019904523846,-0.28883754446642379,-0.33053637921517304,-0.4152336706233381,-0.28899241243691426,-0.29551604981715845,-0.25837078797785712,-0.26208286760376959,-0.28057256922110191,-0.27777554364408291]
[85,0.85,null,85,0.46,0.4589999999999998,0.56000000000000005,0.5824999999999998,0.66,0.96899999999999986,0.63,0.65649999999999997,0.59649999999999992,0.5694999999999999,0.71,0.52649999999999997,null,null,null,null,null,81,null,null,80,0.56650276271030042,0.56926374201703722,0.58400413209649249,0.60372474685879118,0.62790521632404273,0.69715598522240296,0.60695749613685213,0.61254493466550541,0.59007307390361197,0.59007307390361197,0.61560301796121464,0.59968017010182684,null,81,null,null,80,-0.2265027627103004,-0.2292637420170372,-0.24400413209649247,-0.26372474685879116,-0.2879052163240427,-0.35715598522240294,-0.2669574961368521,-0.27254493466550539,-0.25007307390361194,-0.25007307390361194,-0.27560301796121461,-0.25968017010182681]
[91,0.9,null,90,0.40400000000000025,0.37100000000000005,0.48400000000000021,0.501,0.5500000000000006,0.66100000000000059,0.54300000000000015,0.621,0.54400000000000026,0.52,0.64100000000000001,0.46,null,null,null,null,null,85,null,null,85,0.55690169121515187,0.5566532920226871,0.57981804438850149,0.58451928834371603,0.59968017010182684,0.64879807937415002,0.59398844128617867,0.59902686646346182,0.58737211257579569,0.58182100424107641,0.60872500617895631,0.57253210935072896,null,85,null,null,85,-0.21690169121515185,-0.21665329202268707,-0.23981804438850146,-0.244519288343716,-0.25968017010182681,-0.30879807937414999,-0.25398844128617865,-0.25902686646346179,-0.24737211257579567,-0.24182100424107639,-0.26872500617895628,-0.23253210935072893]
[96,0.95,null,95,0.30650000000000011,0.34,0.4265000000000001,0.44200000000000012,0.49650000000000011,0.49,0.48550000000000004,0.5655,0.47100000000000009,0.47,0.46650000000000008,0.36550000000000005,null,null,null,null,null,91,null,null,90,0.54227722020172409,0.53288664069319125,0.56273830796328395,0.56673484441209421,0.57768026687586094,0.59986632231677361,0.5761653627902884,0.5922389403335222,0.57638272472386176,0.57107594451093602,0.59609993891641389,0.55690169121515187,null,91,null,null,90,-0.20227722020172406,-0.19288664069319122,-0.22273830796328392,-0.22673484441209418,-0.23768026687586091,-0.25986632231677359,-0.23616536279028838,-0.25223894033352218,-0.23638272472386174,-0.23107594451093599,-0.25609993891641386,-0.21690169121515185]
[99,0.99,null,99,0.25910000000000005,0.2682000000000001,0.27910000000000007,0.35,0.39740000000000042,0.42910000000000004,0.42910000000000004,0.41820000000000007,0.39910000000000007,0.37730000000000008,0.34,0.29910000000000003,null,null,null,null,null,96,null,null,95,0.51242632108307651,0.5234393394891218,0.54833577768526176,0.55236321214506223,0.5656875597434905,0.56416141212360926,0.56309539319044755,0.58098091494116288,0.55960613524579939,0.55936236412455198,0.55850590490357577,0.5312575247209933,null,96,null,null,95,-0.17242632108307648,-0.18343933948912178,-0.20833577768526174,-0.21236321214506221,-0.22568755974349047,-0.22416141212360924,-0.22309539319044752,-0.24098091494116286,-0.21960613524579936,-0.21936236412455196,-0.21850590490357574,-0.19125752472099328]
[100,0.99900000000000011,null,99.9,0.25,0.25,0.27,0.35,0.27,0.42,0.42,0.4,0.39,0.35,0.34,0.28999999999999998,null,null,null,null,null,99,null,null,99,0.49507842533359209,0.49859420880429983,0.50268271003024323,0.52655910935567107,0.5404492184542059,0.54901938220247204,0.54901938220247204,0.54613109814628003,0.54092236163544882,0.53472929362503252,0.5234393394891218,0.50986540546786552,null,99,null,null,99,-0.15507842533359206,-0.15859420880429981,-0.1626827100302432,-0.18655910935567105,-0.20044921845420588,-0.20901938220247201,-0.20901938220247201,-0.20613109814628,-0.2009223616354488,-0.1947292936250325,-0.18343933948912178,-0.16986540546786549]
[]
["Sc 4B","c:\\_Projects\\_Software\\VB code\\24_EWR site flows_scenario comparitor\\scen 4B\\","EWR 1.pd"]
[null,"Array Parameter",null,null,"Oct","Nov","Dec","Jan","Feb","Mar","Apr","May","Jun","Jul","Aug","Sep","Annual",null,null,null,null,{"$f":"A122","v":"Sc 4B"},null,null,null,null,null,null,null,null,null,null,null,null,null,null,null,null,{"$f":"V123","v":"Sc 4B"}]
[0.1,1E-3,null,0.1,8.5500000000000007,6.03,33.64,41.92,82.82,99.73,64.45,13.13,5.1100000000000003,3.35,2.39,3.55,null,null,null,null,null,"Flow converted to max depth",null,null,{"$f":"D123","v":0},"Oct","Nov","Dec","Jan","Feb","Mar","Apr","May","Jun","Jul","Aug","Sep",null,"Vegetation components",null,null,null,{"$f":"Z124","v":"Oct"},"Nov","Dec","Jan","Feb","Mar","Apr","May","Jun","Jul","Aug","Sep"]
[1,0.01,null,1,2.81,3.72,10.42,34.82,72.98,67.510000000000005,39.46,11.41,4.3099999999999996,3.33,2.2599999999999998,1.63,null,null,null,null,null,{"$f":"A124","v":0.1},null,null,{"$f":"D124","v":0.1},{"$f":"IF(E124<$T$10,$T$4*E124^$T$5+$T$6,$T$7*E124^$T$8+$T$9)","v":1.0138325599696572},{"$f":"IF(F124<$T$10,$T$4*F124^$T$5+$T$6,$T$7*F124^$T$8+$T$9)","v":0.94379621271342307},1.3425134909709557,1.4044605424396261,1.6148452211883397,1.6775384151653912,1.5339241331096134,1.1070250546517715,0.91230376214064712,0.8366568415094835,0.78070102753349191,0.84666185477468192,null,{"$f":"V125","v":0.1},null,null,{"$f":"Y125","v":0.1},{"$f":"$AR$2-Z125","v":-0.67383255996965707},{"$f":"$AR$2-AA125","v":-0.6037962127134231},{"$f":"$AR$2-AB125","v":-1.0025134909709557},{"$f":"$AR$2-AC125","v":-1.0644605424396261},{"$f":"$AR$2-AD125","v":-1.2748452211883397},{"$f":"$AR$2-AE125","v":-1.3375384151653911},{"$f":"$AR$2-AF125","v":-1.1939241331096133},{"$f":"$AR$2-AG125","v":-0.7670250546517714},{"$f":"$AR$2-AH125","v":-0.57230376214064704},{"$f":"$AR$2-AI125","v":-0.49665684150948347},{"$f":"$AR$2-AJ125","v":-0.44070102753349188},{"$f":"$AR$2-AK125","v":-0.50666185477468195}]
[5,0.05,null,5,1.5115000000000001,2.6709999999999998,6.4240000000000004,22.6005,43.295000000000002,41.932500000000005,20.013500000000001,7.5735000000000001,3.17,2.6789999999999998,1.8665,1.5044999999999999,null,null,null,null,null,1,null,null,1,{"$f":"IF(E125<$T$10,$T$4*E125^$T$5+$T$6,$T$7*E125^$T$8+$T$9)","v":0.8070454193126092},0.85481962457824501,1.055786400679984,1.3520354488410058,1.5735116850568518,1.5485799906838973,1.3871562496115941,1.0756147234254358,0.88101037267663185,0.83563043470428711,0.77180113215129642,0.72179129522069019,null,1,null,null,1,-0.46704541931260918,-0.51481962457824504,-0.71578640067998389,-1.0120354488410057,-1.2335116850568517,-1.2085799906838972,-1.047156249611594,-0.73561472342543577,-0.54101037267663177,-0.49563043470428708,-0.4318011321512964,-0.38179129522069016]
[11,0.1,null,10,1.3390000000000002,1.522,2.6859999999999999,15.75,35.289000000000001,33.365000000000002,13.063000000000001,6.0590000000000002,2.6480000000000001,2.1669999999999998,1.2070000000000001,1.27,null,null,null,null,null,5,null,null,5,0.71070906089091934,0.79869566694388305,0.95612200909892742,1.2373922196425988,1.4137835325692025,1.4045463846065458,1.2069364562330531,0.98893783006204228,0.82723772203999146,0.79918548506731968,0.74211963123258706,0.71003307664875692,null,5,null,null,5,-0.37070906089091932,-0.45869566694388303,-0.61612200909892745,-0.89739221964259874,-1.0737835325692024,-1.0645463846065457,-0.86693645623305304,-0.64893783006204231,-0.48723772203999144,-0.45918548506731965,-0.40211963123258704,-0.3700330766487569]
[16,0.15,null,15,1.2035,1.0435000000000001,2.4240000000000004,12.134500000000001,21.934000000000001,22.1435,12.012,5.07,2.4104999999999999,2.0049999999999999,1.1000000000000001,1.1935,null,null,null,null,null,11,null,null,10,0.69327126469942912,0.71171838569481938,0.79961312295170106,1.1490943670032618,1.3557488614250555,1.340256316709199,1.105864664326329,0.94472493128669011,0.79728091332356099,0.7651811417513209,0.67867706283904183,0.68579283606367669,null,11,null,null,10,-0.3532712646994291,-0.37171838569481935,-0.45961312295170104,-0.80909436700326176,-1.0157488614250554,-1.0002563167091989,-0.76586466432632894,-0.60472493128669003,-0.45728091332356097,-0.42518114175132088,-0.33867706283904181,-0.34579283606367667]
[21,0.2,null,20,1.1299999999999999,0.996,2.0920000000000001,8.98,17.16,16.946000000000002,8.1379999999999999,4.2940000000000005,1.98,1.6259999999999999,1.038,1.1479999999999999,null,null,null,null,null,16,null,null,15,0.67827315807282873,0.6587249819178933,0.78296503377666615,1.0892753302526776,1.2298222280320257,1.2322211701597843,1.0870119602507564,0.91083521466378592,0.78206913082180152,0.75308956257673276,0.66588415644292909,0.67711397615055546,null,16,null,null,15,-0.33827315807282871,-0.31872498191789328,-0.44296503377666613,-0.74927533025267756,-0.8898222280320256,-0.89222117015978419,-0.74701196025075634,-0.57083521466378584,-0.44206913082180149,-0.41308956257673274,-0.32588415644292906,-0.33711397615055544]
[31,0.3,null,30,0.98,0.91400000000000003,1.7330000000000003,3.6980000000000004,8.2479999999999993,10.527000000000003,5.5229999999999997,3.1680000000000001,1.369,1.149,0.95,1.0770000000000002,null,null,null,null,null,21,null,null,20,0.66956734092901538,0.652463686575248,0.75967585919823566,1.0240822300420767,1.1694703740568013,1.1664656592810094,1.0036199988842314,0.88033891381572105,0.75115497032553136,0.72142783076932426,0.65801173476054775,0.67174009031619275,null,21,null,null,20,-0.32956734092901535,-0.31246368657524798,-0.41967585919823563,-0.68408223004207658,-0.82947037405680124,-0.82646565928100935,-0.66361999888423129,-0.54033891381572108,-0.41115497032553133,-0.38142783076932424,-0.31801173476054773,-0.33174009031619273]
[41,0.4,null,40,0.88,0.77,1.33,2.5020000000000002,4.46,6.55,3.1779999999999999,2.5960000000000001,1.026,0.88600000000000001,0.89600000000000002,1.02,null,null,null,null,null,31,null,null,30,0.65030115714565162,0.64107250588772347,0.73091502014234855,0.8537808257545294,1.0063861584789486,1.0579999056669998,0.92695588312582233,0.82713070230576147,0.69642746194393801,0.67186000239093158,0.64616959735196122,0.6630059111462514,null,31,null,null,30,-0.3103011571456516,-0.30107250588772344,-0.39091502014234852,-0.51378082575452932,-0.66638615847894855,-0.71799990566699967,-0.58695588312582236,-0.48713070230576144,-0.35642746194393798,-0.33186000239093155,-0.3061695973519612,-0.32300591114625138]
[51,0.5,null,50,0.76500000000000001,0.67500000000000004,0.96499999999999997,1.82,2.89,4.59,1.9049999999999998,1.97,0.84,0.79500000000000004,0.82,0.95499999999999996,null,null,null,null,null,41,null,null,40,0.63610986244574375,0.61893320109004613,0.69231344788527927,0.78806507091006495,0.8872108152795225,0.95993681487197391,0.8276652649314642,0.79404596344307266,0.65644506875284192,0.63699657064773185,0.63846386592739235,0.65565626666361765,null,41,null,null,40,-0.29610986244574372,-0.2789332010900461,-0.35231344788527924,-0.44806507091006492,-0.54721081527952253,-0.61993681487197394,-0.48766526493146417,-0.45404596344307263,-0.3164450687528419,-0.29699657064773183,-0.29846386592739232,-0.31565626666361762]
[61,0.6,null,60,0.68400000000000005,0.63,0.74399999999999999,1.012,1.6320000000000001,2.714,1.3820000000000001,1.494,0.72799999999999998,0.71399999999999997,0.79,0.86199999999999999,null,null,null,null,null,51,null,null,50,0.61810716156708423,0.60244923148194029,0.64824814175566936,0.73829141061940295,0.81170316437380485,0.89245182464781081,0.74523226957830979,0.75037569332292287,0.63007236943778644,0.6230005680527666,0.62696748851354167,0.6468653263348052,null,51,null,null,50,-0.2781071615670842,-0.26244923148194027,-0.30824814175566934,-0.39829141061940293,-0.47170316437380483,-0.55245182464781073,-0.40523226957830977,-0.41037569332292284,-0.29007236943778641,-0.28300056805276658,-0.28696748851354165,-0.30686532633480518]
[71,0.7,null,70,0.56600000000000006,0.56300000000000006,0.64600000000000002,0.82900000000000007,1.0850000000000002,2.0329999999999999,0.85,0.95299999999999996,0.66300000000000003,0.64300000000000002,0.75,0.73299999999999998,null,null,null,null,null,61,null,null,60,0.60408726755051056,0.59398844128617867,0.61459020306491019,0.6545987721265164,0.72197276160154678,0.80131486471923485,0.69777809236832866,0.70901439675983347,0.61185725507503019,0.60942647157823215,0.62219531263729322,0.63342058169613469,null,61,null,null,60,-0.26408726755051054,-0.25398844128617865,-0.27459020306491017,-0.31459877212651638,-0.38197276160154675,-0.46131486471923483,-0.35777809236832864,-0.36901439675983344,-0.27185725507503017,-0.26942647157823213,-0.28219531263729319,-0.29342058169613466]
[81,0.8,null,80,0.46,0.50600000000000001,0.57199999999999995,0.70599999999999996,0.79400000000000004,1.3340000000000001,0.70199999999999996,0.748,0.61199999999999999,0.61,0.68200000000000005,0.56400000000000006,null,null,null,null,null,71,null,null,70,0.58108618395138256,0.58045345721094421,0.59705019904523848,0.62837205096455429,0.66401253453491449,0.75523367062333813,0.63160282095163345,0.64658738304501828,0.60023795608767339,0.59648074768614046,0.61560301796121464,0.6127163876405527,null,71,null,null,70,-0.24108618395138254,-0.24045345721094419,-0.25705019904523846,-0.28837205096455426,-0.32401253453491446,-0.4152336706233381,-0.29160282095163342,-0.30658738304501826,-0.26023795608767336,-0.25648074768614043,-0.27560301796121461,-0.27271638764055267]
[85,0.85,null,85,0.39649999999999996,0.45249999999999979,0.54,0.64,0.71299999999999986,1.079,0.64,0.66649999999999998,0.60299999999999987,0.5694999999999999,0.64649999999999996,0.5129999999999999,null,null,null,null,null,81,null,null,80,0.55690169121515187,0.56788975938199371,0.58234368082008192,0.60802039193542334,0.62283983972306622,0.6927397783894802,0.60731259675140337,0.61526613101973548,0.59046916451880727,0.59007307390361197,0.60372474685879118,0.58066466331081135,null,81,null,null,80,-0.21690169121515185,-0.22788975938199368,-0.2423436808200819,-0.26802039193542332,-0.2828398397230662,-0.35273977838948017,-0.26731259675140334,-0.27526613101973546,-0.25046916451880724,-0.25007307390361194,-0.26372474685879116,-0.24066466331081132]
[91,0.9,null,90,0.37100000000000005,0.39200000000000013,0.47200000000000009,0.55000000000000004,0.62200000000000011,0.8280000000000004,0.58400000000000019,0.64,0.54300000000000015,0.51100000000000001,0.53,0.42400000000000021,null,null,null,null,null,85,null,null,85,0.54019807913158824,0.55502812521682032,0.57551136193967412,0.5959091801990285,0.60925139869625389,0.66325812283611829,0.5959091801990285,0.60088617607417938,0.58867857546573732,0.58182100424107641,0.59714490311008983,0.56949149313328951,null,85,null,null,85,-0.20019807913158821,-0.2150281252168203,-0.23551136193967409,-0.25590918019902847,-0.26925139869625386,-0.32325812283611827,-0.25590918019902847,-0.26088617607417935,-0.24867857546573729,-0.24182100424107639,-0.25714490311008981,-0.22949149313328948]
[96,0.95,null,95,0.31100000000000005,0.34550000000000003,0.38550000000000006,0.48550000000000004,0.52,0.56650000000000011,0.50550000000000006,0.58550000000000002,0.47100000000000009,0.47,0.42550000000000004,0.36550000000000005,null,null,null,null,null,91,null,null,90,0.53288664069319125,0.5389355412511655,0.55984949525286243,0.57768026687586094,0.59243432091980541,0.62821658886369469,0.58482753895602235,0.5959091801990285,0.5761653627902884,0.56903563698878867,0.5733102871081357,0.54767533412899649,null,91,null,null,90,-0.19288664069319122,-0.19893554125116547,-0.2198494952528624,-0.23768026687586091,-0.25243432091980539,-0.28821658886369467,-0.24482753895602233,-0.25590918019902847,-0.23616536279028838,-0.22903563698878865,-0.23331028710813567,-0.20767533412899647]
[99,0.99,null,99,0.27550000000000019,0.29910000000000003,0.27910000000000007,0.35,0.43470000000000059,0.43820000000000009,0.42910000000000004,0.41910000000000003,0.39910000000000007,0.37730000000000008,0.34,0.29910000000000003,null,null,null,null,null,96,null,null,95,0.51395969299459487,0.52516410197606289,0.53709137678874141,0.56309539319044755,0.57107594451093602,0.58119137905745211,0.56777467721310237,0.585135160776591,0.55960613524579939,0.55936236412455198,0.54807197054059054,0.5312575247209933,null,96,null,null,95,-0.17395969299459485,-0.18516410197606287,-0.19709137678874139,-0.22309539319044752,-0.23107594451093599,-0.24119137905745208,-0.22777467721310235,-0.24513516077659098,-0.21960613524579936,-0.21936236412455196,-0.20807197054059051,-0.19125752472099328]
[100,0.99900000000000011,null,99.9,0.23,0.28999999999999998,0.27,0.35,0.28000000000000003,0.42,0.42,0.41,0.39,0.35,0.34,0.28999999999999998,null,null,null,null,null,99,null,null,99,0.50134664145592678,0.50986540546786552,0.50268271003024323,0.52655910935567107,0.55048064983089939,0.55138635911913214,0.54901938220247204,0.54637183248889121,0.54092236163544882,0.53472929362503252,0.5234393394891218,0.50986540546786552,null,99,null,null,99,-0.16134664145592675,-0.16986540546786549,-0.1626827100302432,-0.18655910935567105,-0.21048064983089937,-0.21138635911913212,-0.20901938220247201,-0.20637183248889118,-0.2009223616354488,-0.1947292936250325,-0.18343933948912178,-0.16986540546786549]
[]
["Sc 7","c:\\_Projects\\_Software\\VB code\\24_EWR site flows_scenario comparitor\\scen 7\\","EWR 1.pd"]
[null,"Array Parameter",null,null,"Oct","Nov","Dec","Jan","Feb","Mar","Apr","May","Jun","Jul","Aug","Sep","Annual",null,null,null,null,{"$f":"A142","v":"Sc 7"},null,null,null,null,null,null,null,null,null,null,null,null,null,null,null,null,{"$f":"V143","v":"Sc 7"}]
[0.1,1E-3,null,0.1,2.1800000000000002,5.87,33.64,41.92,82.82,99.73,64.45,13.13,5.1100000000000003,4.78,2.2599999999999998,3.72,0,null,null,null,null,"Flow converted to max depth",null,null,{"$f":"D143","v":0},{"$f":"E143","v":"Oct"},"Nov","Dec","Jan","Feb","Mar","Apr","May","Jun","Jul","Aug","Sep",null,"Vegetation components",null,null,null,{"$f":"Z144","v":"Oct"},"Nov","Dec","Jan","Feb","Mar","Apr","May","Jun","Jul","Aug","Sep"]
[1,0.01,null,1,1.93,3.72,10.42,34.82,72.98,67.510000000000005,39.46,11.85,4.3099999999999996,3.62,2.2200000000000002,3.03,0,null,null,null,null,{"$f":"A144","v":0.1},null,null,0.1,{"$f":"IF(E144<$T$10,$T$4*E144^$T$5+$T$6,$T$7*E144^$T$8+$T$9)","v":0.76611993379664334},{"$f":"IF(F144<$T$10,$T$4*F144^$T$5+$T$6,$T$7*F144^$T$8+$T$9)","v":0.93860743923540246},{"$f":"IF(G144<$T$10,$T$4*G144^$T$5+$T$6,$T$7*G144^$T$8+$T$9)","v":1.3425134909709557},{"$f":"IF(H144<$T$10,$T$4*H144^$T$5+$T$6,$T$7*H144^$T$8+$T$9)","v":1.4044605424396261},{"$f":"IF(I144<$T$10,$T$4*I144^$T$5+$T$6,$T$7*I144^$T$8+$T$9)","v":1.6148452211883397},{"$f":"IF(J144<$T$10,$T$4*J144^$T$5+$T$6,$T$7*J144^$T$8+$T$9)","v":1.6775384151653912},{"$f":"IF(K144<$T$10,$T$4*K144^$T$5+$T$6,$T$7*K144^$T$8+$T$9)","v":1.5339241331096134},{"$f":"IF(L144<$T$10,$T$4*L144^$T$5+$T$6,$T$7*L144^$T$8+$T$9)","v":1.1070250546517715},{"$f":"IF(M144<$T$10,$T$4*M144^$T$5+$T$6,$T$7*M144^$T$8+$T$9)","v":0.91230376214064712},{"$f":"IF(N144<$T$10,$T$4*N144^$T$5+$T$6,$T$7*N144^$T$8+$T$9)","v":0.89990341536970042},{"$f":"IF(O144<$T$10,$T$4*O144^$T$5+$T$6,$T$7*O144^$T$8+$T$9)","v":0.77180113215129642},{"$f":"IF(P144<$T$10,$T$4*P144^$T$5+$T$6,$T$7*P144^$T$8+$T$9)","v":0.85481962457824501},null,{"$f":"V145","v":0.1},null,null,{"$f":"Y145","v":0.1},{"$f":"$AR$2-Z145","v":-0.42611993379664331},{"$f":"$AR$2-AA145","v":-0.59860743923540238},{"$f":"$AR$2-AB145","v":-1.0025134909709557},{"$f":"$AR$2-AC145","v":-1.0644605424396261},{"$f":"$AR$2-AD145","v":-1.2748452211883397},{"$f":"$AR$2-AE145","v":-1.3375384151653911},{"$f":"$AR$2-AF145","v":-1.1939241331096133},{"$f":"$AR$2-AG145","v":-0.7670250546517714},{"$f":"$AR$2-AH145","v":-0.57230376214064704},{"$f":"$AR$2-AI145","v":-0.55990341536970045},{"$f":"$AR$2-AJ145","v":-0.4318011321512964},{"$f":"$AR$2-AK145","v":-0.51481962457824504}]
[5,0.05,null,5,1.4950000000000001,1.8080000000000001,6.4240000000000004,22.6005,43.295000000000002,42.3065,20.013500000000001,7.8870000000000005,3.1040000000000001,3.0794999999999999,1.4585000000000001,1.5044999999999999,0,null,null,null,null,1,null,null,1,{"$f":"IF(E145<$T$10,$T$4*E145^$T$5+$T$6,$T$7*E145^$T$8+$T$9)","v":0.7472267823394948},0.85481962457824501,1.055786400679984,1.3520354488410058,1.5735116850568518,1.5485799906838973,1.3871562496115941,1.0839904176243285,0.88101037267663185,0.8500577637881237,0.76898087899662171,0.81961315461470907,null,1,null,null,1,-0.40722678233949477,-0.51481962457824504,-0.71578640067998389,-1.0120354488410057,-1.2335116850568517,-1.2085799906838972,-1.047156249611594,-0.74399041762432838,-0.54101037267663177,-0.51005776378812362,-0.42898087899662168,-0.47961315461470905]
[11,0.1,null,10,1.246,1.2530000000000001,2.6859999999999999,15.75,31.968000000000004,34.028999999999996,13.063000000000001,6.0969999999999995,2.6480000000000001,2.6070000000000002,1.1000000000000001,1.27,0,null,null,null,null,5,null,null,5,0.7091116586707582,0.73729087448307284,0.95612200909892742,1.2373922196425988,1.4137835325692025,1.4071054214047953,1.2069364562330531,0.99719503762831518,0.82367736652176604,0.82234039463711084,0.7055275874238911,0.71003307664875692,null,5,null,null,5,-0.36911165867075818,-0.39729087448307282,-0.61612200909892745,-0.89739221964259874,-1.0737835325692024,-1.0671054214047953,-0.86693645623305304,-0.6571950376283151,-0.48367736652176602,-0.48234039463711081,-0.36552758742389108,-0.3700330766487569]
[16,0.15,null,15,1.19,1.01,2.331,13.054499999999999,21.1615,23.927000000000003,12.012,4.6840000000000002,2.4104999999999999,2.0735000000000001,1.0605,1.2,0,null,null,null,null,11,null,null,10,0.68311587796522677,0.68390086153312901,0.79961312295170106,1.1490943670032618,1.3285559597003969,1.3456814462745725,1.105864664326329,0.94593653862543747,0.79728091332356099,0.79473454794561516,0.66588415644292909,0.68579283606367669,null,11,null,null,10,-0.34311587796522675,-0.34390086153312899,-0.45961312295170104,-0.80909436700326176,-0.98855595970039678,-1.0056814462745725,-0.76586466432632894,-0.60593653862543739,-0.45728091332356097,-0.45473454794561513,-0.32588415644292906,-0.34579283606367667]
[21,0.2,null,20,1.1100000000000001,0.96799999999999997,1.89,8.9820000000000011,16.966000000000001,18.37,9.1460000000000008,3.8940000000000001,1.974,1.5940000000000001,1.018,1.1579999999999999,0,null,null,null,null,16,null,null,15,0.67670643815344911,0.65433336048357327,0.77671080603960696,1.105717112631998,1.2208159740286637,1.2519450646230879,1.0870119602507564,0.8961684348684954,0.78206913082180152,0.75829380753055231,0.66091083110277671,0.67786831839392392,null,16,null,null,15,-0.33670643815344908,-0.31433336048357324,-0.43671080603960694,-0.76571711263199793,-0.88081597402866363,-0.91194506462308778,-0.74701196025075634,-0.55616843486849543,-0.44206913082180149,-0.41829380753055229,-0.32091083110277668,-0.33786831839392389]
[31,0.3,null,30,0.97699999999999998,0.81699999999999995,1.4370000000000001,4.0360000000000005,9.4890000000000008,10.329000000000004,5.516,3.137,1.5510000000000002,1.1000000000000001,0.95,1.0940000000000001,0,null,null,null,null,21,null,null,20,0.6671206622097724,0.648660764409972,0.74402555267463055,1.0241289824416113,1.1667477475102597,1.1859204506034737,1.0279348180614118,0.86286797465354703,0.75068778065886477,0.71849423243166299,0.65539251290261291,0.67293549426324895,null,21,null,null,20,-0.32712066220977237,-0.30866076440997198,-0.40402555267463053,-0.68412898244161124,-0.82674774751025959,-0.84592045060347365,-0.68793481806141177,-0.52286797465354695,-0.41068778065886474,-0.37849423243166297,-0.31539251290261289,-0.33293549426324892]
[41,0.4,null,40,0.83399999999999996,0.72,1,2.4659999999999997,4.5100000000000007,6.3220000000000001,3.1959999999999997,2.7479999999999998,1.03,0.9,0.86599999999999999,1.026,0,null,null,null,null,31,null,null,30,0.64989256249178684,0.62649657756218513,0.70338292073489284,0.86922692119662504,1.0357224091083885,1.0538896226208772,0.92671491764519409,0.8254649883189924,0.71447757088691255,0.66588415644292909,0.64616959735196122,0.66513795721339553,null,31,null,null,30,-0.30989256249178682,-0.28649657756218511,-0.36338292073489281,-0.52922692119662496,-0.69572240910838845,-0.71388962262087707,-0.58671491764519401,-0.48546498831899237,-0.37447757088691253,-0.32588415644292906,-0.3061695973519612,-0.3251379572133955]
[51,0.5,null,50,0.72,0.65500000000000003,0.83499999999999996,1.415,2.6550000000000002,3.4350000000000001,1.84,1.97,0.875,0.81,0.81,0.96499999999999997,0,null,null,null,null,41,null,null,40,0.62914713267469813,0.610472834573213,0.65300000000000002,0.7857271519565252,0.88924078289891695,0.95299001875900646,0.82862411704683903,0.80336260187344455,0.65696890180614698,0.63904714025052545,0.63402203118738498,0.65644506875284192,null,41,null,null,40,-0.2891471326746981,-0.27047283457321297,-0.313,-0.44572715195652518,-0.54924078289891698,-0.61299001875900649,-0.488624117046839,-0.46336260187344452,-0.31696890180614695,-0.29904714025052542,-0.29402203118738496,-0.3164450687528419]
[61,0.6,null,60,0.63,0.60399999999999998,0.74,0.94600000000000006,1.5840000000000001,2.5299999999999998,1.3220000000000001,1.4379999999999999,0.74399999999999999,0.72,0.78400000000000003,0.86199999999999999,0,null,null,null,null,51,null,null,50,0.610472834573213,0.59874603129768833,0.62930170549758568,0.70116180674903283,0.79771252125343317,0.8409654684640625,0.73994737696392821,0.75037569332292287,0.63536725992245202,0.62539241571573456,0.62539241571573456,0.64824814175566936,null,51,null,null,50,-0.27047283457321297,-0.25874603129768831,-0.28930170549758566,-0.36116180674903281,-0.45771252125343315,-0.50096546846406254,-0.39994737696392818,-0.41037569332292284,-0.295367259922452,-0.28539241571573454,-0.28539241571573454,-0.30824814175566934]
[71,0.7,null,70,0.56000000000000005,0.56000000000000005,0.64,0.79600000000000004,1.0140000000000002,1.542,0.85,0.88300000000000001,0.68300000000000005,0.65300000000000002,0.75,0.71900000000000008,0,null,null,null,null,61,null,null,60,0.59398844128617867,0.58887857485987882,0.61391137986066846,0.64561091511265833,0.71756788358150836,0.78986503282330311,0.69145771963899161,0.70348323641258226,0.61459020306491019,0.610472834573213,0.62122364020487453,0.63342058169613469,null,61,null,null,60,-0.25398844128617865,-0.2488785748598788,-0.27391137986066844,-0.30561091511265831,-0.37756788358150833,-0.44986503282330309,-0.35145771963899158,-0.36348323641258223,-0.27459020306491017,-0.27047283457321297,-0.2812236402048745,-0.29342058169613466]
[81,0.8,null,80,0.46400000000000002,0.49199999999999999,0.56999999999999995,0.67200000000000004,0.76,1.1419999999999999,0.70199999999999996,0.73199999999999998,0.65,0.61199999999999999,0.68200000000000005,0.56000000000000005,0,null,null,null,null,71,null,null,70,0.57981804438850149,0.57981804438850149,0.5959091801990285,0.62316113573441556,0.65486376709598748,0.71362569321276514,0.63160282095163345,0.63655381530196486,0.60390611269662064,0.59837078797785714,0.61560301796121464,0.61029892335085945,null,71,null,null,70,-0.23981804438850146,-0.23981804438850146,-0.25590918019902847,-0.28316113573441554,-0.31486376709598746,-0.37362569321276512,-0.29160282095163342,-0.29655381530196484,-0.26390611269662062,-0.25837078797785712,-0.27560301796121461,-0.27029892335085942]
[85,0.85,null,85,0.39649999999999996,0.41,0.53649999999999998,0.61299999999999988,0.7,0.91949999999999998,0.63649999999999995,0.67,0.61,0.59649999999999992,0.6329999999999999,0.48599999999999988,0,null,null,null,null,81,null,null,80,0.5578910153383192,0.5646327015325826,0.58192568527925947,0.60189936098635066,0.61727681866448836,0.67101886885755058,0.60731259675140337,0.61254493466550541,0.59780620616921853,0.59046916451880727,0.60372474685879118,0.57981804438850149,null,81,null,null,80,-0.21789101533831917,-0.22463270153258258,-0.24192568527925945,-0.26189936098635064,-0.27727681866448833,-0.33101886885755055,-0.26731259675140334,-0.27254493466550539,-0.25780620616921851,-0.25046916451880724,-0.26372474685879116,-0.23981804438850146]
[91,0.9,null,90,0.36100000000000004,0.36,0.47100000000000003,0.53,0.5500000000000006,0.67900000000000049,0.54400000000000026,0.62200000000000011,0.59099999999999997,0.53,0.52100000000000002,0.40100000000000008,0,null,null,null,null,85,null,null,85,0.54019807913158824,0.54391855187206717,0.57474470006289591,0.59066682405283322,0.60695749613685213,0.64186144081072538,0.59523965310180238,0.60153169549968954,0.59007307390361197,0.58737211257579569,0.59456719269697522,0.56321422669101662,null,85,null,null,85,-0.20019807913158821,-0.20391855187206714,-0.23474470006289588,-0.25066682405283319,-0.2669574961368521,-0.30186144081072536,-0.25523965310180236,-0.26153169549968952,-0.25007307390361194,-0.24737211257579567,-0.2545671926969752,-0.22321422669101659]
[96,0.95,null,95,0.32550000000000007,0.31,0.38550000000000006,0.43200000000000011,0.52,0.52300000000000024,0.49550000000000005,0.5655,0.49650000000000011,0.47,0.42550000000000004,0.36,0,null,null,null,null,91,null,null,90,0.52991005179207884,0.52960880144764666,0.55960613524579939,0.5733102871081357,0.57768026687586094,0.60317937787397991,0.57638272472386176,0.59243432091980541,0.58625777424998238,0.5733102871081357,0.57130090831865676,0.54144927641133356,null,91,null,null,90,-0.18991005179207882,-0.18960880144764664,-0.21960613524579936,-0.23331028710813567,-0.23768026687586091,-0.26317937787397988,-0.23638272472386174,-0.25243432091980539,-0.24625777424998235,-0.23331028710813567,-0.23130090831865674,-0.20144927641133353]
[99,0.99,null,99,0.28000000000000003,0.28910000000000002,0.27910000000000007,0.34820000000000007,0.43470000000000059,0.43820000000000009,0.42910000000000004,0.41910000000000003,0.39910000000000007,0.37730000000000008,0.34,0.29910000000000003,0,null,null,null,null,96,null,null,95,0.51878347611001485,0.51362047542783784,0.53709137678874141,0.54977799026636731,0.57107594451093602,0.57174980807242604,0.5654538056556353,0.58098091494116288,0.5656875597434905,0.55936236412455198,0.54807197054059054,0.52960880144764666,null,96,null,null,95,-0.17878347611001483,-0.17362047542783782,-0.19709137678874139,-0.20977799026636729,-0.23107594451093599,-0.23174980807242601,-0.22545380565563528,-0.24098091494116286,-0.22568755974349047,-0.21936236412455196,-0.20807197054059051,-0.18960880144764664]
[100,0.99900000000000011,null,99.9,0.28000000000000003,0.28000000000000003,0.27,0.33,0.28000000000000003,0.42,0.42,0.41,0.39,0.35,0.34,0.28999999999999998,0,null,null,null,null,99,null,null,99,0.50301458501588003,0.50632344788264605,0.50268271003024323,0.52600282723175651,0.55048064983089939,0.55138635911913214,0.54901938220247204,0.54637183248889121,0.54092236163544882,0.53472929362503252,0.5234393394891218,0.50986540546786552,null,99,null,null,99,-0.16301458501588001,-0.16632344788264602,-0.1626827100302432,-0.18600282723175648,-0.21048064983089937,-0.21138635911913212,-0.20901938220247201,-0.20637183248889118,-0.2009223616354488,-0.1947292936250325,-0.18343933948912178,-0.16986540546786549]

{"sheet":"change","index":1,"n_rows":160,"n_cols":16,"rows_kept":160,"cut":false,"hidden":false,"merged":[]}
[]
[{"$f":"q!A2","v":"PRESENT DAY"}]
["Array Parameter",null,null,null,"Jan","Feb","Mar","Apr","May","Jun","Jul","Aug","Sep","Oct","Nov","Dec"]
[1E-3,null,null,0.1,{"$f":"q!E4-q!E$4","v":0},{"$f":"q!F4-q!F$4","v":0},{"$f":"q!G4-q!G$4","v":0},{"$f":"q!H4-q!H$4","v":0},{"$f":"q!I4-q!I$4","v":0},{"$f":"q!J4-q!J$4","v":0},{"$f":"q!K4-q!K$4","v":0},{"$f":"q!L4-q!L$4","v":0},{"$f":"q!M4-q!M$4","v":0},{"$f":"q!N4-q!N$4","v":0},{"$f":"q!O4-q!O$4","v":0},{"$f":"q!P4-q!P$4","v":0}]
[0.01,null,null,1,{"$f":"q!E5-q!E$5","v":0},{"$f":"q!F5-q!F$5","v":0},{"$f":"q!G5-q!G$5","v":0},{"$f":"q!H5-q!H$5","v":0},{"$f":"q!I5-q!I$5","v":0},{"$f":"q!J5-q!J$5","v":0},{"$f":"q!K5-q!K$5","v":0},{"$f":"q!L5-q!L$5","v":0},{"$f":"q!M5-q!M$5","v":0},{"$f":"q!N5-q!N$5","v":0},{"$f":"q!O5-q!O$5","v":0},{"$f":"q!P5-q!P$5","v":0}]
[0.05,null,null,5,{"$f":"q!E6-q!E$6","v":0},{"$f":"q!F6-q!F$6","v":0},{"$f":"q!G6-q!G$6","v":0},{"$f":"q!H6-q!H$6","v":0},{"$f":"q!I6-q!I$6","v":0},{"$f":"q!J6-q!J$6","v":0},{"$f":"q!K6-q!K$6","v":0},{"$f":"q!L6-q!L$6","v":0},{"$f":"q!M6-q!M$6","v":0},{"$f":"q!N6-q!N$6","v":0},{"$f":"q!O6-q!O$6","v":0},{"$f":"q!P6-q!P$6","v":0}]
[0.1,null,null,10,{"$f":"q!E7-q!E$7","v":0},{"$f":"q!F7-q!F$7","v":0},{"$f":"q!G7-q!G$7","v":0},{"$f":"q!H7-q!H$7","v":0},{"$f":"q!I7-q!I$7","v":0},{"$f":"q!J7-q!J$7","v":0},{"$f":"q!K7-q!K$7","v":0},{"$f":"q!L7-q!L$7","v":0},{"$f":"q!M7-q!M$7","v":0},{"$f":"q!N7-q!N$7","v":0},{"$f":"q!O7-q!O$7","v":0},{"$f":"q!P7-q!P$7","v":0}]
[0.15,null,null,15,{"$f":"q!E8-q!E$8","v":0},{"$f":"q!F8-q!F$8","v":0},{"$f":"q!G8-q!G$8","v":0},{"$f":"q!H8-q!H$8","v":0},{"$f":"q!I8-q!I$8","v":0},{"$f":"q!J8-q!J$8","v":0},{"$f":"q!K8-q!K$8","v":0},{"$f":"q!L8-q!L$8","v":0},{"$f":"q!M8-q!M$8","v":0},{"$f":"q!N8-q!N$8","v":0},{"$f":"q!O8-q!O$8","v":0},{"$f":"q!P8-q!P$8","v":0}]
[0.2,null,null,20,{"$f":"q!E9-q!E$9","v":0},{"$f":"q!F9-q!F$9","v":0},{"$f":"q!G9-q!G$9","v":0},{"$f":"q!H9-q!H$9","v":0},{"$f":"q!I9-q!I$9","v":0},{"$f":"q!J9-q!J$9","v":0},{"$f":"q!K9-q!K$9","v":0},{"$f":"q!L9-q!L$9","v":0},{"$f":"q!M9-q!M$9","v":0},{"$f":"q!N9-q!N$9","v":0},{"$f":"q!O9-q!O$9","v":0},{"$f":"q!P9-q!P$9","v":0}]
[0.3,null,null,30,{"$f":"q!E10-q!E$10","v":0},{"$f":"q!F10-q!F$10","v":0},{"$f":"q!G10-q!G$10","v":0},{"$f":"q!H10-q!H$10","v":0},{"$f":"q!I10-q!I$10","v":0},{"$f":"q!J10-q!J$10","v":0},{"$f":"q!K10-q!K$10","v":0},{"$f":"q!L10-q!L$10","v":0},{"$f":"q!M10-q!M$10","v":0},{"$f":"q!N10-q!N$10","v":0},{"$f":"q!O10-q!O$10","v":0},{"$f":"q!P10-q!P$10","v":0}]
[0.4,null,null,40,{"$f":"q!E11-q!E$11","v":0},{"$f":"q!F11-q!F$11","v":0},{"$f":"q!G11-q!G$11","v":0},{"$f":"q!H11-q!H$11","v":0},{"$f":"q!I11-q!I$11","v":0},{"$f":"q!J11-q!J$11","v":0},{"$f":"q!K11-q!K$11","v":0},{"$f":"q!L11-q!L$11","v":0},{"$f":"q!M11-q!M$11","v":0},{"$f":"q!N11-q!N$11","v":0},{"$f":"q!O11-q!O$11","v":0},{"$f":"q!P11-q!P$11","v":0}]
[0.5,null,null,50,{"$f":"q!E12-q!E$12","v":0},{"$f":"q!F12-q!F$12","v":0},{"$f":"q!G12-q!G$12","v":0},{"$f":"q!H12-q!H$12","v":0},{"$f":"q!I12-q!I$12","v":0},{"$f":"q!J12-q!J$12","v":0},{"$f":"q!K12-q!K$12","v":0},{"$f":"q!L12-q!L$12","v":0},{"$f":"q!M12-q!M$12","v":0},{"$f":"q!N12-q!N$12","v":0},{"$f":"q!O12-q!O$12","v":0},{"$f":"q!P12-q!P$12","v":0}]
[0.6,null,null,60,{"$f":"q!E13-q!E$13","v":0},{"$f":"q!F13-q!F$13","v":0},{"$f":"q!G13-q!G$13","v":0},{"$f":"q!H13-q!H$13","v":0},{"$f":"q!I13-q!I$13","v":0},{"$f":"q!J13-q!J$13","v":0},{"$f":"q!K13-q!K$13","v":0},{"$f":"q!L13-q!L$13","v":0},{"$f":"q!M13-q!M$13","v":0},{"$f":"q!N13-q!N$13","v":0},{"$f":"q!O13-q!O$13","v":0},{"$f":"q!P13-q!P$13","v":0}]
[0.7,null,null,70,{"$f":"q!E14-q!E$14","v":0},{"$f":"q!F14-q!F$14","v":0},{"$f":"q!G14-q!G$14","v":0},{"$f":"q!H14-q!H$14","v":0},{"$f":"q!I14-q!I$14","v":0},{"$f":"q!J14-q!J$14","v":0},{"$f":"q!K14-q!K$14","v":0},{"$f":"q!L14-q!L$14","v":0},{"$f":"q!M14-q!M$14","v":0},{"$f":"q!N14-q!N$14","v":0},{"$f":"q!O14-q!O$14","v":0},{"$f":"q!P14-q!P$14","v":0}]
[0.8,null,null,80,{"$f":"q!E15-q!E$15","v":0},{"$f":"q!F15-q!F$15","v":0},{"$f":"q!G15-q!G$15","v":0},{"$f":"q!H15-q!H$15","v":0},{"$f":"q!I15-q!I$15","v":0},{"$f":"q!J15-q!J$15","v":0},{"$f":"q!K15-q!K$15","v":0},{"$f":"q!L15-q!L$15","v":0},{"$f":"q!M15-q!M$15","v":0},{"$f":"q!N15-q!N$15","v":0},{"$f":"q!O15-q!O$15","v":0},{"$f":"q!P15-q!P$15","v":0}]
[0.85,null,null,85,{"$f":"q!E16-q!E$16","v":0},{"$f":"q!F16-q!F$16","v":0},{"$f":"q!G16-q!G$16","v":0},{"$f":"q!H16-q!H$16","v":0},{"$f":"q!I16-q!I$16","v":0},{"$f":"q!J16-q!J$16","v":0},{"$f":"q!K16-q!K$16","v":0},{"$f":"q!L16-q!L$16","v":0},{"$f":"q!M16-q!M$16","v":0},{"$f":"q!N16-q!N$16","v":0},{"$f":"q!O16-q!O$16","v":0},{"$f":"q!P16-q!P$16","v":0}]
[0.9,null,null,90,{"$f":"q!E17-q!E$17","v":0},{"$f":"q!F17-q!F$17","v":0},{"$f":"q!G17-q!G$17","v":0},{"$f":"q!H17-q!H$17","v":0},{"$f":"q!I17-q!I$17","v":0},{"$f":"q!J17-q!J$17","v":0},{"$f":"q!K17-q!K$17","v":0},{"$f":"q!L17-q!L$17","v":0},{"$f":"q!M17-q!M$17","v":0},{"$f":"q!N17-q!N$17","v":0},{"$f":"q!O17-q!O$17","v":0},{"$f":"q!P17-q!P$17","v":0}]
[0.95,null,null,95,{"$f":"q!E18-q!E$18","v":0},{"$f":"q!F18-q!F$18","v":0},{"$f":"q!G18-q!G$18","v":0},{"$f":"q!H18-q!H$18","v":0},{"$f":"q!I18-q!I$18","v":0},{"$f":"q!J18-q!J$18","v":0},{"$f":"q!K18-q!K$18","v":0},{"$f":"q!L18-q!L$18","v":0},{"$f":"q!M18-q!M$18","v":0},{"$f":"q!N18-q!N$18","v":0},{"$f":"q!O18-q!O$18","v":0},{"$f":"q!P18-q!P$18","v":0}]
[0.99,null,null,99,{"$f":"q!E19-q!E$19","v":0},{"$f":"q!F19-q!F$19","v":0},{"$f":"q!G19-q!G$19","v":0},{"$f":"q!H19-q!H$19","v":0},{"$f":"q!I19-q!I$19","v":0},{"$f":"q!J19-q!J$19","v":0},{"$f":"q!K19-q!K$19","v":0},{"$f":"q!L19-q!L$19","v":0},{"$f":"q!M19-q!M$19","v":0},{"$f":"q!N19-q!N$19","v":0},{"$f":"q!O19-q!O$19","v":0},{"$f":"q!P19-q!P$19","v":0}]
[0.99900000000000011,null,null,99.5,{"$f":"q!E20-q!E$20","v":0},{"$f":"q!F20-q!F$20","v":0},{"$f":"q!G20-q!G$20","v":0},{"$f":"q!H20-q!H$20","v":0},{"$f":"q!I20-q!I$20","v":0},{"$f":"q!J20-q!J$20","v":0},{"$f":"q!K20-q!K$20","v":0},{"$f":"q!L20-q!L$20","v":0},{"$f":"q!M20-q!M$20","v":0},{"$f":"q!N20-q!N$20","v":0},{"$f":"q!O20-q!O$20","v":0},{"$f":"q!P20-q!P$20","v":0}]
[]
[{"$f":"q!A22","v":"NATURAL"}]
[null,"Array Parameter",null,null,"Jan","Feb","Mar","Apr","May","Jun","Jul","Aug","Sep","Oct","Nov","Dec"]
[1E-3,1E-3,null,0.1,{"$f":"q!E24-q!E$4","v":-15.400000000000002},{"$f":"q!F24-q!F$4","v":3.29},{"$f":"q!G24-q!G$4","v":-5},{"$f":"q!H24-q!H$4","v":7.5799999999999983},{"$f":"q!I24-q!I$4","v":9.9399999999999977},{"$f":"q!J24-q!J$4","v":13.730000000000004},{"$f":"q!K24-q!K$4","v":12.719999999999999},{"$f":"q!L24-q!L$4","v":4.6300000000000008},{"$f":"q!M24-q!M$4","v":3.51},{"$f":"q!N24-q!N$4","v":-16.119999999999997},{"$f":"q!O24-q!O$4","v":-1.8699999999999992},{"$f":"q!P24-q!P$4","v":-3.3499999999999996}]
[0.01,0.01,null,1,{"$f":"q!E25-q!E$5","v":-7.169999999999999},{"$f":"q!F25-q!F$5","v":3.660000000000001},{"$f":"q!G25-q!G$5","v":-15.479999999999997},{"$f":"q!H25-q!H$5","v":8.9699999999999989},{"$f":"q!I25-q!I$5","v":11.680000000000007},{"$f":"q!J25-q!J$5","v":11.899999999999991},{"$f":"q!K25-q!K$5","v":6.0899999999999963},{"$f":"q!L25-q!L$5","v":2.9399999999999995},{"$f":"q!M25-q!M$5","v":3.2800000000000011},{"$f":"q!N25-q!N$5","v":0.52999999999999936},{"$f":"q!O25-q!O$5","v":-0.73000000000000043},{"$f":"q!P25-q!P$5","v":-3.9899999999999993}]
[0.05,0.05,null,5,{"$f":"q!E26-q!E$6","v":0.63199999999999967},{"$f":"q!F26-q!F$6","v":2.6145000000000005},{"$f":"q!G26-q!G$6","v":4.3390000000000004},{"$f":"q!H26-q!H$6","v":16.230499999999999},{"$f":"q!I26-q!I$6","v":28.32},{"$f":"q!J26-q!J$6","v":14.9465},{"$f":"q!K26-q!K$6","v":8.1664999999999992},{"$f":"q!L26-q!L$6","v":5.0645000000000007},{"$f":"q!M26-q!M$6","v":3.7060000000000004},{"$f":"q!N26-q!N$6","v":2.3944999999999999},{"$f":"q!O26-q!O$6","v":2.6454999999999997},{"$f":"q!P26-q!P$6","v":-2.4889999999999999}]
[0.1,0.1,null,10,{"$f":"q!E27-q!E$7","v":2.6880000000000002},{"$f":"q!F27-q!F$7","v":3.0579999999999998},{"$f":"q!G27-q!G$7","v":5.4510000000000005},{"$f":"q!H27-q!H$7","v":9.1510000000000034},{"$f":"q!I27-q!I$7","v":11.866999999999997},{"$f":"q!J27-q!J$7","v":11.558},{"$f":"q!K27-q!K$7","v":9.7230000000000008},{"$f":"q!L27-q!L$7","v":5.5669999999999993},{"$f":"q!M27-q!M$7","v":3.5339999999999998},{"$f":"q!N27-q!N$7","v":2.302},{"$f":"q!O27-q!O$7","v":2.7629999999999999},{"$f":"q!P27-q!P$7","v":0.46799999999999997}]
[0.15,0.15,null,15,{"$f":"q!E28-q!E$8","v":2.25},{"$f":"q!F28-q!F$8","v":3.1614999999999998},{"$f":"q!G28-q!G$8","v":6.6700000000000008},{"$f":"q!H28-q!H$8","v":7.8070000000000004},{"$f":"q!I28-q!I$8","v":10.212499999999999},{"$f":"q!J28-q!J$8","v":11.286999999999995},{"$f":"q!K28-q!K$8","v":6.4140000000000015},{"$f":"q!L28-q!L$8","v":5.1174999999999988},{"$f":"q!M28-q!M$8","v":3.3294999999999999},{"$f":"q!N28-q!N$8","v":2.4464999999999999},{"$f":"q!O28-q!O$8","v":3.069},{"$f":"q!P28-q!P$8","v":1.3555000000000001}]
[0.2,0.2,null,20,{"$f":"q!E29-q!E$9","v":2.258},{"$f":"q!F29-q!F$9","v":3.2320000000000002},{"$f":"q!G29-q!G$9","v":5.3979999999999997},{"$f":"q!H29-q!H$9","v":8.395999999999999},{"$f":"q!I29-q!I$9","v":10.973999999999997},{"$f":"q!J29-q!J$9","v":7.990000000000002},{"$f":"q!K29-q!K$9","v":8.1520000000000028},{"$f":"q!L29-q!L$9","v":5.1139999999999999},{"$f":"q!M29-q!M$9","v":3.2800000000000002},{"$f":"q!N29-q!N$9","v":2.4419999999999997},{"$f":"q!O29-q!O$9","v":2.9580000000000002},{"$f":"q!P29-q!P$9","v":1.782}]
[0.3,0.3,null,30,{"$f":"q!E30-q!E$10","v":2.2379999999999995},{"$f":"q!F30-q!F$10","v":3.484},{"$f":"q!G30-q!G$10","v":4.7430000000000003},{"$f":"q!H30-q!H$10","v":8.2220000000000013},{"$f":"q!I30-q!I$10","v":6.1069999999999958},{"$f":"q!J30-q!J$10","v":6.3289999999999988},{"$f":"q!K30-q!K$10","v":7.3359999999999994},{"$f":"q!L30-q!L$10","v":4.7809999999999997},{"$f":"q!M30-q!M$10","v":3.2320000000000002},{"$f":"q!N30-q!N$10","v":2.8100000000000005},{"$f":"q!O30-q!O$10","v":3.1560000000000006},{"$f":"q!P30-q!P$10","v":2.2199999999999998}]
[0.4,0.4,null,40,{"$f":"q!E31-q!E$11","v":2.04},{"$f":"q!F31-q!F$11","v":2.92},{"$f":"q!G31-q!G$11","v":4.4060000000000006},{"$f":"q!H31-q!H$11","v":6.5760000000000005},{"$f":"q!I31-q!I$11","v":7.6099999999999994},{"$f":"q!J31-q!J$11","v":4.9960000000000004},{"$f":"q!K31-q!K$11","v":7.0100000000000007},{"$f":"q!L31-q!L$11","v":4.1820000000000004},{"$f":"q!M31-q!M$11","v":3.6159999999999997},{"$f":"q!N31-q!N$11","v":2.8580000000000005},{"$f":"q!O31-q!O$11","v":3.0819999999999999},{"$f":"q!P31-q!P$11","v":2.35}]
[0.5,0.5,null,50,{"$f":"q!E32-q!E$12","v":1.905},{"$f":"q!F32-q!F$12","v":2.8000000000000003},{"$f":"q!G32-q!G$12","v":4.0500000000000007},{"$f":"q!H32-q!H$12","v":6.11},{"$f":"q!I32-q!I$12","v":8.3000000000000007},{"$f":"q!J32-q!J$12","v":4.91},{"$f":"q!K32-q!K$12","v":6.3299999999999992},{"$f":"q!L32-q!L$12","v":3.5600000000000005},{"$f":"q!M32-q!M$12","v":3.62},{"$f":"q!N32-q!N$12","v":2.75},{"$f":"q!O32-q!O$12","v":2.85},{"$f":"q!P32-q!P$12","v":2.2450000000000001}]
[0.6,0.6,null,60,{"$f":"q!E33-q!E$13","v":1.8580000000000001},{"$f":"q!F33-q!F$13","v":2.456},{"$f":"q!G33-q!G$13","v":3.5439999999999996},{"$f":"q!H33-q!H$13","v":5.2559999999999993},{"$f":"q!I33-q!I$13","v":6.3460000000000001},{"$f":"q!J33-q!J$13","v":4.1620000000000008},{"$f":"q!K33-q!K$13","v":5.226},{"$f":"q!L33-q!L$13","v":3.2039999999999997},{"$f":"q!M33-q!M$13","v":3.8259999999999992},{"$f":"q!N33-q!N$13","v":2.9299999999999997},{"$f":"q!O33-q!O$13","v":2.738},{"$f":"q!P33-q!P$13","v":2.0499999999999998}]
[0.7,0.7,null,70,{"$f":"q!E34-q!E$14","v":1.796},{"$f":"q!F34-q!F$14","v":2.2210000000000001},{"$f":"q!G34-q!G$14","v":3.1859999999999999},{"$f":"q!H34-q!H$14","v":4.1519999999999992},{"$f":"q!I34-q!I$14","v":5.5250000000000004},{"$f":"q!J34-q!J$14","v":3.9229999999999996},{"$f":"q!K34-q!K$14","v":4.5369999999999999},{"$f":"q!L34-q!L$14","v":3.56},{"$f":"q!M34-q!M$14","v":3.5790000000000002},{"$f":"q!N34-q!N$14","v":2.8029999999999999},{"$f":"q!O34-q!O$14","v":2.5499999999999998},{"$f":"q!P34-q!P$14","v":1.8230000000000004}]
[0.8,0.8,null,80,{"$f":"q!E35-q!E$15","v":1.5819999999999999},{"$f":"q!F35-q!F$15","v":1.964},{"$f":"q!G35-q!G$15","v":2.5940000000000003},{"$f":"q!H35-q!H$15","v":4.0220000000000002},{"$f":"q!I35-q!I$15","v":4.8780000000000001},{"$f":"q!J35-q!J$15","v":3.2119999999999997},{"$f":"q!K35-q!K$15","v":4.3520000000000003},{"$f":"q!L35-q!L$15","v":3.4780000000000006},{"$f":"q!M35-q!M$15","v":3.242},{"$f":"q!N35-q!N$15","v":2.6520000000000001},{"$f":"q!O35-q!O$15","v":2.206},{"$f":"q!P35-q!P$15","v":1.6920000000000002}]
[0.85,0.85,null,85,{"$f":"q!E36-q!E$16","v":1.5105},{"$f":"q!F36-q!F$16","v":1.8019999999999998},{"$f":"q!G36-q!G$16","v":2.3089999999999997},{"$f":"q!H36-q!H$16","v":3.4399999999999995},{"$f":"q!I36-q!I$16","v":4.4834999999999994},{"$f":"q!J36-q!J$16","v":3.2785000000000002},{"$f":"q!K36-q!K$16","v":4.4449999999999994},{"$f":"q!L36-q!L$16","v":3.4704999999999999},{"$f":"q!M36-q!M$16","v":3.1365000000000003},{"$f":"q!N36-q!N$16","v":2.57},{"$f":"q!O36-q!O$16","v":2.0499999999999998},{"$f":"q!P36-q!P$16","v":1.7269999999999999}]
[0.9,0.9,null,90,{"$f":"q!E37-q!E$17","v":1.5589999999999997},{"$f":"q!F37-q!F$17","v":1.6330000000000002},{"$f":"q!G37-q!G$17","v":2.214},{"$f":"q!H37-q!H$17","v":2.8830000000000018},{"$f":"q!I37-q!I$17","v":3.7960000000000003},{"$f":"q!J37-q!J$17","v":2.9240000000000004},{"$f":"q!K37-q!K$17","v":3.9520000000000008},{"$f":"q!L37-q!L$17","v":3.1800000000000006},{"$f":"q!M37-q!M$17","v":2.976},{"$f":"q!N37-q!N$17","v":2.5230000000000001},{"$f":"q!O37-q!O$17","v":1.9470000000000005},{"$f":"q!P37-q!P$17","v":1.7389999999999994}]
[0.95,0.95,null,95,{"$f":"q!E38-q!E$18","v":1.3029999999999999},{"$f":"q!F38-q!F$18","v":1.4755000000000003},{"$f":"q!G38-q!G$18","v":1.7395000000000009},{"$f":"q!H38-q!H$18","v":2.4610000000000012},{"$f":"q!I38-q!I$18","v":3.1139999999999999},{"$f":"q!J38-q!J$18","v":3.0220000000000002},{"$f":"q!K38-q!K$18","v":3.2385000000000015},{"$f":"q!L38-q!L$18","v":2.6395000000000017},{"$f":"q!M38-q!M$18","v":2.3165000000000009},{"$f":"q!N38-q!N$18","v":1.9255},{"$f":"q!O38-q!O$18","v":1.6920000000000002},{"$f":"q!P38-q!P$18","v":1.5345000000000004}]
[0.99,0.99,null,99,{"$f":"q!E39-q!E$19","v":1.2249000000000014},{"$f":"q!F39-q!F$19","v":1.1530000000000009},{"$f":"q!G39-q!G$19","v":1.1374000000000006},{"$f":"q!H39-q!H$19","v":1.830500000000002},{"$f":"q!I39-q!I$19","v":2.3968000000000016},{"$f":"q!J39-q!J$19","v":2.4668000000000014},{"$f":"q!K39-q!K$19","v":2.2384000000000008},{"$f":"q!L39-q!L$19","v":1.5646},{"$f":"q!M39-q!M$19","v":1.4028000000000003},{"$f":"q!N39-q!N$19","v":1.2965000000000004},{"$f":"q!O39-q!O$19","v":1.0756000000000006},{"$f":"q!P39-q!P$19","v":0.96909999999999996}]
[0.99900000000000011,0.99900000000000011,null,99.5,{"$f":"q!E40-q!E$20","v":0.87000000000000011},{"$f":"q!F40-q!F$20","v":0.87999999999999989},{"$f":"q!G40-q!G$20","v":1.01},{"$f":"q!H40-q!H$20","v":1.33},{"$f":"q!I40-q!I$20","v":1.96},{"$f":"q!J40-q!J$20","v":2.0300000000000002},{"$f":"q!K40-q!K$20","v":2.02},{"$f":"q!L40-q!L$20","v":1.5099999999999998},{"$f":"q!M40-q!M$20","v":1.33},{"$f":"q!N40-q!N$20","v":1.1600000000000001},{"$f":"q!O40-q!O$20","v":0.92999999999999994},{"$f":"q!P40-q!P$20","v":0.96}]
[]
[{"$f":"q!A42","v":"Sc 2A"}]
["Array Parameter",null,null,null,"Jan","Feb","Mar","Apr","May","Jun","Jul","Aug","Sep","Oct","Nov","Dec"]
[1E-3,null,null,0.1,{"$f":"q!E44-q!E$4","v":7.2499999999999964},{"$f":"q!F44-q!F$4","v":1.88},{"$f":"q!G44-q!G$4","v":-9.7299999999999969},{"$f":"q!H44-q!H$4","v":0},{"$f":"q!I44-q!I$4","v":0},{"$f":"q!J44-q!J$4","v":0},{"$f":"q!K44-q!K$4","v":0},{"$f":"q!L44-q!L$4","v":0},{"$f":"q!M44-q!M$4","v":0},{"$f":"q!N44-q!N$4","v":-9.1199999999999992},{"$f":"q!O44-q!O$4","v":0.80000000000000071},{"$f":"q!P44-q!P$4","v":1.5399999999999991}]
[0.01,null,null,1,{"$f":"q!E45-q!E$5","v":-3.0899999999999981},{"$f":"q!F45-q!F$5","v":1.2400000000000002},{"$f":"q!G45-q!G$5","v":-2.6300000000000026},{"$f":"q!H45-q!H$5","v":0},{"$f":"q!I45-q!I$5","v":0},{"$f":"q!J45-q!J$5","v":0},{"$f":"q!K45-q!K$5","v":0},{"$f":"q!L45-q!L$5","v":-8.9999999999998082E-2},{"$f":"q!M45-q!M$5","v":0.26000000000000068},{"$f":"q!N45-q!N$5","v":0.87999999999999989},{"$f":"q!O45-q!O$5","v":-4.1500000000000004},{"$f":"q!P45-q!P$5","v":-0.28999999999999915}]
[0.05,null,null,5,{"$f":"q!E46-q!E$6","v":-0.70549999999999979},{"$f":"q!F46-q!F$6","v":1.4055},{"$f":"q!G46-q!G$6","v":2.6485000000000003},{"$f":"q!H46-q!H$6","v":2.8260000000000005},{"$f":"q!I46-q!I$6","v":-1.9629999999999939},{"$f":"q!J46-q!J$6","v":-0.58399999999999608},{"$f":"q!K46-q!K$6","v":0},{"$f":"q!L46-q!L$6","v":0.63649999999999984},{"$f":"q!M46-q!M$6","v":4.5000000000001705E-3},{"$f":"q!N46-q!N$6","v":-5.9999999999997833E-3},{"$f":"q!O46-q!O$6","v":-0.34399999999999986},{"$f":"q!P46-q!P$6","v":-4.9995000000000003}]
[0.1,null,null,10,{"$f":"q!E47-q!E$7","v":0.36699999999999999},{"$f":"q!F47-q!F$7","v":0.24699999999999989},{"$f":"q!G47-q!G$7","v":0.41399999999999881},{"$f":"q!H47-q!H$7","v":-0.33599999999999852},{"$f":"q!I47-q!I$7","v":-6.7830000000000013},{"$f":"q!J47-q!J$7","v":-0.55200000000000671},{"$f":"q!K47-q!K$7","v":0},{"$f":"q!L47-q!L$7","v":0.15600000000000058},{"$f":"q!M47-q!M$7","v":0.12800000000000011},{"$f":"q!N47-q!N$7","v":0.12300000000000022},{"$f":"q!O47-q!O$7","v":-0.37400000000000011},{"$f":"q!P47-q!P$7","v":-2.024}]
[0.15,null,null,15,{"$f":"q!E48-q!E$8","v":0.10800000000000032},{"$f":"q!F48-q!F$8","v":0.14249999999999963},{"$f":"q!G48-q!G$8","v":1.5635000000000003},{"$f":"q!H48-q!H$8","v":0.86900000000000155},{"$f":"q!I48-q!I$8","v":-0.11600000000000321},{"$f":"q!J48-q!J$8","v":-0.83200000000000074},{"$f":"q!K48-q!K$8","v":-6.5000000000008384E-3},{"$f":"q!L48-q!L$8","v":0.98499999999999943},{"$f":"q!M48-q!M$8","v":0.11650000000000027},{"$f":"q!N48-q!N$8","v":0.18100000000000005},{"$f":"q!O48-q!O$8","v":-3.4499999999999975E-2},{"$f":"q!P48-q!P$8","v":-1.2380000000000004}]
[0.2,null,null,20,{"$f":"q!E49-q!E$9","v":-2.0000000000000018E-3},{"$f":"q!F49-q!F$9","v":0.1619999999999997},{"$f":"q!G49-q!G$9","v":1.1340000000000003},{"$f":"q!H49-q!H$9","v":-2.2160000000000011},{"$f":"q!I49-q!I$9","v":0.10999999999999588},{"$f":"q!J49-q!J$9","v":-1.2719999999999985},{"$f":"q!K49-q!K$9","v":-1.0760000000000005},{"$f":"q!L49-q!L$9","v":1.4439999999999991},{"$f":"q!M49-q!M$9","v":0.19399999999999995},{"$f":"q!N49-q!N$9","v":0.3879999999999999},{"$f":"q!O49-q!O$9","v":5.9999999999997833E-3},{"$f":"q!P49-q!P$9","v":-0.88200000000000012}]
[0.3,null,null,30,{"$f":"q!E50-q!E$10","v":4.8000000000000043E-2},{"$f":"q!F50-q!F$10","v":0.18199999999999994},{"$f":"q!G50-q!G$10","v":0.57500000000000018},{"$f":"q!H50-q!H$10","v":-0.61300000000000043},{"$f":"q!I50-q!I$10","v":-0.63500000000000156},{"$f":"q!J50-q!J$10","v":1.0589999999999993},{"$f":"q!K50-q!K$10","v":-0.64200000000000035},{"$f":"q!L50-q!L$10","v":0.86399999999999988},{"$f":"q!M50-q!M$10","v":-0.10999999999999988},{"$f":"q!N50-q!N$10","v":0.53200000000000003},{"$f":"q!O50-q!O$10","v":7.7000000000000179E-2},{"$f":"q!P50-q!P$10","v":-0.36099999999999999}]
[0.4,null,null,40,{"$f":"q!E51-q!E$11","v":2.3999999999999799E-2},{"$f":"q!F51-q!F$11","v":4.2000000000000037E-2},{"$f":"q!G51-q!G$11","v":0.68599999999999994},{"$f":"q!H51-q!H$11","v":0.73999999999999932},{"$f":"q!I51-q!I$11","v":-0.53600000000000048},{"$f":"q!J51-q!J$11","v":0.49800000000000111},{"$f":"q!K51-q!K$11","v":-1.8180000000000005},{"$f":"q!L51-q!L$11","v":0.57200000000000006},{"$f":"q!M51-q!M$11","v":4.9999999999999822E-2},{"$f":"q!N51-q!N$11","v":0.31000000000000028},{"$f":"q!O51-q!O$11","v":8.2000000000000073E-2},{"$f":"q!P51-q!P$11","v":-7.9999999999999849E-2}]
[0.5,null,null,50,{"$f":"q!E52-q!E$12","v":6.5000000000000169E-2},{"$f":"q!F52-q!F$12","v":6.9999999999999951E-2},{"$f":"q!G52-q!G$12","v":0.56000000000000005},{"$f":"q!H52-q!H$12","v":0.125},{"$f":"q!I52-q!I$12","v":-0.16999999999999993},{"$f":"q!J52-q!J$12","v":6.4999999999999503E-2},{"$f":"q!K52-q!K$12","v":-0.75},{"$f":"q!L52-q!L$12","v":0.54},{"$f":"q!M52-q!M$12","v":-6.0000000000000053E-2},{"$f":"q!N52-q!N$12","v":0.37499999999999978},{"$f":"q!O52-q!O$12","v":4.0000000000000036E-2},{"$f":"q!P52-q!P$12","v":-5.0000000000000044E-2}]
[0.6,null,null,60,{"$f":"q!E53-q!E$13","v":1.4000000000000012E-2},{"$f":"q!F53-q!F$13","v":7.1999999999999953E-2},{"$f":"q!G53-q!G$13","v":0.52600000000000002},{"$f":"q!H53-q!H$13","v":9.9999999999997868E-3},{"$f":"q!I53-q!I$13","v":-0.42600000000000016},{"$f":"q!J53-q!J$13","v":1.5899999999999999},{"$f":"q!K53-q!K$13","v":-0.30000000000000004},{"$f":"q!L53-q!L$13","v":0.45800000000000018},{"$f":"q!M53-q!M$13","v":6.9999999999999951E-2},{"$f":"q!N53-q!N$13","v":0.48199999999999998},{"$f":"q!O53-q!O$13","v":4.9999999999999933E-2},{"$f":"q!P53-q!P$13","v":-3.5999999999999921E-2}]
[0.7,null,null,70,{"$f":"q!E54-q!E$14","v":4.3000000000000038E-2},{"$f":"q!F54-q!F$14","v":4.3000000000000038E-2},{"$f":"q!G54-q!G$14","v":0.31099999999999994},{"$f":"q!H54-q!H$14","v":-7.6999999999999957E-2},{"$f":"q!I54-q!I$14","v":-9.4000000000000528E-2},{"$f":"q!J54-q!J$14","v":1.1389999999999998},{"$f":"q!K54-q!K$14","v":-0.38499999999999979},{"$f":"q!L54-q!L$14","v":0.73200000000000021},{"$f":"q!M54-q!M$14","v":7.0000000000000062E-3},{"$f":"q!N54-q!N$14","v":0.20999999999999996},{"$f":"q!O54-q!O$14","v":1.9999999999999907E-2},{"$f":"q!P54-q!P$14","v":-6.6999999999999948E-2}]
[0.8,null,null,80,{"$f":"q!E55-q!E$15","v":5.2000000000000046E-2},{"$f":"q!F55-q!F$15","v":0},{"$f":"q!G55-q!G$15","v":8.8000000000000078E-2},{"$f":"q!H55-q!H$15","v":-0.12800000000000011},{"$f":"q!I55-q!I$15","v":7.9999999999997851E-3},{"$f":"q!J55-q!J$15","v":0.79199999999999982},{"$f":"q!K55-q!K$15","v":-0.22799999999999998},{"$f":"q!L55-q!L$15","v":0.248},{"$f":"q!M55-q!M$15","v":2.4000000000000021E-2},{"$f":"q!N55-q!N$15","v":0.19199999999999995},{"$f":"q!O55-q!O$15","v":2.200000000000002E-2},{"$f":"q!P55-q!P$15","v":-2.7999999999999914E-2}]
[0.85,null,null,85,{"$f":"q!E56-q!E$16","v":5.3499999999999992E-2},{"$f":"q!F56-q!F$16","v":-4.3500000000000039E-2},{"$f":"q!G56-q!G$16","v":0.11350000000000005},{"$f":"q!H56-q!H$16","v":-0.17499999999999971},{"$f":"q!I56-q!I$16","v":-4.7500000000000542E-2},{"$f":"q!J56-q!J$16","v":0.95700000000000007},{"$f":"q!K56-q!K$16","v":-1.6499999999999959E-2},{"$f":"q!L56-q!L$16","v":9.6999999999999975E-2},{"$f":"q!M56-q!M$16","v":6.4999999999999503E-3},{"$f":"q!N56-q!N$16","v":0.11949999999999994},{"$f":"q!O56-q!O$16","v":2.3500000000000076E-2},{"$f":"q!P56-q!P$16","v":-4.8000000000000265E-2}]
[0.9,null,null,90,{"$f":"q!E57-q!E$17","v":2.6000000000000301E-2},{"$f":"q!F57-q!F$17","v":-2.8999999999999915E-2},{"$f":"q!G57-q!G$17","v":2.0000000000000018E-2},{"$f":"q!H57-q!H$17","v":-0.11799999999999988},{"$f":"q!I57-q!I$17","v":-1.7999999999999905E-2},{"$f":"q!J57-q!J$17","v":0.11000000000000099},{"$f":"q!K57-q!K$17","v":-3.0000000000000027E-2},{"$f":"q!L57-q!L$17","v":0.13900000000000012},{"$f":"q!M57-q!M$17","v":-9.000000000000008E-3},{"$f":"q!N57-q!N$17","v":3.1000000000000028E-2},{"$f":"q!O57-q!O$17","v":-5.9999999999997833E-3},{"$f":"q!P57-q!P$17","v":-1.0000000000000508E-2}]
[0.95,null,null,95,{"$f":"q!E58-q!E$18","v":1.0000000000000564E-3},{"$f":"q!F58-q!F$18","v":-3.449999999999992E-2},{"$f":"q!G58-q!G$18","v":-3.3499999999999974E-2},{"$f":"q!H58-q!H$18","v":-1.4500000000000013E-2},{"$f":"q!I58-q!I$18","v":9.5499999999999918E-2},{"$f":"q!J58-q!J$18","v":5.950000000000033E-2},{"$f":"q!K58-q!K$18","v":1.3499999999999956E-2},{"$f":"q!L58-q!L$18","v":4.5000000000000262E-2},{"$f":"q!M58-q!M$18","v":-6.9000000000000006E-2},{"$f":"q!N58-q!N$18","v":2.4499999999999966E-2},{"$f":"q!O58-q!O$18","v":-2.2499999999999798E-2},{"$f":"q!P58-q!P$18","v":-4.4999999999999485E-3}]
[0.99,null,null,99,{"$f":"q!E59-q!E$19","v":-2.2800000000000264E-2},{"$f":"q!F59-q!F$19","v":-8.2000000000000961E-3},{"$f":"q!G59-q!G$19","v":-9.0899999999999925E-2},{"$f":"q!H59-q!H$19","v":-3.6400000000000099E-2},{"$f":"q!I59-q!I$19","v":-2.830000000000038E-2},{"$f":"q!J59-q!J$19","v":0.40349999999999953},{"$f":"q!K59-q!K$19","v":4.6400000000000163E-2},{"$f":"q!L59-q!L$19","v":-4.6299999999999786E-2},{"$f":"q!M59-q!M$19","v":-3.0900000000000039E-2},{"$f":"q!N59-q!N$19","v":4.9999999999999989E-2},{"$f":"q!O59-q!O$19","v":-1.6400000000000137E-2},{"$f":"q!P59-q!P$19","v":1.0000000000000009E-2}]
[0.99900000000000011,null,null,99.5,{"$f":"q!E60-q!E$20","v":4.9999999999999989E-2},{"$f":"q!F60-q!F$20","v":1.0000000000000009E-2},{"$f":"q!G60-q!G$20","v":-9.9999999999999978E-2},{"$f":"q!H60-q!H$20","v":0},{"$f":"q!I60-q!I$20","v":8.9999999999999969E-2},{"$f":"q!J60-q!J$20","v":0.54},{"$f":"q!K60-q!K$20","v":1.0000000000000009E-2},{"$f":"q!L60-q!L$20","v":-0.11000000000000004},{"$f":"q!M60-q!M$20","v":-3.999999999999998E-2},{"$f":"q!N60-q!N$20","v":5.0000000000000044E-2},{"$f":"q!O60-q!O$20","v":1.9999999999999962E-2},{"$f":"q!P60-q!P$20","v":1.0000000000000009E-2}]
[]
[{"$f":"q!A62","v":"Sc 2B"}]
["Array Parameter",null,null,null,"Jan","Feb","Mar","Apr","May","Jun","Jul","Aug","Sep","Oct","Nov","Dec"]
[1E-3,null,null,0.1,{"$f":"q!E64-q!E$4","v":15.509999999999998},{"$f":"q!F64-q!F$4","v":1.2000000000000002},{"$f":"q!G64-q!G$4","v":-9.740000000000002},{"$f":"q!H64-q!H$4","v":0},{"$f":"q!I64-q!I$4","v":0},{"$f":"q!J64-q!J$4","v":0},{"$f":"q!K64-q!K$4","v":0},{"$f":"q!L64-q!L$4","v":0},{"$f":"q!M64-q!M$4","v":0},{"$f":"q!N64-q!N$4","v":-18.27},{"$f":"q!O64-q!O$4","v":-2.5299999999999994},{"$f":"q!P64-q!P$4","v":1.8900000000000006}]
[0.01,null,null,1,{"$f":"q!E65-q!E$5","v":21.6},{"$f":"q!F65-q!F$5","v":1.5300000000000002},{"$f":"q!G65-q!G$5","v":-13.379999999999999},{"$f":"q!H65-q!H$5","v":0},{"$f":"q!I65-q!I$5","v":0},{"$f":"q!J65-q!J$5","v":0},{"$f":"q!K65-q!K$5","v":0},{"$f":"q!L65-q!L$5","v":0.34000000000000163},{"$f":"q!M65-q!M$5","v":0},{"$f":"q!N65-q!N$5","v":-1.7000000000000002},{"$f":"q!O65-q!O$5","v":-1.7400000000000002},{"$f":"q!P65-q!P$5","v":0.95000000000000107}]
[0.05,null,null,5,{"$f":"q!E66-q!E$6","v":0.76750000000000096},{"$f":"q!F66-q!F$6","v":1.0424999999999995},{"$f":"q!G66-q!G$6","v":-1.3294999999999995},{"$f":"q!H66-q!H$6","v":2.8260000000000005},{"$f":"q!I66-q!I$6","v":-1.9629999999999939},{"$f":"q!J66-q!J$6","v":1.1319999999999979},{"$f":"q!K66-q!K$6","v":0},{"$f":"q!L66-q!L$6","v":0.66950000000000109},{"$f":"q!M66-q!M$6","v":-0.19050000000000011},{"$f":"q!N66-q!N$6","v":-5.9499999999999886E-2},{"$f":"q!O66-q!O$6","v":0},{"$f":"q!P66-q!P$6","v":-3.9909999999999997}]
[0.1,null,null,10,{"$f":"q!E67-q!E$7","v":0.3969999999999998},{"$f":"q!F67-q!F$7","v":0.24699999999999989},{"$f":"q!G67-q!G$7","v":-0.13500000000000068},{"$f":"q!H67-q!H$7","v":-0.33699999999999619},{"$f":"q!I67-q!I$7","v":-3.0249999999999986},{"$f":"q!J67-q!J$7","v":-0.75800000000000267},{"$f":"q!K67-q!K$7","v":0},{"$f":"q!L67-q!L$7","v":0.45099999999999962},{"$f":"q!M67-q!M$7","v":-9.8999999999999755E-2},{"$f":"q!N67-q!N$7","v":4.4999999999999929E-2},{"$f":"q!O67-q!O$7","v":-0.27000000000000024},{"$f":"q!P67-q!P$7","v":-2.0720000000000001}]
[0.15,null,null,15,{"$f":"q!E68-q!E$8","v":0.32350000000000012},{"$f":"q!F68-q!F$8","v":8.3999999999999631E-2},{"$f":"q!G68-q!G$8","v":0.16199999999999992},{"$f":"q!H68-q!H$8","v":0.81699999999999839},{"$f":"q!I68-q!I$8","v":-3.5000000000025011E-3},{"$f":"q!J68-q!J$8","v":-0.93599999999999994},{"$f":"q!K68-q!K$8","v":-6.5000000000008384E-3},{"$f":"q!L68-q!L$8","v":0.98499999999999943},{"$f":"q!M68-q!M$8","v":-4.2999999999999705E-2},{"$f":"q!N68-q!N$8","v":0.32499999999999973},{"$f":"q!O68-q!O$8","v":6.5000000000001723E-3},{"$f":"q!P68-q!P$8","v":-1.3720000000000003}]
[0.2,null,null,20,{"$f":"q!E69-q!E$9","v":0.11199999999999988},{"$f":"q!F69-q!F$9","v":7.3999999999999622E-2},{"$f":"q!G69-q!G$9","v":0.20399999999999974},{"$f":"q!H69-q!H$9","v":-2.2160000000000011},{"$f":"q!I69-q!I$9","v":0.10199999999999676},{"$f":"q!J69-q!J$9","v":9.2000000000005855E-2},{"$f":"q!K69-q!K$9","v":-1.0760000000000005},{"$f":"q!L69-q!L$9","v":0.93800000000000061},{"$f":"q!M69-q!M$9","v":-1.0000000000000231E-2},{"$f":"q!N69-q!N$9","v":0.3879999999999999},{"$f":"q!O69-q!O$9","v":4.0000000000000036E-2},{"$f":"q!P69-q!P$9","v":-0.90199999999999991}]
[0.3,null,null,30,{"$f":"q!E70-q!E$10","v":0.1399999999999999},{"$f":"q!F70-q!F$10","v":0.30599999999999983},{"$f":"q!G70-q!G$10","v":7.0000000000001172E-3},{"$f":"q!H70-q!H$10","v":-0.97199999999999953},{"$f":"q!I70-q!I$10","v":-0.99900000000000233},{"$f":"q!J70-q!J$10","v":1.1579999999999995},{"$f":"q!K70-q!K$10","v":-0.59700000000000131},{"$f":"q!L70-q!L$10","v":0.54300000000000015},{"$f":"q!M70-q!M$10","v":-0.40199999999999969},{"$f":"q!N70-q!N$10","v":0.4780000000000002},{"$f":"q!O70-q!O$10","v":0.20300000000000029},{"$f":"q!P70-q!P$10","v":-0.36699999999999999}]
[0.4,null,null,40,{"$f":"q!E71-q!E$11","v":9.7999999999999865E-2},{"$f":"q!F71-q!F$11","v":6.0000000000000053E-2},{"$f":"q!G71-q!G$11","v":0.50800000000000001},{"$f":"q!H71-q!H$11","v":0.24399999999999977},{"$f":"q!I71-q!I$11","v":-0.8180000000000005},{"$f":"q!J71-q!J$11","v":1.0820000000000007},{"$f":"q!K71-q!K$11","v":-1.6},{"$f":"q!L71-q!L$11","v":0.4319999999999995},{"$f":"q!M71-q!M$11","v":-2.000000000000024E-2},{"$f":"q!N71-q!N$11","v":0.23800000000000021},{"$f":"q!O71-q!O$11","v":9.000000000000008E-2},{"$f":"q!P71-q!P$11","v":-9.5999999999999863E-2}]
[0.5,null,null,50,{"$f":"q!E72-q!E$12","v":0.12000000000000011},{"$f":"q!F72-q!F$12","v":5.5000000000000049E-2},{"$f":"q!G72-q!G$12","v":0.55500000000000016},{"$f":"q!H72-q!H$12","v":0.125},{"$f":"q!I72-q!I$12","v":-0.15000000000000036},{"$f":"q!J72-q!J$12","v":1.4050000000000011},{"$f":"q!K72-q!K$12","v":-0.50499999999999989},{"$f":"q!L72-q!L$12","v":0.1850000000000005},{"$f":"q!M72-q!M$12","v":-8.4999999999999964E-2},{"$f":"q!N72-q!N$12","v":0.2649999999999999},{"$f":"q!O72-q!O$12","v":2.5000000000000022E-2},{"$f":"q!P72-q!P$12","v":-4.500000000000004E-2}]
[0.6,null,null,60,{"$f":"q!E73-q!E$13","v":7.999999999999996E-2},{"$f":"q!F73-q!F$13","v":0.10999999999999999},{"$f":"q!G73-q!G$13","v":0.30999999999999983},{"$f":"q!H73-q!H$13","v":-0.1120000000000001},{"$f":"q!I73-q!I$13","v":-0.42600000000000016},{"$f":"q!J73-q!J$13","v":1.9220000000000006},{"$f":"q!K73-q!K$13","v":-0.10999999999999988},{"$f":"q!L73-q!L$13","v":0.42200000000000015},{"$f":"q!M73-q!M$13","v":1.3999999999999901E-2},{"$f":"q!N73-q!N$13","v":0.46599999999999997},{"$f":"q!O73-q!O$13","v":3.2000000000000028E-2},{"$f":"q!P73-q!P$13","v":-3.5999999999999921E-2}]
[0.7,null,null,70,{"$f":"q!E74-q!E$14","v":9.2000000000000193E-2},{"$f":"q!F74-q!F$14","v":5.600000000000005E-2},{"$f":"q!G74-q!G$14","v":0.31099999999999994},{"$f":"q!H74-q!H$14","v":-9.2000000000000082E-2},{"$f":"q!I74-q!I$14","v":-0.10400000000000009},{"$f":"q!J74-q!J$14","v":1.3269999999999995},{"$f":"q!K74-q!K$14","v":-0.30099999999999993},{"$f":"q!L74-q!L$14","v":0.95400000000000018},{"$f":"q!M74-q!M$14","v":7.0000000000000062E-3},{"$f":"q!N74-q!N$14","v":0.19600000000000017},{"$f":"q!O74-q!O$14","v":-7.0000000000000062E-3},{"$f":"q!P74-q!P$14","v":-8.3999999999999964E-2}]
[0.8,null,null,80,{"$f":"q!E75-q!E$15","v":9.000000000000008E-2},{"$f":"q!F75-q!F$15","v":0},{"$f":"q!G75-q!G$15","v":0.12},{"$f":"q!H75-q!H$15","v":-0.1100000000000001},{"$f":"q!I75-q!I$15","v":5.9999999999997833E-3},{"$f":"q!J75-q!J$15","v":0.89599999999999946},{"$f":"q!K75-q!K$15","v":-0.25399999999999989},{"$f":"q!L75-q!L$15","v":0.51000000000000023},{"$f":"q!M75-q!M$15","v":4.0000000000000036E-3},{"$f":"q!N75-q!N$15","v":0.17399999999999993},{"$f":"q!O75-q!O$15","v":0},{"$f":"q!P75-q!P$15","v":-8.5999999999999965E-2}]
[0.85,null,null,85,{"$f":"q!E76-q!E$16","v":5.699999999999994E-2},{"$f":"q!F76-q!F$16","v":-4.3500000000000039E-2},{"$f":"q!G76-q!G$16","v":0.12650000000000006},{"$f":"q!H76-q!H$16","v":-0.1489999999999998},{"$f":"q!I76-q!I$16","v":-2.650000000000019E-2},{"$f":"q!J76-q!J$16","v":0.79750000000000054},{"$f":"q!K76-q!K$16","v":-3.3499999999999974E-2},{"$f":"q!L76-q!L$16","v":0.22450000000000014},{"$f":"q!M76-q!M$16","v":-3.4999999999999476E-3},{"$f":"q!N76-q!N$16","v":9.3500000000000028E-2},{"$f":"q!O76-q!O$16","v":-3.3500000000000085E-2},{"$f":"q!P76-q!P$16","v":-0.18350000000000011}]
[0.9,null,null,90,{"$f":"q!E77-q!E$17","v":8.999999999999897E-3},{"$f":"q!F77-q!F$17","v":-2.9999999999999971E-2},{"$f":"q!G77-q!G$17","v":2.1000000000000019E-2},{"$f":"q!H77-q!H$17","v":-0.14400000000000024},{"$f":"q!I77-q!I$17","v":5.0000000000002265E-3},{"$f":"q!J77-q!J$17","v":-7.2999999999999732E-2},{"$f":"q!K77-q!K$17","v":-3.0000000000002247E-3},{"$f":"q!L77-q!L$17","v":0.16100000000000014},{"$f":"q!M77-q!M$17","v":-1.0000000000000009E-2},{"$f":"q!N77-q!N$17","v":3.1000000000000028E-2},{"$f":"q!O77-q!O$17","v":-0.20599999999999968},{"$f":"q!P77-q!P$17","v":-6.0000000000000497E-2}]
[0.95,null,null,95,{"$f":"q!E78-q!E$18","v":-2.5500000000000078E-2},{"$f":"q!F78-q!F$18","v":-3.999999999999998E-2},{"$f":"q!G78-q!G$18","v":-6.0000000000000053E-2},{"$f":"q!H78-q!H$18","v":-1.4500000000000013E-2},{"$f":"q!I78-q!I$18","v":9.5499999999999918E-2},{"$f":"q!J78-q!J$18","v":5.950000000000033E-2},{"$f":"q!K78-q!K$18","v":9.000000000000008E-3},{"$f":"q!L78-q!L$18","v":0.15050000000000041},{"$f":"q!M78-q!M$18","v":-0.11000000000000004},{"$f":"q!N78-q!N$18","v":2.4499999999999966E-2},{"$f":"q!O78-q!O$18","v":-0.10200000000000009},{"$f":"q!P78-q!P$18","v":-1.9999999999999962E-2}]
[0.99,null,null,99,{"$f":"q!E79-q!E$19","v":-2.4600000000000177E-2},{"$f":"q!F79-q!F$19","v":-8.2000000000000961E-3},{"$f":"q!G79-q!G$19","v":-0.10989999999999961},{"$f":"q!H79-q!H$19","v":-3.999999999999998E-2},{"$f":"q!I79-q!I$19","v":-2.830000000000038E-2},{"$f":"q!J79-q!J$19","v":0.38629999999999975},{"$f":"q!K79-q!K$19","v":9.2800000000000327E-2},{"$f":"q!L79-q!L$19","v":3.5600000000000631E-2},{"$f":"q!M79-q!M$19","v":-6.3599999999999879E-2},{"$f":"q!N79-q!N$19","v":6.1799999999999966E-2},{"$f":"q!O79-q!O$19","v":-2.0000000000000018E-2},{"$f":"q!P79-q!P$19","v":1.0000000000000009E-2}]
[0.99900000000000011,null,null,99.5,{"$f":"q!E80-q!E$20","v":3.0000000000000027E-2},{"$f":"q!F80-q!F$20","v":1.0000000000000009E-2},{"$f":"q!G80-q!G$20","v":-0.20999999999999996},{"$f":"q!H80-q!H$20","v":-3.999999999999998E-2},{"$f":"q!I80-q!I$20","v":8.9999999999999969E-2},{"$f":"q!J80-q!J$20","v":0.44999999999999996},{"$f":"q!K80-q!K$20","v":2.0000000000000018E-2},{"$f":"q!L80-q!L$20","v":-0.11000000000000004},{"$f":"q!M80-q!M$20","v":-9.9999999999999978E-2},{"$f":"q!N80-q!N$20","v":8.0000000000000016E-2},{"$f":"q!O80-q!O$20","v":-2.0000000000000018E-2},{"$f":"q!P80-q!P$20","v":1.0000000000000009E-2}]
[]
[{"$f":"q!A82","v":"Sc 3"}]
["Array Parameter",null,null,null,"Jan","Feb","Mar","Apr","May","Jun","Jul","Aug","Sep","Oct","Nov","Dec"]
[1E-3,null,null,0.1,{"$f":"q!E84-q!E$4","v":19.369999999999997},{"$f":"q!F84-q!F$4","v":1.2000000000000002},{"$f":"q!G84-q!G$4","v":-9.740000000000002},{"$f":"q!H84-q!H$4","v":0},{"$f":"q!I84-q!I$4","v":0},{"$f":"q!J84-q!J$4","v":0},{"$f":"q!K84-q!K$4","v":0},{"$f":"q!L84-q!L$4","v":0},{"$f":"q!M84-q!M$4","v":0},{"$f":"q!N84-q!N$4","v":0.47000000000000242},{"$f":"q!O84-q!O$4","v":-5.3699999999999992},{"$f":"q!P84-q!P$4","v":-3.34}]
[0.01,null,null,1,{"$f":"q!E85-q!E$5","v":-2.7799999999999994},{"$f":"q!F85-q!F$5","v":0.83000000000000007},{"$f":"q!G85-q!G$5","v":-2.6899999999999977},{"$f":"q!H85-q!H$5","v":0},{"$f":"q!I85-q!I$5","v":0},{"$f":"q!J85-q!J$5","v":0},{"$f":"q!K85-q!K$5","v":0},{"$f":"q!L85-q!L$5","v":-0.76999999999999957},{"$f":"q!M85-q!M$5","v":0},{"$f":"q!N85-q!N$5","v":0.77999999999999936},{"$f":"q!O85-q!O$5","v":-4.2100000000000009},{"$f":"q!P85-q!P$5","v":-4.34}]
[0.05,null,null,5,{"$f":"q!E86-q!E$6","v":-7.0500000000000007E-2},{"$f":"q!F86-q!F$6","v":0},{"$f":"q!G86-q!G$6","v":-0.99500000000000099},{"$f":"q!H86-q!H$6","v":2.9655000000000022},{"$f":"q!I86-q!I$6","v":0},{"$f":"q!J86-q!J$6","v":-2.3539999999999992},{"$f":"q!K86-q!K$6","v":0},{"$f":"q!L86-q!L$6","v":-0.23850000000000016},{"$f":"q!M86-q!M$6","v":-0.19050000000000011},{"$f":"q!N86-q!N$6","v":0.80950000000000077},{"$f":"q!O86-q!O$6","v":-0.59450000000000003},{"$f":"q!P86-q!P$6","v":-3.6154999999999999}]
[0.1,null,null,10,{"$f":"q!E87-q!E$7","v":0.3400000000000003},{"$f":"q!F87-q!F$7","v":0},{"$f":"q!G87-q!G$7","v":-0.57900000000000063},{"$f":"q!H87-q!H$7","v":-0.40299999999999869},{"$f":"q!I87-q!I$7","v":0.83999999999999631},{"$f":"q!J87-q!J$7","v":-1.0959999999999965},{"$f":"q!K87-q!K$7","v":0},{"$f":"q!L87-q!L$7","v":0},{"$f":"q!M87-q!M$7","v":0},{"$f":"q!N87-q!N$7","v":6.4999999999999947E-2},{"$f":"q!O87-q!O$7","v":-0.41600000000000015},{"$f":"q!P87-q!P$7","v":-1.9290000000000003}]
[0.15,null,null,15,{"$f":"q!E88-q!E$8","v":3.0999999999999917E-2},{"$f":"q!F88-q!F$8","v":0},{"$f":"q!G88-q!G$8","v":0.70650000000000013},{"$f":"q!H88-q!H$8","v":0.4305000000000021},{"$f":"q!I88-q!I$8","v":0.83899999999999864},{"$f":"q!J88-q!J$8","v":-1.5884999999999998},{"$f":"q!K88-q!K$8","v":0},{"$f":"q!L88-q!L$8","v":0.17899999999999938},{"$f":"q!M88-q!M$8","v":0},{"$f":"q!N88-q!N$8","v":2.6499999999999968E-2},{"$f":"q!O88-q!O$8","v":-0.10099999999999976},{"$f":"q!P88-q!P$8","v":-1.1815000000000002}]
[0.2,null,null,20,{"$f":"q!E89-q!E$9","v":-9.000000000000008E-2},{"$f":"q!F89-q!F$9","v":6.9999999999999618E-2},{"$f":"q!G89-q!G$9","v":0.69399999999999995},{"$f":"q!H89-q!H$9","v":-0.29000000000000092},{"$f":"q!I89-q!I$9","v":0.10199999999999676},{"$f":"q!J89-q!J$9","v":-1.7139999999999986},{"$f":"q!K89-q!K$9","v":0.93400000000000105},{"$f":"q!L89-q!L$9","v":0.32399999999999984},{"$f":"q!M89-q!M$9","v":0},{"$f":"q!N89-q!N$9","v":0.10799999999999965},{"$f":"q!O89-q!O$9","v":-0.14000000000000012},{"$f":"q!P89-q!P$9","v":-0.87799999999999989}]
[0.3,null,null,30,{"$f":"q!E90-q!E$10","v":-4.7000000000000153E-2},{"$f":"q!F90-q!F$10","v":0.27099999999999991},{"$f":"q!G90-q!G$10","v":0.49500000000000011},{"$f":"q!H90-q!H$10","v":-0.10800000000000054},{"$f":"q!I90-q!I$10","v":0},{"$f":"q!J90-q!J$10","v":0.59600000000000009},{"$f":"q!K90-q!K$10","v":0.29499999999999904},{"$f":"q!L90-q!L$10","v":4.1000000000000369E-2},{"$f":"q!M90-q!M$10","v":0.11500000000000021},{"$f":"q!N90-q!N$10","v":1.4000000000000234E-2},{"$f":"q!O90-q!O$10","v":-4.9999999999999822E-2},{"$f":"q!P90-q!P$10","v":-0.33100000000000018}]
[0.4,null,null,40,{"$f":"q!E91-q!E$11","v":0},{"$f":"q!F91-q!F$11","v":6.4000000000000057E-2},{"$f":"q!G91-q!G$11","v":0.6419999999999999},{"$f":"q!H91-q!H$11","v":0.62600000000000033},{"$f":"q!I91-q!I$11","v":0.65799999999999947},{"$f":"q!J91-q!J$11","v":7.2000000000000952E-2},{"$f":"q!K91-q!K$11","v":-0.12000000000000011},{"$f":"q!L91-q!L$11","v":8.9999999999999858E-2},{"$f":"q!M91-q!M$11","v":7.1999999999999842E-2},{"$f":"q!N91-q!N$11","v":0},{"$f":"q!O91-q!O$11","v":-4.0000000000000036E-3},{"$f":"q!P91-q!P$11","v":-2.0000000000000018E-2}]
[0.5,null,null,50,{"$f":"q!E92-q!E$12","v":2.0000000000000018E-2},{"$f":"q!F92-q!F$12","v":5.4999999999999938E-2},{"$f":"q!G92-q!G$12","v":0.31999999999999984},{"$f":"q!H92-q!H$12","v":0.25},{"$f":"q!I92-q!I$12","v":0.66000000000000014},{"$f":"q!J92-q!J$12","v":9.9999999999997868E-3},{"$f":"q!K92-q!K$12","v":0},{"$f":"q!L92-q!L$12","v":7.5000000000000178E-2},{"$f":"q!M92-q!M$12","v":-4.4999999999999929E-2},{"$f":"q!N92-q!N$12","v":5.0000000000000044E-2},{"$f":"q!O92-q!O$12","v":5.0000000000000044E-3},{"$f":"q!P92-q!P$12","v":2.0000000000000018E-2}]
[0.6,null,null,60,{"$f":"q!E93-q!E$13","v":0},{"$f":"q!F93-q!F$13","v":5.1999999999999935E-2},{"$f":"q!G93-q!G$13","v":-2.6000000000000023E-2},{"$f":"q!H93-q!H$13","v":-0.19200000000000017},{"$f":"q!I93-q!I$13","v":0.49199999999999999},{"$f":"q!J93-q!J$13","v":0.36399999999999988},{"$f":"q!K93-q!K$13","v":1.7999999999999794E-2},{"$f":"q!L93-q!L$13","v":0.21399999999999997},{"$f":"q!M93-q!M$13","v":-0.124},{"$f":"q!N93-q!N$13","v":0.10600000000000009},{"$f":"q!O93-q!O$13","v":1.4000000000000012E-2},{"$f":"q!P93-q!P$13","v":1.6000000000000014E-2}]
[0.7,null,null,70,{"$f":"q!E94-q!E$14","v":-7.0000000000000062E-3},{"$f":"q!F94-q!F$14","v":1.3000000000000012E-2},{"$f":"q!G94-q!G$14","v":0},{"$f":"q!H94-q!H$14","v":-0.36899999999999999},{"$f":"q!I94-q!I$14","v":0.25099999999999967},{"$f":"q!J94-q!J$14","v":0},{"$f":"q!K94-q!K$14","v":-1.3000000000000123E-2},{"$f":"q!L94-q!L$14","v":0.37199999999999989},{"$f":"q!M94-q!M$14","v":-8.3000000000000074E-2},{"$f":"q!N94-q!N$14","v":6.6000000000000059E-2},{"$f":"q!O94-q!O$14","v":3.0000000000000027E-3},{"$f":"q!P94-q!P$14","v":3.3000000000000029E-2}]
[0.8,null,null,80,{"$f":"q!E95-q!E$15","v":2.0000000000000018E-2},{"$f":"q!F95-q!F$15","v":3.0000000000000027E-2},{"$f":"q!G95-q!G$15","v":-8.1999999999999962E-2},{"$f":"q!H95-q!H$15","v":-6.800000000000006E-2},{"$f":"q!I95-q!I$15","v":-4.8000000000000043E-2},{"$f":"q!J95-q!J$15","v":-9.6000000000000085E-2},{"$f":"q!K95-q!K$15","v":-0.20999999999999985},{"$f":"q!L95-q!L$15","v":0.26400000000000001},{"$f":"q!M95-q!M$15","v":-2.4000000000000021E-2},{"$f":"q!N95-q!N$15","v":1.4000000000000012E-2},{"$f":"q!O95-q!O$15","v":1.2000000000000011E-2},{"$f":"q!P95-q!P$15","v":8.6000000000000076E-2}]
[0.85,null,null,85,{"$f":"q!E96-q!E$16","v":2.3499999999999965E-2},{"$f":"q!F96-q!F$16","v":7.0000000000000007E-2},{"$f":"q!G96-q!G$16","v":-2.6499999999999968E-2},{"$f":"q!H96-q!H$16","v":-8.5499999999999798E-2},{"$f":"q!I96-q!I$16","v":-3.9500000000000091E-2},{"$f":"q!J96-q!J$16","v":0.15850000000000031},{"$f":"q!K96-q!K$16","v":-2.0000000000000018E-2},{"$f":"q!L96-q!L$16","v":9.6999999999999975E-2},{"$f":"q!M96-q!M$16","v":0},{"$f":"q!N96-q!N$16","v":2.949999999999986E-2},{"$f":"q!O96-q!O$16","v":2.3500000000000076E-2},{"$f":"q!P96-q!P$16","v":4.6499999999999875E-2}]
[0.9,null,null,90,{"$f":"q!E97-q!E$17","v":8.999999999999897E-3},{"$f":"q!F97-q!F$17","v":1.8000000000000405E-2},{"$f":"q!G97-q!G$17","v":-6.7999999999999838E-2},{"$f":"q!H97-q!H$17","v":-4.1000000000000036E-2},{"$f":"q!I97-q!I$17","v":4.0000000000002256E-3},{"$f":"q!J97-q!J$17","v":-0.29699999999999904},{"$f":"q!K97-q!K$17","v":-2.1000000000000019E-2},{"$f":"q!L97-q!L$17","v":1.5000000000000346E-2},{"$f":"q!M97-q!M$17","v":-9.000000000000008E-3},{"$f":"q!N97-q!N$17","v":3.0000000000001137E-3},{"$f":"q!O97-q!O$17","v":2.1000000000000019E-2},{"$f":"q!P97-q!P$17","v":0.15299999999999964}]
[0.95,null,null,95,{"$f":"q!E98-q!E$18","v":-3.8999999999999979E-2},{"$f":"q!F98-q!F$18","v":1.5500000000000069E-2},{"$f":"q!G98-q!G$18","v":-7.5500000000000123E-2},{"$f":"q!H98-q!H$18","v":1.7999999999999905E-2},{"$f":"q!I98-q!I$18","v":-1.5500000000000069E-2},{"$f":"q!J98-q!J$18","v":-0.10699999999999976},{"$f":"q!K98-q!K$18","v":0},{"$f":"q!L98-q!L$18","v":1.650000000000007E-2},{"$f":"q!M98-q!M$18","v":-4.4499999999999984E-2},{"$f":"q!N98-q!N$18","v":1.8999999999999906E-2},{"$f":"q!O98-q!O$18","v":8.1000000000000072E-2},{"$f":"q!P98-q!P$18","v":1.5500000000000069E-2}]
[0.99,null,null,99,{"$f":"q!E99-q!E$19","v":-3.370000000000023E-2},{"$f":"q!F99-q!F$19","v":4.3599999999999917E-2},{"$f":"q!G99-q!G$19","v":-7.5399999999999745E-2},{"$f":"q!H99-q!H$19","v":0},{"$f":"q!I99-q!I$19","v":0},{"$f":"q!J99-q!J$19","v":-0.16380000000000056},{"$f":"q!K99-q!K$19","v":0},{"$f":"q!L99-q!L$19","v":1.8000000000000238E-3},{"$f":"q!M99-q!M$19","v":0},{"$f":"q!N99-q!N$19","v":4.5500000000000151E-2},{"$f":"q!O99-q!O$19","v":4.5500000000000151E-2},{"$f":"q!P99-q!P$19","v":0}]
[0.99900000000000011,null,null,99.5,{"$f":"q!E100-q!E$20","v":3.0000000000000027E-2},{"$f":"q!F100-q!F$20","v":8.0000000000000016E-2},{"$f":"q!G100-q!G$20","v":-0.12999999999999995},{"$f":"q!H100-q!H$20","v":0},{"$f":"q!I100-q!I$20","v":0},{"$f":"q!J100-q!J$20","v":0},{"$f":"q!K100-q!K$20","v":0},{"$f":"q!L100-q!L$20","v":1.9999999999999907E-2},{"$f":"q!M100-q!M$20","v":0},{"$f":"q!N100-q!N$20","v":0},{"$f":"q!O100-q!O$20","v":0},{"$f":"q!P100-q!P$20","v":0}]
[]
[{"$f":"q!A102","v":"Sc 4A"}]
["Array Parameter",null,null,null,"Jan","Feb","Mar","Apr","May","Jun","Jul","Aug","Sep","Oct","Nov","Dec"]
[1E-3,null,null,0.1,{"$f":"q!E104-q!E$4","v":-17.420000000000002},{"$f":"q!F104-q!F$4","v":-1.3599999999999994},{"$f":"q!G104-q!G$4","v":-11.619999999999997},{"$f":"q!H104-q!H$4","v":-0.92000000000000171},{"$f":"q!I104-q!I$4","v":-0.84000000000000341},{"$f":"q!J104-q!J$4","v":-0.92000000000000171},{"$f":"q!K104-q!K$4","v":-0.89000000000000057},{"$f":"q!L104-q!L$4","v":-0.91999999999999993},{"$f":"q!M104-q!M$4","v":-0.88999999999999968},{"$f":"q!N104-q!N$4","v":-18.939999999999998},{"$f":"q!O104-q!O$4","v":-6.0299999999999994},{"$f":"q!P104-q!P$4","v":-7.64}]
[0.01,null,null,1,{"$f":"q!E105-q!E$5","v":-10.549999999999999},{"$f":"q!F105-q!F$5","v":-2.8299999999999996},{"$f":"q!G105-q!G$5","v":-25.229999999999997},{"$f":"q!H105-q!H$5","v":-0.92999999999999972},{"$f":"q!I105-q!I$5","v":-0.8399999999999892},{"$f":"q!J105-q!J$5","v":-0.92000000000000171},{"$f":"q!K105-q!K$5","v":-0.89999999999999858},{"$f":"q!L105-q!L$5","v":0.46000000000000085},{"$f":"q!M105-q!M$5","v":-0.88999999999999968},{"$f":"q!N105-q!N$5","v":-2.3000000000000003},{"$f":"q!O105-q!O$5","v":-4.84},{"$f":"q!P105-q!P$5","v":-7.5699999999999994}]
[0.05,null,null,5,{"$f":"q!E106-q!E$6","v":-2.6605000000000003},{"$f":"q!F106-q!F$6","v":-2.3534999999999999},{"$f":"q!G106-q!G$6","v":-4.4455000000000009},{"$f":"q!H106-q!H$6","v":-0.31799999999999784},{"$f":"q!I106-q!I$6","v":-0.83999999999999631},{"$f":"q!J106-q!J$6","v":-2.6525000000000034},{"$f":"q!K106-q!K$6","v":-0.90000000000000213},{"$f":"q!L106-q!L$6","v":-0.58599999999999941},{"$f":"q!M106-q!M$6","v":-1.0034999999999998},{"$f":"q!N106-q!N$6","v":-0.7995000000000001},{"$f":"q!O106-q!O$6","v":-1.0330000000000001},{"$f":"q!P106-q!P$6","v":-5.7290000000000001}]
[0.1,null,null,10,{"$f":"q!E107-q!E$7","v":-0.47},{"$f":"q!F107-q!F$7","v":-1.33},{"$f":"q!G107-q!G$7","v":-4.1120000000000001},{"$f":"q!H107-q!H$7","v":-2.0839999999999979},{"$f":"q!I107-q!I$7","v":-0.14799999999999613},{"$f":"q!J107-q!J$7","v":-2.0159999999999982},{"$f":"q!K107-q!K$7","v":-0.88999999999999879},{"$f":"q!L107-q!L$7","v":-0.8360000000000003},{"$f":"q!M107-q!M$7","v":-0.88999999999999968},{"$f":"q!N107-q!N$7","v":-0.86999999999999966},{"$f":"q!O107-q!O$7","v":-1.0250000000000001},{"$f":"q!P107-q!P$7","v":-2.6219999999999999}]
[0.15,null,null,15,{"$f":"q!E108-q!E$8","v":-0.46300000000000008},{"$f":"q!F108-q!F$8","v":-1.1865000000000001},{"$f":"q!G108-q!G$8","v":-2.8475000000000001},{"$f":"q!H108-q!H$8","v":-2.6984999999999992},{"$f":"q!I108-q!I$8","v":-1.0000000000012221E-3},{"$f":"q!J108-q!J$8","v":-2.8755000000000024},{"$f":"q!K108-q!K$8","v":-0.89649999999999963},{"$f":"q!L108-q!L$8","v":-1.1110000000000007},{"$f":"q!M108-q!M$8","v":-0.88999999999999968},{"$f":"q!N108-q!N$8","v":-0.98550000000000004},{"$f":"q!O108-q!O$8","v":-0.62399999999999989},{"$f":"q!P108-q!P$8","v":-1.5585000000000004}]
[0.2,null,null,20,{"$f":"q!E109-q!E$9","v":-0.3879999999999999},{"$f":"q!F109-q!F$9","v":-0.82000000000000028},{"$f":"q!G109-q!G$9","v":-1.7780000000000005},{"$f":"q!H109-q!H$9","v":-3.4400000000000031},{"$f":"q!I109-q!I$9","v":-0.17400000000000304},{"$f":"q!J109-q!J$9","v":-4.5879999999999974},{"$f":"q!K109-q!K$9","v":-1.2240000000000002},{"$f":"q!L109-q!L$9","v":-0.66000000000000014},{"$f":"q!M109-q!M$9","v":-0.89800000000000013},{"$f":"q!N109-q!N$9","v":-0.84600000000000031},{"$f":"q!O109-q!O$9","v":-0.50800000000000001},{"$f":"q!P109-q!P$9","v":-1.028}]
[0.3,null,null,30,{"$f":"q!E110-q!E$10","v":-0.29700000000000015},{"$f":"q!F110-q!F$10","v":-0.15000000000000013},{"$f":"q!G110-q!G$10","v":-1.1679999999999997},{"$f":"q!H110-q!H$10","v":-2.3140000000000001},{"$f":"q!I110-q!I$10","v":-2.3470000000000013},{"$f":"q!J110-q!J$10","v":-1.8669999999999991},{"$f":"q!K110-q!K$10","v":-1.3970000000000011},{"$f":"q!L110-q!L$10","v":-0.90700000000000003},{"$f":"q!M110-q!M$10","v":-1.115},{"$f":"q!N110-q!N$10","v":-0.90899999999999981},{"$f":"q!O110-q!O$10","v":-0.17399999999999993},{"$f":"q!P110-q!P$10","v":-0.42399999999999993}]
[0.4,null,null,40,{"$f":"q!E111-q!E$11","v":-0.24600000000000011},{"$f":"q!F111-q!F$11","v":-0.16999999999999993},{"$f":"q!G111-q!G$11","v":-0.69799999999999995},{"$f":"q!H111-q!H$11","v":-1.4480000000000004},{"$f":"q!I111-q!I$11","v":-0.78000000000000025},{"$f":"q!J111-q!J$11","v":-2.3599999999999994},{"$f":"q!K111-q!K$11","v":-1.33},{"$f":"q!L111-q!L$11","v":-0.96999999999999975},{"$f":"q!M111-q!M$11","v":-0.89000000000000012},{"$f":"q!N111-q!N$11","v":-0.97799999999999998},{"$f":"q!O111-q!O$11","v":-9.3999999999999972E-2},{"$f":"q!P111-q!P$11","v":-0.12999999999999989}]
[0.5,null,null,50,{"$f":"q!E112-q!E$12","v":-0.26500000000000001},{"$f":"q!F112-q!F$12","v":-7.0000000000000062E-2},{"$f":"q!G112-q!G$12","v":-0.63500000000000012},{"$f":"q!H112-q!H$12","v":-1.1400000000000001},{"$f":"q!I112-q!I$12","v":-0.50499999999999989},{"$f":"q!J112-q!J$12","v":-2.3599999999999994},{"$f":"q!K112-q!K$12","v":-0.93500000000000005},{"$f":"q!L112-q!L$12","v":-1.0499999999999998},{"$f":"q!M112-q!M$12","v":-0.755},{"$f":"q!N112-q!N$12","v":-0.81500000000000006},{"$f":"q!O112-q!O$12","v":-9.9999999999999978E-2},{"$f":"q!P112-q!P$12","v":-9.000000000000008E-2}]
[0.6,null,null,60,{"$f":"q!E113-q!E$13","v":-0.17000000000000004},{"$f":"q!F113-q!F$13","v":-4.4000000000000039E-2},{"$f":"q!G113-q!G$13","v":-0.52200000000000002},{"$f":"q!H113-q!H$13","v":-1.036},{"$f":"q!I113-q!I$13","v":-1.1619999999999999},{"$f":"q!J113-q!J$13","v":-1.9179999999999997},{"$f":"q!K113-q!K$13","v":-0.55000000000000004},{"$f":"q!L113-q!L$13","v":-0.998},{"$f":"q!M113-q!M$13","v":-0.21800000000000008},{"$f":"q!N113-q!N$13","v":-0.44799999999999995},{"$f":"q!O113-q!O$13","v":-4.9999999999999933E-2},{"$f":"q!P113-q!P$13","v":-8.9999999999999969E-2}]
[0.7,null,null,70,{"$f":"q!E114-q!E$14","v":-0.11699999999999999},{"$f":"q!F114-q!F$14","v":-2.7000000000000024E-2},{"$f":"q!G114-q!G$14","v":-0.28600000000000014},{"$f":"q!H114-q!H$14","v":-0.77600000000000002},{"$f":"q!I114-q!I$14","v":-0.67800000000000038},{"$f":"q!J114-q!J$14","v":-1.4640000000000004},{"$f":"q!K114-q!K$14","v":-0.85000000000000009},{"$f":"q!L114-q!L$14","v":-0.68700000000000017},{"$f":"q!M114-q!M$14","v":-0.12},{"$f":"q!N114-q!N$14","v":-0.31699999999999995},{"$f":"q!O114-q!O$14","v":-2.0000000000000018E-2},{"$f":"q!P114-q!P$14","v":-0.13700000000000001}]
[0.8,null,null,80,{"$f":"q!E115-q!E$15","v":-8.3999999999999964E-2},{"$f":"q!F115-q!F$15","v":-8.0000000000000071E-3},{"$f":"q!G115-q!G$15","v":-0.17200000000000004},{"$f":"q!H115-q!H$15","v":-0.378},{"$f":"q!I115-q!I$15","v":-0.56000000000000005},{"$f":"q!J115-q!J$15","v":-1.3480000000000001},{"$f":"q!K115-q!K$15","v":-0.44599999999999995},{"$f":"q!L115-q!L$15","v":-0.40599999999999992},{"$f":"q!M115-q!M$15","v":-4.0000000000000036E-2},{"$f":"q!N115-q!N$15","v":-0.18000000000000005},{"$f":"q!O115-q!O$15","v":0},{"$f":"q!P115-q!P$15","v":-6.9999999999999951E-2}]
[0.85,null,null,85,{"$f":"q!E116-q!E$16","v":-6.9499999999999951E-2},{"$f":"q!F116-q!F$16","v":8.9999999999997859E-3},{"$f":"q!G116-q!G$16","v":-7.2999999999999843E-2},{"$f":"q!H116-q!H$16","v":-0.30899999999999983},{"$f":"q!I116-q!I$16","v":-0.39899999999999991},{"$f":"q!J116-q!J$16","v":-1.0284999999999995},{"$f":"q!K116-q!K$16","v":-0.16299999999999992},{"$f":"q!L116-q!L$16","v":-0.39899999999999991},{"$f":"q!M116-q!M$16","v":-1.3500000000000068E-2},{"$f":"q!N116-q!N$16","v":-0.1170000000000001},{"$f":"q!O116-q!O$16","v":-1.6499999999999959E-2},{"$f":"q!P116-q!P$16","v":-0.11949999999999994}]
[0.9,null,null,90,{"$f":"q!E117-q!E$17","v":-5.7999999999999885E-2},{"$f":"q!F117-q!F$17","v":-3.8999999999999924E-2},{"$f":"q!G117-q!G$17","v":-0.12599999999999978},{"$f":"q!H117-q!H$17","v":-0.23400000000000021},{"$f":"q!I117-q!I$17","v":-0.20999999999999941},{"$f":"q!J117-q!J$17","v":-1.0899999999999994},{"$f":"q!K117-q!K$17","v":-0.13},{"$f":"q!L117-q!L$17","v":-0.31999999999999995},{"$f":"q!M117-q!M$17","v":-5.5999999999999717E-2},{"$f":"q!N117-q!N$17","v":-8.9999999999999969E-2},{"$f":"q!O117-q!O$17","v":-4.8999999999999932E-2},{"$f":"q!P117-q!P$17","v":2.8999999999999471E-2}]
[0.95,null,null,95,{"$f":"q!E118-q!E$18","v":-7.8999999999999959E-2},{"$f":"q!F118-q!F$18","v":-9.9999999999999534E-3},{"$f":"q!G118-q!G$18","v":-0.11899999999999999},{"$f":"q!H118-q!H$18","v":-6.5500000000000058E-2},{"$f":"q!I118-q!I$18","v":-3.4500000000000031E-2},{"$f":"q!J118-q!J$18","v":-0.66549999999999998},{"$f":"q!K118-q!K$18","v":-0.1120000000000001},{"$f":"q!L118-q!L$18","v":-0.17449999999999999},{"$f":"q!M118-q!M$18","v":-7.4500000000000011E-2},{"$f":"q!N118-q!N$18","v":-9.6500000000000141E-2},{"$f":"q!O118-q!O$18","v":-3.5500000000000032E-2},{"$f":"q!P118-q!P$18","v":5.5000000000000604E-3}]
[0.99,null,null,99,{"$f":"q!E119-q!E$19","v":-6.3700000000000201E-2},{"$f":"q!F119-q!F$19","v":-2.7300000000000046E-2},{"$f":"q!G119-q!G$19","v":-0.1908999999999999},{"$f":"q!H119-q!H$19","v":-5.6400000000000117E-2},{"$f":"q!I119-q!I$19","v":0},{"$f":"q!J119-q!J$19","v":-0.12380000000000058},{"$f":"q!K119-q!K$19","v":0},{"$f":"q!L119-q!L$19","v":-0.19640000000000007},{"$f":"q!M119-q!M$19","v":-5.9100000000000041E-2},{"$f":"q!N119-q!N$19","v":0},{"$f":"q!O119-q!O$19","v":-3.6400000000000099E-2},{"$f":"q!P119-q!P$19","v":0}]
[0.99900000000000011,null,null,99.5,{"$f":"q!E120-q!E$20","v":0},{"$f":"q!F120-q!F$20","v":0},{"$f":"q!G120-q!G$20","v":-0.19999999999999996},{"$f":"q!H120-q!H$20","v":-2.0000000000000018E-2},{"$f":"q!I120-q!I$20","v":0},{"$f":"q!J120-q!J$20","v":3.999999999999998E-2},{"$f":"q!K120-q!K$20","v":0},{"$f":"q!L120-q!L$20","v":-0.16000000000000003},{"$f":"q!M120-q!M$20","v":-4.9999999999999989E-2},{"$f":"q!N120-q!N$20","v":0},{"$f":"q!O120-q!O$20","v":0},{"$f":"q!P120-q!P$20","v":0}]
[]
[{"$f":"q!A122","v":"Sc 4B"}]
["Array Parameter",null,null,null,"Jan","Feb","Mar","Apr","May","Jun","Jul","Aug","Sep","Oct","Nov","Dec"]
[1E-3,null,null,0.1,{"$f":"q!E124-q!E$4","v":-11.98},{"$f":"q!F124-q!F$4","v":-1.4399999999999995},{"$f":"q!G124-q!G$4","v":-11.79},{"$f":"q!H124-q!H$4","v":-1.4399999999999977},{"$f":"q!I124-q!I$4","v":-1.3500000000000085},{"$f":"q!J124-q!J$4","v":-1.0099999999999909},{"$f":"q!K124-q!K$4","v":-0.98999999999999488},{"$f":"q!L124-q!L$4","v":-1.0399999999999991},{"$f":"q!M124-q!M$4","v":-0.98999999999999932},{"$f":"q!N124-q!N$4","v":-19.979999999999997},{"$f":"q!O124-q!O$4","v":-5.8999999999999986},{"$f":"q!P124-q!P$4","v":-5.72}]
[0.01,null,null,1,{"$f":"q!E125-q!E$5","v":-9.2999999999999989},{"$f":"q!F125-q!F$5","v":-2.9199999999999995},{"$f":"q!G125-q!G$5","v":-25.269999999999996},{"$f":"q!H125-q!H$5","v":-1.5},{"$f":"q!I125-q!I$5","v":-1.3399999999999892},{"$f":"q!J125-q!J$5","v":-1},{"$f":"q!K125-q!K$5","v":-1},{"$f":"q!L125-q!L$5","v":0.3100000000000005},{"$f":"q!M125-q!M$5","v":-0.96},{"$f":"q!N125-q!N$5","v":-2.8600000000000003},{"$f":"q!O125-q!O$5","v":-4.8100000000000005},{"$f":"q!P125-q!P$5","v":-7.56}]
[0.05,null,null,5,{"$f":"q!E126-q!E$6","v":-2.5635000000000003},{"$f":"q!F126-q!F$6","v":-2.512},{"$f":"q!G126-q!G$6","v":-4.6565000000000003},{"$f":"q!H126-q!H$6","v":-1.004999999999999},{"$f":"q!I126-q!I$6","v":-1.0964999999999989},{"$f":"q!J126-q!J$6","v":-3.3739999999999952},{"$f":"q!K126-q!K$6","v":-1.0045000000000002},{"$f":"q!L126-q!L$6","v":-0.83449999999999935},{"$f":"q!M126-q!M$6","v":-1.0190000000000001},{"$f":"q!N126-q!N$6","v":-1.1255000000000002},{"$f":"q!O126-q!O$6","v":-1.0205},{"$f":"q!P126-q!P$6","v":-5.718}]
[0.1,null,null,10,{"$f":"q!E127-q!E$7","v":-0.43099999999999983},{"$f":"q!F127-q!F$7","v":-1.1540000000000001},{"$f":"q!G127-q!G$7","v":-4.6590000000000007},{"$f":"q!H127-q!H$7","v":-2.0939999999999976},{"$f":"q!I127-q!I$7","v":-0.50900000000000034},{"$f":"q!J127-q!J$7","v":-2.1159999999999997},{"$f":"q!K127-q!K$7","v":-1.0199999999999996},{"$f":"q!L127-q!L$7","v":-1.0579999999999998},{"$f":"q!M127-q!M$7","v":-0.89099999999999957},{"$f":"q!N127-q!N$7","v":-1.355},{"$f":"q!O127-q!O$7","v":-0.9930000000000001},{"$f":"q!P127-q!P$7","v":-2.6190000000000002}]
[0.15,null,null,15,{"$f":"q!E128-q!E$8","v":-0.42999999999999994},{"$f":"q!F128-q!F$8","v":-1.2710000000000001},{"$f":"q!G128-q!G$8","v":-2.9299999999999997},{"$f":"q!H128-q!H$8","v":-3.1514999999999986},{"$f":"q!I128-q!I$8","v":-0.51750000000000185},{"$f":"q!J128-q!J$8","v":-4.1180000000000021},{"$f":"q!K128-q!K$8","v":-1.0199999999999996},{"$f":"q!L128-q!L$8","v":-0.90500000000000025},{"$f":"q!M128-q!M$8","v":-0.89999999999999991},{"$f":"q!N128-q!N$8","v":-1.1175000000000002},{"$f":"q!O128-q!O$8","v":-0.5844999999999998},{"$f":"q!P128-q!P$8","v":-1.5350000000000004}]
[0.2,null,null,20,{"$f":"q!E129-q!E$9","v":-0.3640000000000001},{"$f":"q!F129-q!F$9","v":-0.83200000000000029},{"$f":"q!G129-q!G$9","v":-1.9460000000000002},{"$f":"q!H129-q!H$9","v":-3.6280000000000019},{"$f":"q!I129-q!I$9","v":-0.43000000000000327},{"$f":"q!J129-q!J$9","v":-4.5939999999999976},{"$f":"q!K129-q!K$9","v":-2.1720000000000006},{"$f":"q!L129-q!L$9","v":-0.68799999999999972},{"$f":"q!M129-q!M$9","v":-0.89800000000000013},{"$f":"q!N129-q!N$9","v":-1.0600000000000005},{"$f":"q!O129-q!O$9","v":-0.496},{"$f":"q!P129-q!P$9","v":-1.01}]
[0.3,null,null,30,{"$f":"q!E130-q!E$10","v":-0.26700000000000013},{"$f":"q!F130-q!F$10","v":-0.15300000000000014},{"$f":"q!G130-q!G$10","v":-1.2639999999999996},{"$f":"q!H130-q!H$10","v":-2.75},{"$f":"q!I130-q!I$10","v":-2.3700000000000028},{"$f":"q!J130-q!J$10","v":-2.5829999999999984},{"$f":"q!K130-q!K$10","v":-1.4070000000000009},{"$f":"q!L130-q!L$10","v":-0.93599999999999994},{"$f":"q!M130-q!M$10","v":-1.115},{"$f":"q!N130-q!N$10","v":-1.0209999999999999},{"$f":"q!O130-q!O$10","v":-0.17399999999999993},{"$f":"q!P130-q!P$10","v":-0.42399999999999993}]
[0.4,null,null,40,{"$f":"q!E131-q!E$11","v":-0.22200000000000009},{"$f":"q!F131-q!F$11","v":-0.17599999999999993},{"$f":"q!G131-q!G$11","v":-0.66599999999999993},{"$f":"q!H131-q!H$11","v":-1.52},{"$f":"q!I131-q!I$11","v":-1.3920000000000003},{"$f":"q!J131-q!J$11","v":-3.1360000000000001},{"$f":"q!K131-q!K$11","v":-1.7080000000000002},{"$f":"q!L131-q!L$11","v":-1.0739999999999998},{"$f":"q!M131-q!M$11","v":-0.83600000000000008},{"$f":"q!N131-q!N$11","v":-1.036},{"$f":"q!O131-q!O$11","v":-0.11399999999999999},{"$f":"q!P131-q!P$11","v":-0.12599999999999989}]
[0.5,null,null,50,{"$f":"q!E132-q!E$12","v":-0.22499999999999998},{"$f":"q!F132-q!F$12","v":-9.9999999999999978E-2},{"$f":"q!G132-q!G$12","v":-0.63500000000000012},{"$f":"q!H132-q!H$12","v":-1.2649999999999999},{"$f":"q!I132-q!I$12","v":-0.73},{"$f":"q!J132-q!J$12","v":-2.5350000000000001},{"$f":"q!K132-q!K$12","v":-1.0900000000000003},{"$f":"q!L132-q!L$12","v":-1.1299999999999997},{"$f":"q!M132-q!M$12","v":-0.70000000000000007},{"$f":"q!N132-q!N$12","v":-0.84},{"$f":"q!O132-q!O$12","v":-0.12},{"$f":"q!P132-q!P$12","v":-8.5000000000000075E-2}]
[0.6,null,null,60,{"$f":"q!E133-q!E$13","v":-0.17599999999999993},{"$f":"q!F133-q!F$13","v":-4.4000000000000039E-2},{"$f":"q!G133-q!G$13","v":-0.51600000000000001},{"$f":"q!H133-q!H$13","v":-1.0840000000000001},{"$f":"q!I133-q!I$13","v":-1.1619999999999999},{"$f":"q!J133-q!J$13","v":-1.8219999999999996},{"$f":"q!K133-q!K$13","v":-0.60199999999999987},{"$f":"q!L133-q!L$13","v":-0.998},{"$f":"q!M133-q!M$13","v":-0.21000000000000008},{"$f":"q!N133-q!N$13","v":-0.49399999999999999},{"$f":"q!O133-q!O$13","v":-5.9999999999999942E-2},{"$f":"q!P133-q!P$13","v":-0.10199999999999998}]
[0.7,null,null,70,{"$f":"q!E134-q!E$14","v":-0.15399999999999991},{"$f":"q!F134-q!F$14","v":-3.6999999999999922E-2},{"$f":"q!G134-q!G$14","v":-0.28600000000000014},{"$f":"q!H134-q!H$14","v":-0.77900000000000003},{"$f":"q!I134-q!I$14","v":-0.73100000000000032},{"$f":"q!J134-q!J$14","v":-1.4640000000000004},{"$f":"q!K134-q!K$14","v":-0.83300000000000007},{"$f":"q!L134-q!L$14","v":-0.61000000000000021},{"$f":"q!M134-q!M$14","v":-0.10999999999999999},{"$f":"q!N134-q!N$14","v":-0.34699999999999998},{"$f":"q!O134-q!O$14","v":-5.0000000000000044E-2},{"$f":"q!P134-q!P$14","v":-0.16700000000000004}]
[0.8,null,null,80,{"$f":"q!E135-q!E$15","v":-0.12399999999999994},{"$f":"q!F135-q!F$15","v":-1.4000000000000012E-2},{"$f":"q!G135-q!G$15","v":-0.18000000000000005},{"$f":"q!H135-q!H$15","v":-0.35400000000000009},{"$f":"q!I135-q!I$15","v":-0.59200000000000008},{"$f":"q!J135-q!J$15","v":-1.3900000000000001},{"$f":"q!K135-q!K$15","v":-0.44399999999999995},{"$f":"q!L135-q!L$15","v":-0.3899999999999999},{"$f":"q!M135-q!M$15","v":-3.8000000000000034E-2},{"$f":"q!N135-q!N$15","v":-0.18000000000000005},{"$f":"q!O135-q!O$15","v":-6.7999999999999949E-2},{"$f":"q!P135-q!P$15","v":-0.16599999999999993}]
[0.85,null,null,85,{"$f":"q!E136-q!E$16","v":-0.13300000000000001},{"$f":"q!F136-q!F$16","v":2.4999999999997802E-3},{"$f":"q!G136-q!G$16","v":-9.2999999999999861E-2},{"$f":"q!H136-q!H$16","v":-0.25149999999999961},{"$f":"q!I136-q!I$16","v":-0.34600000000000009},{"$f":"q!J136-q!J$16","v":-0.91849999999999943},{"$f":"q!K136-q!K$16","v":-0.15299999999999991},{"$f":"q!L136-q!L$16","v":-0.3889999999999999},{"$f":"q!M136-q!M$16","v":-7.0000000000001172E-3},{"$f":"q!N136-q!N$16","v":-0.1170000000000001},{"$f":"q!O136-q!O$16","v":-7.999999999999996E-2},{"$f":"q!P136-q!P$16","v":-0.13300000000000001}]
[0.9,null,null,90,{"$f":"q!E137-q!E$17","v":-9.1000000000000081E-2},{"$f":"q!F137-q!F$17","v":-1.7999999999999849E-2},{"$f":"q!G137-q!G$17","v":-0.1379999999999999},{"$f":"q!H137-q!H$17","v":-0.18500000000000016},{"$f":"q!I137-q!I$17","v":-0.1379999999999999},{"$f":"q!J137-q!J$17","v":-0.92299999999999971},{"$f":"q!K137-q!K$17","v":-8.8999999999999968E-2},{"$f":"q!L137-q!L$17","v":-0.30099999999999993},{"$f":"q!M137-q!M$17","v":-5.6999999999999829E-2},{"$f":"q!N137-q!N$17","v":-9.8999999999999977E-2},{"$f":"q!O137-q!O$17","v":-0.15999999999999992},{"$f":"q!P137-q!P$17","v":-7.0000000000003393E-3}]
[0.95,null,null,95,{"$f":"q!E138-q!E$18","v":-7.4500000000000011E-2},{"$f":"q!F138-q!F$18","v":-4.4999999999999485E-3},{"$f":"q!G138-q!G$18","v":-0.16000000000000003},{"$f":"q!H138-q!H$18","v":-2.2000000000000131E-2},{"$f":"q!I138-q!I$18","v":-1.1000000000000121E-2},{"$f":"q!J138-q!J$18","v":-0.58899999999999986},{"$f":"q!K138-q!K$18","v":-9.2000000000000082E-2},{"$f":"q!L138-q!L$18","v":-0.15449999999999997},{"$f":"q!M138-q!M$18","v":-7.4500000000000011E-2},{"$f":"q!N138-q!N$18","v":-9.6500000000000141E-2},{"$f":"q!O138-q!O$18","v":-7.6500000000000068E-2},{"$f":"q!P138-q!P$18","v":5.5000000000000604E-3}]
[0.99,null,null,99,{"$f":"q!E139-q!E$19","v":-4.7300000000000064E-2},{"$f":"q!F139-q!F$19","v":3.5999999999998811E-3},{"$f":"q!G139-q!G$19","v":-0.1908999999999999},{"$f":"q!H139-q!H$19","v":-5.6400000000000117E-2},{"$f":"q!I139-q!I$19","v":3.7300000000000166E-2},{"$f":"q!J139-q!J$19","v":-0.11470000000000052},{"$f":"q!K139-q!K$19","v":0},{"$f":"q!L139-q!L$19","v":-0.19550000000000012},{"$f":"q!M139-q!M$19","v":-5.9100000000000041E-2},{"$f":"q!N139-q!N$19","v":0},{"$f":"q!O139-q!O$19","v":-3.6400000000000099E-2},{"$f":"q!P139-q!P$19","v":0}]
[0.99900000000000011,null,null,99.5,{"$f":"q!E140-q!E$20","v":-1.999999999999999E-2},{"$f":"q!F140-q!F$20","v":3.999999999999998E-2},{"$f":"q!G140-q!G$20","v":-0.19999999999999996},{"$f":"q!H140-q!H$20","v":-2.0000000000000018E-2},{"$f":"q!I140-q!I$20","v":1.0000000000000009E-2},{"$f":"q!J140-q!J$20","v":3.999999999999998E-2},{"$f":"q!K140-q!K$20","v":0},{"$f":"q!L140-q!L$20","v":-0.15000000000000008},{"$f":"q!M140-q!M$20","v":-4.9999999999999989E-2},{"$f":"q!N140-q!N$20","v":0},{"$f":"q!O140-q!O$20","v":0},{"$f":"q!P140-q!P$20","v":0}]
[]
[{"$f":"q!A142","v":"Sc 7"}]
["Array Parameter",null,null,null,"Jan","Feb","Mar","Apr","May","Jun","Jul","Aug","Sep","Oct","Nov","Dec"]
[1E-3,null,null,0.1,{"$f":"q!E144-q!E$4","v":-18.350000000000001},{"$f":"q!F144-q!F$4","v":-1.5999999999999996},{"$f":"q!G144-q!G$4","v":-11.79},{"$f":"q!H144-q!H$4","v":-1.4399999999999977},{"$f":"q!I144-q!I$4","v":-1.3500000000000085},{"$f":"q!J144-q!J$4","v":-1.0099999999999909},{"$f":"q!K144-q!K$4","v":-0.98999999999999488},{"$f":"q!L144-q!L$4","v":-1.0399999999999991},{"$f":"q!M144-q!M$4","v":-0.98999999999999932},{"$f":"q!N144-q!N$4","v":-18.549999999999997},{"$f":"q!O144-q!O$4","v":-6.0299999999999994},{"$f":"q!P144-q!P$4","v":-5.5499999999999989}]
[0.01,null,null,1,{"$f":"q!E145-q!E$5","v":-10.18},{"$f":"q!F145-q!F$5","v":-2.9199999999999995},{"$f":"q!G145-q!G$5","v":-25.269999999999996},{"$f":"q!H145-q!H$5","v":-1.5},{"$f":"q!I145-q!I$5","v":-1.3399999999999892},{"$f":"q!J145-q!J$5","v":-1},{"$f":"q!K145-q!K$5","v":-1},{"$f":"q!L145-q!L$5","v":0.75},{"$f":"q!M145-q!M$5","v":-0.96},{"$f":"q!N145-q!N$5","v":-2.5700000000000003},{"$f":"q!O145-q!O$5","v":-4.8499999999999996},{"$f":"q!P145-q!P$5","v":-6.16}]
[0.05,null,null,5,{"$f":"q!E146-q!E$6","v":-2.58},{"$f":"q!F146-q!F$6","v":-3.375},{"$f":"q!G146-q!G$6","v":-4.6565000000000003},{"$f":"q!H146-q!H$6","v":-1.004999999999999},{"$f":"q!I146-q!I$6","v":-1.0964999999999989},{"$f":"q!J146-q!J$6","v":-3},{"$f":"q!K146-q!K$6","v":-1.0045000000000002},{"$f":"q!L146-q!L$6","v":-0.52099999999999902},{"$f":"q!M146-q!M$6","v":-1.085},{"$f":"q!N146-q!N$6","v":-0.72500000000000009},{"$f":"q!O146-q!O$6","v":-1.4284999999999999},{"$f":"q!P146-q!P$6","v":-5.718}]
[0.1,null,null,10,{"$f":"q!E147-q!E$7","v":-0.52400000000000002},{"$f":"q!F147-q!F$7","v":-1.423},{"$f":"q!G147-q!G$7","v":-4.6590000000000007},{"$f":"q!H147-q!H$7","v":-2.0939999999999976},{"$f":"q!I147-q!I$7","v":-3.8299999999999983},{"$f":"q!J147-q!J$7","v":-1.4520000000000053},{"$f":"q!K147-q!K$7","v":-1.0199999999999996},{"$f":"q!L147-q!L$7","v":-1.0200000000000005},{"$f":"q!M147-q!M$7","v":-0.89099999999999957},{"$f":"q!N147-q!N$7","v":-0.91499999999999959},{"$f":"q!O147-q!O$7","v":-1.1000000000000001},{"$f":"q!P147-q!P$7","v":-2.6190000000000002}]
[0.15,null,null,15,{"$f":"q!E148-q!E$8","v":-0.44350000000000001},{"$f":"q!F148-q!F$8","v":-1.3045000000000002},{"$f":"q!G148-q!G$8","v":-3.0230000000000001},{"$f":"q!H148-q!H$8","v":-2.2315000000000005},{"$f":"q!I148-q!I$8","v":-1.2900000000000027},{"$f":"q!J148-q!J$8","v":-2.3344999999999985},{"$f":"q!K148-q!K$8","v":-1.0199999999999996},{"$f":"q!L148-q!L$8","v":-1.2910000000000004},{"$f":"q!M148-q!M$8","v":-0.89999999999999991},{"$f":"q!N148-q!N$8","v":-1.0489999999999999},{"$f":"q!O148-q!O$8","v":-0.62399999999999989},{"$f":"q!P148-q!P$8","v":-1.5285000000000004}]
[0.2,null,null,20,{"$f":"q!E149-q!E$9","v":-0.3839999999999999},{"$f":"q!F149-q!F$9","v":-0.86000000000000032},{"$f":"q!G149-q!G$9","v":-2.1480000000000006},{"$f":"q!H149-q!H$9","v":-3.6260000000000012},{"$f":"q!I149-q!I$9","v":-0.62400000000000233},{"$f":"q!J149-q!J$9","v":-3.1699999999999982},{"$f":"q!K149-q!K$9","v":-1.1639999999999997},{"$f":"q!L149-q!L$9","v":-1.0880000000000001},{"$f":"q!M149-q!M$9","v":-0.90400000000000014},{"$f":"q!N149-q!N$9","v":-1.0920000000000003},{"$f":"q!O149-q!O$9","v":-0.51600000000000001},{"$f":"q!P149-q!P$9","v":-1}]
[0.3,null,null,30,{"$f":"q!E150-q!E$10","v":-0.27000000000000013},{"$f":"q!F150-q!F$10","v":-0.25000000000000022},{"$f":"q!G150-q!G$10","v":-1.5599999999999998},{"$f":"q!H150-q!H$10","v":-2.4119999999999999},{"$f":"q!I150-q!I$10","v":-1.1290000000000013},{"$f":"q!J150-q!J$10","v":-2.780999999999997},{"$f":"q!K150-q!K$10","v":-1.4140000000000006},{"$f":"q!L150-q!L$10","v":-0.96700000000000008},{"$f":"q!M150-q!M$10","v":-0.93299999999999983},{"$f":"q!N150-q!N$10","v":-1.0699999999999998},{"$f":"q!O150-q!O$10","v":-0.17399999999999993},{"$f":"q!P150-q!P$10","v":-0.40700000000000003}]
[0.4,null,null,40,{"$f":"q!E151-q!E$11","v":-0.26800000000000013},{"$f":"q!F151-q!F$11","v":-0.22599999999999998},{"$f":"q!G151-q!G$11","v":-0.996},{"$f":"q!H151-q!H$11","v":-1.5560000000000005},{"$f":"q!I151-q!I$11","v":-1.3419999999999996},{"$f":"q!J151-q!J$11","v":-3.3639999999999999},{"$f":"q!K151-q!K$11","v":-1.6900000000000004},{"$f":"q!L151-q!L$11","v":-0.92200000000000015},{"$f":"q!M151-q!M$11","v":-0.83200000000000007},{"$f":"q!N151-q!N$11","v":-1.0219999999999998},{"$f":"q!O151-q!O$11","v":-0.14400000000000002},{"$f":"q!P151-q!P$11","v":-0.11999999999999988}]
[0.5,null,null,50,{"$f":"q!E152-q!E$12","v":-0.27},{"$f":"q!F152-q!F$12","v":-0.12},{"$f":"q!G152-q!G$12","v":-0.76500000000000012},{"$f":"q!H152-q!H$12","v":-1.67},{"$f":"q!I152-q!I$12","v":-0.96499999999999986},{"$f":"q!J152-q!J$12","v":-3.69},{"$f":"q!K152-q!K$12","v":-1.155},{"$f":"q!L152-q!L$12","v":-1.1299999999999997},{"$f":"q!M152-q!M$12","v":-0.66500000000000004},{"$f":"q!N152-q!N$12","v":-0.82499999999999996},{"$f":"q!O152-q!O$12","v":-0.12999999999999989},{"$f":"q!P152-q!P$12","v":-7.5000000000000067E-2}]
[0.6,null,null,60,{"$f":"q!E153-q!E$13","v":-0.22999999999999998},{"$f":"q!F153-q!F$13","v":-7.0000000000000062E-2},{"$f":"q!G153-q!G$13","v":-0.52},{"$f":"q!H153-q!H$13","v":-1.1499999999999999},{"$f":"q!I153-q!I$13","v":-1.21},{"$f":"q!J153-q!J$13","v":-2.0059999999999998},{"$f":"q!K153-q!K$13","v":-0.66199999999999992},{"$f":"q!L153-q!L$13","v":-1.054},{"$f":"q!M153-q!M$13","v":-0.19400000000000006},{"$f":"q!N153-q!N$13","v":-0.48799999999999999},{"$f":"q!O153-q!O$13","v":-6.5999999999999948E-2},{"$f":"q!P153-q!P$13","v":-0.10199999999999998}]
[0.7,null,null,70,{"$f":"q!E154-q!E$14","v":-0.15999999999999992},{"$f":"q!F154-q!F$14","v":-3.9999999999999925E-2},{"$f":"q!G154-q!G$14","v":-0.29200000000000015},{"$f":"q!H154-q!H$14","v":-0.81200000000000006},{"$f":"q!I154-q!I$14","v":-0.80200000000000027},{"$f":"q!J154-q!J$14","v":-1.9550000000000003},{"$f":"q!K154-q!K$14","v":-0.83300000000000007},{"$f":"q!L154-q!L$14","v":-0.68000000000000016},{"$f":"q!M154-q!M$14","v":-8.9999999999999969E-2},{"$f":"q!N154-q!N$14","v":-0.33699999999999997},{"$f":"q!O154-q!O$14","v":-5.0000000000000044E-2},{"$f":"q!P154-q!P$14","v":-0.18099999999999994}]
[0.8,null,null,80,{"$f":"q!E155-q!E$15","v":-0.11999999999999994},{"$f":"q!F155-q!F$15","v":-2.8000000000000025E-2},{"$f":"q!G155-q!G$15","v":-0.18200000000000005},{"$f":"q!H155-q!H$15","v":-0.38800000000000001},{"$f":"q!I155-q!I$15","v":-0.62600000000000011},{"$f":"q!J155-q!J$15","v":-1.5820000000000003},{"$f":"q!K155-q!K$15","v":-0.44399999999999995},{"$f":"q!L155-q!L$15","v":-0.40599999999999992},{"$f":"q!M155-q!M$15","v":0},{"$f":"q!N155-q!N$15","v":-0.17800000000000005},{"$f":"q!O155-q!O$15","v":-6.7999999999999949E-2},{"$f":"q!P155-q!P$15","v":-0.16999999999999993}]
[0.85,null,null,85,{"$f":"q!E156-q!E$16","v":-0.13300000000000001},{"$f":"q!F156-q!F$16","v":-4.0000000000000036E-2},{"$f":"q!G156-q!G$16","v":-9.6499999999999919E-2},{"$f":"q!H156-q!H$16","v":-0.27849999999999975},{"$f":"q!I156-q!I$16","v":-0.35899999999999999},{"$f":"q!J156-q!J$16","v":-1.0779999999999994},{"$f":"q!K156-q!K$16","v":-0.15649999999999997},{"$f":"q!L156-q!L$16","v":-0.38549999999999984},{"$f":"q!M156-q!M$16","v":0},{"$f":"q!N156-q!N$16","v":-9.000000000000008E-2},{"$f":"q!O156-q!O$16","v":-9.3500000000000028E-2},{"$f":"q!P156-q!P$16","v":-0.16000000000000003}]
[0.9,null,null,90,{"$f":"q!E157-q!E$17","v":-0.10100000000000009},{"$f":"q!F157-q!F$17","v":-4.9999999999999989E-2},{"$f":"q!G157-q!G$17","v":-0.13899999999999996},{"$f":"q!H157-q!H$17","v":-0.20500000000000018},{"$f":"q!I157-q!I$17","v":-0.20999999999999941},{"$f":"q!J157-q!J$17","v":-1.0719999999999996},{"$f":"q!K157-q!K$17","v":-0.12899999999999989},{"$f":"q!L157-q!L$17","v":-0.31899999999999984},{"$f":"q!M157-q!M$17","v":-9.000000000000008E-3},{"$f":"q!N157-q!N$17","v":-7.999999999999996E-2},{"$f":"q!O157-q!O$17","v":-0.16899999999999993},{"$f":"q!P157-q!P$17","v":-3.0000000000000471E-2}]
[0.95,null,null,95,{"$f":"q!E158-q!E$18","v":-0.06},{"$f":"q!F158-q!F$18","v":-3.999999999999998E-2},{"$f":"q!G158-q!G$18","v":-0.16000000000000003},{"$f":"q!H158-q!H$18","v":-7.5500000000000067E-2},{"$f":"q!I158-q!I$18","v":-1.1000000000000121E-2},{"$f":"q!J158-q!J$18","v":-0.63249999999999973},{"$f":"q!K158-q!K$18","v":-0.10200000000000009},{"$f":"q!L158-q!L$18","v":-0.17449999999999999},{"$f":"q!M158-q!M$18","v":-4.8999999999999988E-2},{"$f":"q!N158-q!N$18","v":-9.6500000000000141E-2},{"$f":"q!O158-q!O$18","v":-7.6500000000000068E-2},{"$f":"q!P158-q!P$18","v":0}]
[0.99,null,null,99,{"$f":"q!E159-q!E$19","v":-4.2800000000000227E-2},{"$f":"q!F159-q!F$19","v":-6.4000000000001278E-3},{"$f":"q!G159-q!G$19","v":-0.1908999999999999},{"$f":"q!H159-q!H$19","v":-5.8200000000000029E-2},{"$f":"q!I159-q!I$19","v":3.7300000000000166E-2},{"$f":"q!J159-q!J$19","v":-0.11470000000000052},{"$f":"q!K159-q!K$19","v":0},{"$f":"q!L159-q!L$19","v":-0.19550000000000012},{"$f":"q!M159-q!M$19","v":-5.9100000000000041E-2},{"$f":"q!N159-q!N$19","v":0},{"$f":"q!O159-q!O$19","v":-3.6400000000000099E-2},{"$f":"q!P159-q!P$19","v":0}]
[0.99900000000000011,null,null,99.5,{"$f":"q!E160-q!E$20","v":3.0000000000000027E-2},{"$f":"q!F160-q!F$20","v":3.0000000000000027E-2},{"$f":"q!G160-q!G$20","v":-0.19999999999999996},{"$f":"q!H160-q!H$20","v":-3.999999999999998E-2},{"$f":"q!I160-q!I$20","v":1.0000000000000009E-2},{"$f":"q!J160-q!J$20","v":3.999999999999998E-2},{"$f":"q!K160-q!K$20","v":0},{"$f":"q!L160-q!L$20","v":-0.15000000000000008},{"$f":"q!M160-q!M$20","v":-4.9999999999999989E-2},{"$f":"q!N160-q!N$20","v":0},{"$f":"q!O160-q!O$20","v":0},{"$f":"q!P160-q!P$20","v":0}]

{"sheet":"GRAPHS","index":2,"n_rows":67,"n_cols":10,"rows_kept":67,"cut":false,"hidden":false,"merged":[]}
[]
[]
[]
[]
[]
[]
[]
[]
[]
[]
[]
[]
[]
[]
[]
[null,null,{"$f":"change!A2","v":"PRESENT DAY"},null,null,null,null,null,null,{"$f":"q!A22","v":"NATURAL"}]
[]
[]
[]
[]
[]
[]
[]
[]
[]
[]
[]
[]
[]
[]
[]
[]
[null,{"$f":"q!A42","v":"Sc 2A"},null,null,null,null,null,null,null,{"$f":"q!A62","v":"Sc 2B"}]
[]
[]
[]
[]
[]
[]
[]
[]
[]
[]
[]
[]
[]
[]
[]
[]
[null,{"$f":"change!A82","v":"Sc 3"},null,null,null,null,null,null,null,{"$f":"change!A102","v":"Sc 4A"}]
[]
[]
[]
[]
[]
[]
[]
[]
[]
[]
[]
[]
[]
[]
[]
[]
[null,{"$f":"change!A122","v":"Sc 4B"},null,null,null,null,null,null,{"$f":"q!A142","v":"Sc 7"}]

{"sheet":"Month or Percentile","index":3,"n_rows":148,"n_cols":85,"rows_kept":148,"cut":false,"hidden":false,"merged":[[129,3,129,5]]}
[null,null,null,null,null,null,null,{"$f":"q!A22","v":"NATURAL"}]
["Array","Oct","Nov","Dec","Jan","Feb","Mar","Apr","May","Jun","Jul","Aug","Sep"]
[1E-3,{"$f":"q!E24","v":5.13},{"$f":"q!F24","v":10.76},{"$f":"q!G24","v":40.43},{"$f":"q!H24","v":50.94},{"$f":"q!I24","v":94.11},{"$f":"q!J24","v":114.47},{"$f":"q!K24","v":78.16},{"$f":"q!L24","v":18.8},{"$f":"q!M24","v":9.61},{"$f":"q!N24","v":7.21},{"$f":"q!O24","v":6.42},{"$f":"q!P24","v":5.92}]
[0.01,{"$f":"q!E25","v":4.9400000000000004},{"$f":"q!F25","v":10.3},{"$f":"q!G25","v":20.21},{"$f":"q!H25","v":45.29},{"$f":"q!I25","v":86},{"$f":"q!J25","v":80.41},{"$f":"q!K25","v":46.55},{"$f":"q!L25","v":14.04},{"$f":"q!M25","v":8.5500000000000007},{"$f":"q!N25","v":6.72},{"$f":"q!O25","v":6.34},{"$f":"q!P25","v":5.2}]
[0.05,{"$f":"q!E26","v":4.7069999999999999},{"$f":"q!F26","v":7.7975000000000003},{"$f":"q!G26","v":15.419500000000001},{"$f":"q!H26","v":39.835999999999999},{"$f":"q!I26","v":72.711500000000001},{"$f":"q!J26","v":60.253},{"$f":"q!K26","v":29.1845},{"$f":"q!L26","v":13.4725},{"$f":"q!M26","v":7.8950000000000005},{"$f":"q!N26","v":6.1989999999999998},{"$f":"q!O26","v":5.5324999999999998},{"$f":"q!P26","v":4.7335000000000003}]
[0.1,{"$f":"q!E27","v":4.4580000000000002},{"$f":"q!F27","v":5.734},{"$f":"q!G27","v":12.796000000000001},{"$f":"q!H27","v":26.995000000000001},{"$f":"q!I27","v":47.664999999999999},{"$f":"q!J27","v":47.039000000000001},{"$f":"q!K27","v":23.806000000000001},{"$f":"q!L27","v":12.683999999999999},{"$f":"q!M27","v":7.0729999999999995},{"$f":"q!N27","v":5.8239999999999998},{"$f":"q!O27","v":4.9630000000000001},{"$f":"q!P27","v":4.3570000000000002}]
[0.15,{"$f":"q!E28","v":3.8835000000000002},{"$f":"q!F28","v":5.476},{"$f":"q!G28","v":12.024000000000001},{"$f":"q!H28","v":23.093},{"$f":"q!I28","v":32.664000000000001},{"$f":"q!J28","v":37.548499999999997},{"$f":"q!K28","v":19.446000000000002},{"$f":"q!L28","v":11.092499999999999},{"$f":"q!M28","v":6.64},{"$f":"q!N28","v":5.569},{"$f":"q!O28","v":4.7534999999999998},{"$f":"q!P28","v":4.0840000000000005}]
[0.2,{"$f":"q!E29","v":3.7519999999999998},{"$f":"q!F29","v":5.0600000000000005},{"$f":"q!G29","v":9.4359999999999999},{"$f":"q!H29","v":21.004000000000001},{"$f":"q!I29","v":28.564},{"$f":"q!J29","v":29.53},{"$f":"q!K29","v":18.462000000000003},{"$f":"q!L29","v":10.096},{"$f":"q!M29","v":6.1580000000000004},{"$f":"q!N29","v":5.1280000000000001},{"$f":"q!O29","v":4.492},{"$f":"q!P29","v":3.94}]
[0.3,{"$f":"q!E30","v":3.4849999999999999},{"$f":"q!F30","v":4.5510000000000002},{"$f":"q!G30","v":7.74},{"$f":"q!H30","v":14.670000000000002},{"$f":"q!I30","v":16.724999999999998},{"$f":"q!J30","v":19.439},{"$f":"q!K30","v":14.266},{"$f":"q!L30","v":8.8849999999999998},{"$f":"q!M30","v":5.7160000000000002},{"$f":"q!N30","v":4.9800000000000004},{"$f":"q!O30","v":4.28},{"$f":"q!P30","v":3.7210000000000001}]
[0.4,{"$f":"q!E31","v":3.1419999999999999},{"$f":"q!F31","v":3.8660000000000001},{"$f":"q!G31","v":6.4020000000000001},{"$f":"q!H31","v":10.598000000000001},{"$f":"q!I31","v":13.462},{"$f":"q!J31","v":14.682},{"$f":"q!K31","v":11.896000000000001},{"$f":"q!L31","v":7.8520000000000003},{"$f":"q!M31","v":5.4779999999999998},{"$f":"q!N31","v":4.78},{"$f":"q!O31","v":4.0919999999999996},{"$f":"q!P31","v":3.496}]
[0.5,{"$f":"q!E32","v":2.895},{"$f":"q!F32","v":3.5750000000000002},{"$f":"q!G32","v":5.65},{"$f":"q!H32","v":9.1950000000000003},{"$f":"q!I32","v":11.92},{"$f":"q!J32","v":12.035},{"$f":"q!K32","v":9.3249999999999993},{"$f":"q!L32","v":6.66},{"$f":"q!M32","v":5.16},{"$f":"q!N32","v":4.3849999999999998},{"$f":"q!O32","v":3.79},{"$f":"q!P32","v":3.2850000000000001}]
[0.6,{"$f":"q!E33","v":2.718},{"$f":"q!F33","v":3.13},{"$f":"q!G33","v":4.8039999999999994},{"$f":"q!H33","v":7.3519999999999994},{"$f":"q!I33","v":9.14},{"$f":"q!J33","v":8.6980000000000004},{"$f":"q!K33","v":7.21},{"$f":"q!L33","v":5.6959999999999997},{"$f":"q!M33","v":4.7639999999999993},{"$f":"q!N33","v":4.1379999999999999},{"$f":"q!O33","v":3.5880000000000001},{"$f":"q!P33","v":3.0139999999999998}]
[0.7,{"$f":"q!E34","v":2.516},{"$f":"q!F34","v":2.8210000000000002},{"$f":"q!G34","v":4.1180000000000003},{"$f":"q!H34","v":5.76},{"$f":"q!I34","v":7.3410000000000011},{"$f":"q!J34","v":7.42},{"$f":"q!K34","v":6.22},{"$f":"q!L34","v":5.1230000000000002},{"$f":"q!M34","v":4.3520000000000003},{"$f":"q!N34","v":3.7930000000000001},{"$f":"q!O34","v":3.35},{"$f":"q!P34","v":2.7230000000000003}]
[0.8,{"$f":"q!E35","v":2.1659999999999999},{"$f":"q!F35","v":2.484},{"$f":"q!G35","v":3.3460000000000001},{"$f":"q!H35","v":5.0819999999999999},{"$f":"q!I35","v":6.2640000000000002},{"$f":"q!J35","v":5.9359999999999999},{"$f":"q!K35","v":5.4980000000000002},{"$f":"q!L35","v":4.6160000000000005},{"$f":"q!M35","v":3.8919999999999999},{"$f":"q!N35","v":3.4420000000000002},{"$f":"q!O35","v":2.956},{"$f":"q!P35","v":2.4220000000000002}]
[0.85,{"$f":"q!E36","v":2.04},{"$f":"q!F36","v":2.2519999999999998},{"$f":"q!G36","v":2.9419999999999997},{"$f":"q!H36","v":4.3314999999999992},{"$f":"q!I36","v":5.5424999999999995},{"$f":"q!J36","v":5.2759999999999998},{"$f":"q!K36","v":5.2379999999999995},{"$f":"q!L36","v":4.5259999999999998},{"$f":"q!M36","v":3.7465000000000002},{"$f":"q!N36","v":3.2565},{"$f":"q!O36","v":2.7765},{"$f":"q!P36","v":2.3729999999999998}]
[0.9,{"$f":"q!E37","v":2.0209999999999999},{"$f":"q!F37","v":2.0430000000000001},{"$f":"q!G37","v":2.8239999999999998},{"$f":"q!H37","v":3.6180000000000021},{"$f":"q!I37","v":4.556},{"$f":"q!J37","v":4.6750000000000007},{"$f":"q!K37","v":4.6250000000000009},{"$f":"q!L37","v":4.1210000000000004},{"$f":"q!M37","v":3.5760000000000001},{"$f":"q!N37","v":3.133},{"$f":"q!O37","v":2.6370000000000005},{"$f":"q!P37","v":2.17}]
[0.95,{"$f":"q!E38","v":1.6885000000000001},{"$f":"q!F38","v":1.8255000000000001},{"$f":"q!G38","v":2.285000000000001},{"$f":"q!H38","v":2.9685000000000015},{"$f":"q!I38","v":3.645},{"$f":"q!J38","v":4.1775000000000002},{"$f":"q!K38","v":3.8360000000000016},{"$f":"q!L38","v":3.3795000000000015},{"$f":"q!M38","v":2.862000000000001},{"$f":"q!N38","v":2.492},{"$f":"q!O38","v":2.1940000000000004},{"$f":"q!P38","v":1.8945000000000005}]
[0.99,{"$f":"q!E39","v":1.5477000000000016},{"$f":"q!F39","v":1.448500000000001},{"$f":"q!G39","v":1.6074000000000006},{"$f":"q!H39","v":2.2369000000000021},{"$f":"q!I39","v":2.7942000000000022},{"$f":"q!J39","v":3.019700000000002},{"$f":"q!K39","v":2.6675000000000009},{"$f":"q!L39","v":2.1792000000000002},{"$f":"q!M39","v":1.8610000000000004},{"$f":"q!N39","v":1.6738000000000006},{"$f":"q!O39","v":1.4520000000000006},{"$f":"q!P39","v":1.2682}]
[0.999,{"$f":"q!E40","v":1.1200000000000001},{"$f":"q!F40","v":1.1299999999999999},{"$f":"q!G40","v":1.48},{"$f":"q!H40","v":1.7},{"$f":"q!I40","v":2.23},{"$f":"q!J40","v":2.41},{"$f":"q!K40","v":2.44},{"$f":"q!L40","v":2.0699999999999998},{"$f":"q!M40","v":1.77},{"$f":"q!N40","v":1.51},{"$f":"q!O40","v":1.27},{"$f":"q!P40","v":1.25}]
[]
["CUMEC",null,null,null,null,{"$f":"q!A2","v":"PRESENT DAY"}]
["Array","Oct","Nov","Dec","Jan","Feb","Mar","Apr","May","Jun","Jul","Aug","Sep"]
[1E-3,{"$f":"q!E4","v":20.53},{"$f":"q!F4","v":7.47},{"$f":"q!G4","v":45.43},{"$f":"q!H4","v":43.36},{"$f":"q!I4","v":84.17},{"$f":"q!J4","v":100.74},{"$f":"q!K4","v":65.44},{"$f":"q!L4","v":14.17},{"$f":"q!M4","v":6.1},{"$f":"q!N4","v":23.33},{"$f":"q!O4","v":8.2899999999999991},{"$f":"q!P4","v":9.27}]
[0.01,{"$f":"q!E5","v":12.11},{"$f":"q!F5","v":6.64},{"$f":"q!G5","v":35.69},{"$f":"q!H5","v":36.32},{"$f":"q!I5","v":74.319999999999993},{"$f":"q!J5","v":68.510000000000005},{"$f":"q!K5","v":40.46},{"$f":"q!L5","v":11.1},{"$f":"q!M5","v":5.27},{"$f":"q!N5","v":6.19},{"$f":"q!O5","v":7.07},{"$f":"q!P5","v":9.19}]
[0.05,{"$f":"q!E6","v":4.0750000000000002},{"$f":"q!F6","v":5.1829999999999998},{"$f":"q!G6","v":11.080500000000001},{"$f":"q!H6","v":23.605499999999999},{"$f":"q!I6","v":44.391500000000001},{"$f":"q!J6","v":45.3065},{"$f":"q!K6","v":21.018000000000001},{"$f":"q!L6","v":8.4079999999999995},{"$f":"q!M6","v":4.1890000000000001},{"$f":"q!N6","v":3.8045},{"$f":"q!O6","v":2.887},{"$f":"q!P6","v":7.2225000000000001}]
[0.1,{"$f":"q!E7","v":1.77},{"$f":"q!F7","v":2.6760000000000002},{"$f":"q!G7","v":7.3450000000000006},{"$f":"q!H7","v":17.843999999999998},{"$f":"q!I7","v":35.798000000000002},{"$f":"q!J7","v":35.481000000000002},{"$f":"q!K7","v":14.083},{"$f":"q!L7","v":7.117},{"$f":"q!M7","v":3.5389999999999997},{"$f":"q!N7","v":3.5219999999999998},{"$f":"q!O7","v":2.2000000000000002},{"$f":"q!P7","v":3.8890000000000002}]
[0.15,{"$f":"q!E8","v":1.6335},{"$f":"q!F8","v":2.3145000000000002},{"$f":"q!G8","v":5.3540000000000001},{"$f":"q!H8","v":15.286},{"$f":"q!I8","v":22.451500000000003},{"$f":"q!J8","v":26.261500000000002},{"$f":"q!K8","v":13.032},{"$f":"q!L8","v":5.9750000000000005},{"$f":"q!M8","v":3.3104999999999998},{"$f":"q!N8","v":3.1225000000000001},{"$f":"q!O8","v":1.6844999999999999},{"$f":"q!P8","v":2.7285000000000004}]
[0.2,{"$f":"q!E9","v":1.494},{"$f":"q!F9","v":1.8280000000000003},{"$f":"q!G9","v":4.0380000000000003},{"$f":"q!H9","v":12.608000000000002},{"$f":"q!I9","v":17.590000000000003},{"$f":"q!J9","v":21.54},{"$f":"q!K9","v":10.31},{"$f":"q!L9","v":4.9820000000000002},{"$f":"q!M9","v":2.8780000000000001},{"$f":"q!N9","v":2.6860000000000004},{"$f":"q!O9","v":1.534},{"$f":"q!P9","v":2.1579999999999999}]
[0.3,{"$f":"q!E10","v":1.2470000000000001},{"$f":"q!F10","v":1.0670000000000002},{"$f":"q!G10","v":2.9969999999999999},{"$f":"q!H10","v":6.4480000000000004},{"$f":"q!I10","v":10.618000000000002},{"$f":"q!J10","v":13.110000000000001},{"$f":"q!K10","v":6.9300000000000006},{"$f":"q!L10","v":4.1040000000000001},{"$f":"q!M10","v":2.484},{"$f":"q!N10","v":2.17},{"$f":"q!O10","v":1.1239999999999999},{"$f":"q!P10","v":1.5010000000000001}]
[0.4,{"$f":"q!E11","v":1.1020000000000001},{"$f":"q!F11","v":0.94599999999999995},{"$f":"q!G11","v":1.996},{"$f":"q!H11","v":4.0220000000000002},{"$f":"q!I11","v":5.8520000000000003},{"$f":"q!J11","v":9.6859999999999999},{"$f":"q!K11","v":4.8860000000000001},{"$f":"q!L11","v":3.67},{"$f":"q!M11","v":1.8620000000000001},{"$f":"q!N11","v":1.9219999999999999},{"$f":"q!O11","v":1.01},{"$f":"q!P11","v":1.1459999999999999}]
[0.5,{"$f":"q!E12","v":0.99},{"$f":"q!F12","v":0.77500000000000002},{"$f":"q!G12","v":1.6},{"$f":"q!H12","v":3.085},{"$f":"q!I12","v":3.62},{"$f":"q!J12","v":7.125},{"$f":"q!K12","v":2.9950000000000001},{"$f":"q!L12","v":3.0999999999999996},{"$f":"q!M12","v":1.54},{"$f":"q!N12","v":1.635},{"$f":"q!O12","v":0.94},{"$f":"q!P12","v":1.04}]
[0.6,{"$f":"q!E13","v":0.86},{"$f":"q!F13","v":0.67400000000000004},{"$f":"q!G13","v":1.26},{"$f":"q!H13","v":2.0960000000000001},{"$f":"q!I13","v":2.794},{"$f":"q!J13","v":4.5359999999999996},{"$f":"q!K13","v":1.984},{"$f":"q!L13","v":2.492},{"$f":"q!M13","v":0.93800000000000006},{"$f":"q!N13","v":1.208},{"$f":"q!O13","v":0.85},{"$f":"q!P13","v":0.96399999999999997}]
[0.7,{"$f":"q!E14","v":0.72},{"$f":"q!F14","v":0.6},{"$f":"q!G14","v":0.93200000000000016},{"$f":"q!H14","v":1.6080000000000001},{"$f":"q!I14","v":1.8160000000000005},{"$f":"q!J14","v":3.4970000000000003},{"$f":"q!K14","v":1.6830000000000001},{"$f":"q!L14","v":1.5630000000000002},{"$f":"q!M14","v":0.77300000000000002},{"$f":"q!N14","v":0.99},{"$f":"q!O14","v":0.8},{"$f":"q!P14","v":0.9}]
[0.8,{"$f":"q!E15","v":0.58399999999999996},{"$f":"q!F15","v":0.52},{"$f":"q!G15","v":0.752},{"$f":"q!H15","v":1.06},{"$f":"q!I15","v":1.3860000000000001},{"$f":"q!J15","v":2.7240000000000002},{"$f":"q!K15","v":1.1459999999999999},{"$f":"q!L15","v":1.1379999999999999},{"$f":"q!M15","v":0.65},{"$f":"q!N15","v":0.79},{"$f":"q!O15","v":0.75},{"$f":"q!P15","v":0.73}]
[0.85,{"$f":"q!E16","v":0.52949999999999997},{"$f":"q!F16","v":0.45},{"$f":"q!G16","v":0.6329999999999999},{"$f":"q!H16","v":0.89149999999999963},{"$f":"q!I16","v":1.0589999999999999},{"$f":"q!J16","v":1.9974999999999994},{"$f":"q!K16","v":0.79299999999999993},{"$f":"q!L16","v":1.0554999999999999},{"$f":"q!M16","v":0.61},{"$f":"q!N16","v":0.6865},{"$f":"q!O16","v":0.72649999999999992},{"$f":"q!P16","v":0.64599999999999991}]
[0.9,{"$f":"q!E17","v":0.46200000000000013},{"$f":"q!F17","v":0.41},{"$f":"q!G17","v":0.61},{"$f":"q!H17","v":0.73500000000000021},{"$f":"q!I17","v":0.76},{"$f":"q!J17","v":1.7510000000000001},{"$f":"q!K17","v":0.67300000000000015},{"$f":"q!L17","v":0.94099999999999995},{"$f":"q!M17","v":0.6},{"$f":"q!N17","v":0.61},{"$f":"q!O17","v":0.69},{"$f":"q!P17","v":0.43100000000000055}]
[0.95,{"$f":"q!E18","v":0.38550000000000006},{"$f":"q!F18","v":0.35},{"$f":"q!G18","v":0.5455000000000001},{"$f":"q!H18","v":0.50750000000000017},{"$f":"q!I18","v":0.53100000000000014},{"$f":"q!J18","v":1.1555},{"$f":"q!K18","v":0.59750000000000014},{"$f":"q!L18","v":0.74},{"$f":"q!M18","v":0.5455000000000001},{"$f":"q!N18","v":0.56650000000000011},{"$f":"q!O18","v":0.50200000000000011},{"$f":"q!P18","v":0.36}]
[0.99,{"$f":"q!E19","v":0.32280000000000025},{"$f":"q!F19","v":0.29550000000000015},{"$f":"q!G19","v":0.47},{"$f":"q!H19","v":0.40640000000000009},{"$f":"q!I19","v":0.39740000000000042},{"$f":"q!J19","v":0.55290000000000061},{"$f":"q!K19","v":0.42910000000000004},{"$f":"q!L19","v":0.61460000000000015},{"$f":"q!M19","v":0.45820000000000011},{"$f":"q!N19","v":0.37730000000000008},{"$f":"q!O19","v":0.37640000000000012},{"$f":"q!P19","v":0.29910000000000003}]
[0.999,{"$f":"q!E20","v":0.25},{"$f":"q!F20","v":0.25},{"$f":"q!G20","v":0.47},{"$f":"q!H20","v":0.37},{"$f":"q!I20","v":0.27},{"$f":"q!J20","v":0.38},{"$f":"q!K20","v":0.42},{"$f":"q!L20","v":0.56000000000000005},{"$f":"q!M20","v":0.44},{"$f":"q!N20","v":0.35},{"$f":"q!O20","v":0.34},{"$f":"q!P20","v":0.28999999999999998}]
[]
["Scenario:",{"$f":"q!A42","v":"Sc 2A"},null,null,null,null,null,null,null,null,null,null,null,null,null,"Scenario:",{"$f":"q!A62","v":"Sc 2B"},null,null,null,null,null,null,null,null,null,null,null,null,null,"Scenario:",{"$f":"q!A82","v":"Sc 3"},null,null,null,null,null,null,null,null,null,null,null,null,"Scenario:",{"$f":"q!A102","v":"Sc 4A"},null,null,null,null,null,null,null,null,null,null,null,null,"Scenario:",{"$f":"q!A122","v":"Sc 4B"},null,null,null,null,null,null,null,null,null,null,null,null,"Scenario:",{"$f":"q!A142","v":"Sc 7"}]
[null,"Oct","Nov","Dec","Jan","Feb","Mar","Apr","May","Jun","Jul","Aug","Sep",null,null,null,"Jan","Feb","Mar","Apr","May","Jun","Jul","Aug","Sep","Oct","Nov","Dec",null,null,null,"Jan","Feb","Mar","Apr","May","Jun","Jul","Aug","Sep","Oct","Nov","Dec",null,null,"Jan","Feb","Mar","Apr","May","Jun","Jul","Aug","Sep","Oct","Nov","Dec",null,null,"Jan","Feb","Mar","Apr","May","Jun","Jul","Aug","Sep","Oct","Nov","Dec",null,null,"Jan","Feb","Mar","Apr","May","Jun","Jul","Aug","Sep","Oct","Nov","Dec"]
[1E-3,{"$f":"q!E44","v":27.779999999999998},{"$f":"q!F44","v":9.35},{"$f":"q!G44","v":35.700000000000003},{"$f":"q!H44","v":43.36},{"$f":"q!I44","v":84.17},{"$f":"q!J44","v":100.74},{"$f":"q!K44","v":65.44},{"$f":"q!L44","v":14.17},{"$f":"q!M44","v":6.1},{"$f":"q!N44","v":14.209999999999999},{"$f":"q!O44","v":9.09},{"$f":"q!P44","v":10.809999999999999},null,null,1E-3,{"$f":"q!E64","v":36.04},{"$f":"q!F64","v":8.67},{"$f":"q!G64","v":35.69},{"$f":"q!H64","v":43.36},{"$f":"q!I64","v":84.17},{"$f":"q!J64","v":100.74},{"$f":"q!K64","v":65.44},{"$f":"q!L64","v":14.17},{"$f":"q!M64","v":6.1},{"$f":"q!N64","v":5.0599999999999996},{"$f":"q!O64","v":5.76},{"$f":"q!P64","v":11.16},null,null,1E-3,{"$f":"q!E84","v":39.9},{"$f":"q!F84","v":8.67},{"$f":"q!G84","v":35.69},{"$f":"q!H84","v":43.36},{"$f":"q!I84","v":84.17},{"$f":"q!J84","v":100.74},{"$f":"q!K84","v":65.44},{"$f":"q!L84","v":14.17},{"$f":"q!M84","v":6.1},{"$f":"q!N84","v":23.8},{"$f":"q!O84","v":2.92},{"$f":"q!P84","v":5.93},null,1E-3,{"$f":"q!E104","v":3.11},{"$f":"q!F104","v":6.11},{"$f":"q!G104","v":33.81},{"$f":"q!H104","v":42.44},{"$f":"q!I104","v":83.33},{"$f":"q!J104","v":99.82},{"$f":"q!K104","v":64.55},{"$f":"q!L104","v":13.25},{"$f":"q!M104","v":5.21},{"$f":"q!N104","v":4.3899999999999997},{"$f":"q!O104","v":2.2599999999999998},{"$f":"q!P104","v":1.63},null,1E-3,{"$f":"q!E124","v":8.5500000000000007},{"$f":"q!F124","v":6.03},{"$f":"q!G124","v":33.64},{"$f":"q!H124","v":41.92},{"$f":"q!I124","v":82.82},{"$f":"q!J124","v":99.73},{"$f":"q!K124","v":64.45},{"$f":"q!L124","v":13.13},{"$f":"q!M124","v":5.1100000000000003},{"$f":"q!N124","v":3.35},{"$f":"q!O124","v":2.39},{"$f":"q!P124","v":3.55},null,1E-3,{"$f":"q!E144","v":2.1800000000000002},{"$f":"q!F144","v":5.87},{"$f":"q!G144","v":33.64},{"$f":"q!H144","v":41.92},{"$f":"q!I144","v":82.82},{"$f":"q!J144","v":99.73},{"$f":"q!K144","v":64.45},{"$f":"q!L144","v":13.13},{"$f":"q!M144","v":5.1100000000000003},{"$f":"q!N144","v":4.78},{"$f":"q!O144","v":2.2599999999999998},{"$f":"q!P144","v":3.72}]
[0.01,{"$f":"q!E45","v":9.0200000000000014},{"$f":"q!F45","v":7.88},{"$f":"q!G45","v":33.059999999999995},{"$f":"q!H45","v":36.32},{"$f":"q!I45","v":74.320000000000007},{"$f":"q!J45","v":68.509999999999991},{"$f":"q!K45","v":40.459999999999994},{"$f":"q!L45","v":11.010000000000002},{"$f":"q!M45","v":5.53},{"$f":"q!N45","v":7.07},{"$f":"q!O45","v":2.92},{"$f":"q!P45","v":8.9},null,null,0.01,{"$f":"q!E65","v":33.71},{"$f":"q!F65","v":8.17},{"$f":"q!G65","v":22.31},{"$f":"q!H65","v":36.32},{"$f":"q!I65","v":74.320000000000007},{"$f":"q!J65","v":68.509999999999991},{"$f":"q!K65","v":40.459999999999994},{"$f":"q!L65","v":11.440000000000001},{"$f":"q!M65","v":5.27},{"$f":"q!N65","v":4.49},{"$f":"q!O65","v":5.33},{"$f":"q!P65","v":10.14},null,null,0.01,{"$f":"q!E85","v":9.33},{"$f":"q!F85","v":7.47},{"$f":"q!G85","v":33},{"$f":"q!H85","v":36.32},{"$f":"q!I85","v":74.319999999999993},{"$f":"q!J85","v":68.510000000000005},{"$f":"q!K85","v":40.46},{"$f":"q!L85","v":10.33},{"$f":"q!M85","v":5.27},{"$f":"q!N85","v":6.97},{"$f":"q!O85","v":2.86},{"$f":"q!P85","v":4.8499999999999996},null,0.01,{"$f":"q!E105","v":1.56},{"$f":"q!F105","v":3.81},{"$f":"q!G105","v":10.46},{"$f":"q!H105","v":35.39},{"$f":"q!I105","v":73.48},{"$f":"q!J105","v":67.59},{"$f":"q!K105","v":39.56},{"$f":"q!L105","v":11.56},{"$f":"q!M105","v":4.38},{"$f":"q!N105","v":3.89},{"$f":"q!O105","v":2.23},{"$f":"q!P105","v":1.62},null,0.01,{"$f":"q!E125","v":2.81},{"$f":"q!F125","v":3.72},{"$f":"q!G125","v":10.42},{"$f":"q!H125","v":34.82},{"$f":"q!I125","v":72.98},{"$f":"q!J125","v":67.510000000000005},{"$f":"q!K125","v":39.46},{"$f":"q!L125","v":11.41},{"$f":"q!M125","v":4.3099999999999996},{"$f":"q!N125","v":3.33},{"$f":"q!O125","v":2.2599999999999998},{"$f":"q!P125","v":1.63},null,0.01,{"$f":"q!E145","v":1.93},{"$f":"q!F145","v":3.72},{"$f":"q!G145","v":10.42},{"$f":"q!H145","v":34.82},{"$f":"q!I145","v":72.98},{"$f":"q!J145","v":67.510000000000005},{"$f":"q!K145","v":39.46},{"$f":"q!L145","v":11.85},{"$f":"q!M145","v":4.3099999999999996},{"$f":"q!N145","v":3.62},{"$f":"q!O145","v":2.2200000000000002},{"$f":"q!P145","v":3.03}]
[0.05,{"$f":"q!E46","v":3.3695000000000004},{"$f":"q!F46","v":6.5884999999999998},{"$f":"q!G46","v":13.729000000000001},{"$f":"q!H46","v":26.4315},{"$f":"q!I46","v":42.428500000000007},{"$f":"q!J46","v":44.722500000000004},{"$f":"q!K46","v":21.018000000000001},{"$f":"q!L46","v":9.0444999999999993},{"$f":"q!M46","v":4.1935000000000002},{"$f":"q!N46","v":3.7985000000000002},{"$f":"q!O46","v":2.5430000000000001},{"$f":"q!P46","v":2.2229999999999999},null,null,0.05,{"$f":"q!E66","v":4.8425000000000011},{"$f":"q!F66","v":6.2254999999999994},{"$f":"q!G66","v":9.7510000000000012},{"$f":"q!H66","v":26.4315},{"$f":"q!I66","v":42.428500000000007},{"$f":"q!J66","v":46.438499999999998},{"$f":"q!K66","v":21.018000000000001},{"$f":"q!L66","v":9.0775000000000006},{"$f":"q!M66","v":3.9984999999999999},{"$f":"q!N66","v":3.7450000000000001},{"$f":"q!O66","v":2.887},{"$f":"q!P66","v":3.2315000000000005},null,null,0.05,{"$f":"q!E86","v":4.0045000000000002},{"$f":"q!F86","v":5.1829999999999998},{"$f":"q!G86","v":10.0855},{"$f":"q!H86","v":26.571000000000002},{"$f":"q!I86","v":44.391500000000001},{"$f":"q!J86","v":42.952500000000001},{"$f":"q!K86","v":21.018000000000001},{"$f":"q!L86","v":8.1694999999999993},{"$f":"q!M86","v":3.9984999999999999},{"$f":"q!N86","v":4.6140000000000008},{"$f":"q!O86","v":2.2925},{"$f":"q!P86","v":3.6070000000000002},null,0.05,{"$f":"q!E106","v":1.4144999999999999},{"$f":"q!F106","v":2.8294999999999999},{"$f":"q!G106","v":6.6349999999999998},{"$f":"q!H106","v":23.287500000000001},{"$f":"q!I106","v":43.551500000000004},{"$f":"q!J106","v":42.653999999999996},{"$f":"q!K106","v":20.117999999999999},{"$f":"q!L106","v":7.8220000000000001},{"$f":"q!M106","v":3.1855000000000002},{"$f":"q!N106","v":3.0049999999999999},{"$f":"q!O106","v":1.8539999999999999},{"$f":"q!P106","v":1.4935},null,0.05,{"$f":"q!E126","v":1.5115000000000001},{"$f":"q!F126","v":2.6709999999999998},{"$f":"q!G126","v":6.4240000000000004},{"$f":"q!H126","v":22.6005},{"$f":"q!I126","v":43.295000000000002},{"$f":"q!J126","v":41.932500000000005},{"$f":"q!K126","v":20.013500000000001},{"$f":"q!L126","v":7.5735000000000001},{"$f":"q!M126","v":3.17},{"$f":"q!N126","v":2.6789999999999998},{"$f":"q!O126","v":1.8665},{"$f":"q!P126","v":1.5044999999999999},null,0.05,{"$f":"q!E146","v":1.4950000000000001},{"$f":"q!F146","v":1.8080000000000001},{"$f":"q!G146","v":6.4240000000000004},{"$f":"q!H146","v":22.6005},{"$f":"q!I146","v":43.295000000000002},{"$f":"q!J146","v":42.3065},{"$f":"q!K146","v":20.013500000000001},{"$f":"q!L146","v":7.8870000000000005},{"$f":"q!M146","v":3.1040000000000001},{"$f":"q!N146","v":3.0794999999999999},{"$f":"q!O146","v":1.4585000000000001},{"$f":"q!P146","v":1.5044999999999999}]
[0.1,{"$f":"q!E47","v":2.137},{"$f":"q!F47","v":2.923},{"$f":"q!G47","v":7.7589999999999995},{"$f":"q!H47","v":17.507999999999999},{"$f":"q!I47","v":29.015000000000001},{"$f":"q!J47","v":34.928999999999995},{"$f":"q!K47","v":14.083},{"$f":"q!L47","v":7.2730000000000006},{"$f":"q!M47","v":3.6669999999999998},{"$f":"q!N47","v":3.645},{"$f":"q!O47","v":1.8260000000000001},{"$f":"q!P47","v":1.865},null,null,0.1,{"$f":"q!E67","v":2.1669999999999998},{"$f":"q!F67","v":2.923},{"$f":"q!G67","v":7.21},{"$f":"q!H67","v":17.507000000000001},{"$f":"q!I67","v":32.773000000000003},{"$f":"q!J67","v":34.722999999999999},{"$f":"q!K67","v":14.083},{"$f":"q!L67","v":7.5679999999999996},{"$f":"q!M67","v":3.44},{"$f":"q!N67","v":3.5669999999999997},{"$f":"q!O67","v":1.93},{"$f":"q!P67","v":1.8169999999999999},null,null,0.1,{"$f":"q!E87","v":2.1100000000000003},{"$f":"q!F87","v":2.6760000000000002},{"$f":"q!G87","v":6.766},{"$f":"q!H87","v":17.440999999999999},{"$f":"q!I87","v":36.637999999999998},{"$f":"q!J87","v":34.385000000000005},{"$f":"q!K87","v":14.083},{"$f":"q!L87","v":7.117},{"$f":"q!M87","v":3.5389999999999997},{"$f":"q!N87","v":3.5869999999999997},{"$f":"q!O87","v":1.784},{"$f":"q!P87","v":1.96},null,0.1,{"$f":"q!E107","v":1.3},{"$f":"q!F107","v":1.3460000000000001},{"$f":"q!G107","v":3.2330000000000001},{"$f":"q!H107","v":15.76},{"$f":"q!I107","v":35.650000000000006},{"$f":"q!J107","v":33.465000000000003},{"$f":"q!K107","v":13.193000000000001},{"$f":"q!L107","v":6.2809999999999997},{"$f":"q!M107","v":2.649},{"$f":"q!N107","v":2.6520000000000001},{"$f":"q!O107","v":1.175},{"$f":"q!P107","v":1.2670000000000001},null,0.1,{"$f":"q!E127","v":1.3390000000000002},{"$f":"q!F127","v":1.522},{"$f":"q!G127","v":2.6859999999999999},{"$f":"q!H127","v":15.75},{"$f":"q!I127","v":35.289000000000001},{"$f":"q!J127","v":33.365000000000002},{"$f":"q!K127","v":13.063000000000001},{"$f":"q!L127","v":6.0590000000000002},{"$f":"q!M127","v":2.6480000000000001},{"$f":"q!N127","v":2.1669999999999998},{"$f":"q!O127","v":1.2070000000000001},{"$f":"q!P127","v":1.27},null,0.1,{"$f":"q!E147","v":1.246},{"$f":"q!F147","v":1.2530000000000001},{"$f":"q!G147","v":2.6859999999999999},{"$f":"q!H147","v":15.75},{"$f":"q!I147","v":31.968000000000004},{"$f":"q!J147","v":34.028999999999996},{"$f":"q!K147","v":13.063000000000001},{"$f":"q!L147","v":6.0969999999999995},{"$f":"q!M147","v":2.6480000000000001},{"$f":"q!N147","v":2.6070000000000002},{"$f":"q!O147","v":1.1000000000000001},{"$f":"q!P147","v":1.27}]
[0.15,{"$f":"q!E48","v":1.7415000000000003},{"$f":"q!F48","v":2.4569999999999999},{"$f":"q!G48","v":6.9175000000000004},{"$f":"q!H48","v":16.155000000000001},{"$f":"q!I48","v":22.3355},{"$f":"q!J48","v":25.429500000000001},{"$f":"q!K48","v":13.025499999999999},{"$f":"q!L48","v":6.96},{"$f":"q!M48","v":3.427},{"$f":"q!N48","v":3.3035000000000001},{"$f":"q!O48","v":1.65},{"$f":"q!P48","v":1.4904999999999999},null,null,0.15,{"$f":"q!E68","v":1.9570000000000001},{"$f":"q!F68","v":2.3984999999999999},{"$f":"q!G68","v":5.516},{"$f":"q!H68","v":16.102999999999998},{"$f":"q!I68","v":22.448},{"$f":"q!J68","v":25.325500000000002},{"$f":"q!K68","v":13.025499999999999},{"$f":"q!L68","v":6.96},{"$f":"q!M68","v":3.2675000000000001},{"$f":"q!N68","v":3.4474999999999998},{"$f":"q!O68","v":1.6910000000000001},{"$f":"q!P68","v":1.3565},null,null,0.15,{"$f":"q!E88","v":1.6644999999999999},{"$f":"q!F88","v":2.3145000000000002},{"$f":"q!G88","v":6.0605000000000002},{"$f":"q!H88","v":15.716500000000002},{"$f":"q!I88","v":23.290500000000002},{"$f":"q!J88","v":24.673000000000002},{"$f":"q!K88","v":13.032},{"$f":"q!L88","v":6.1539999999999999},{"$f":"q!M88","v":3.3104999999999998},{"$f":"q!N88","v":3.149},{"$f":"q!O88","v":1.5835000000000001},{"$f":"q!P88","v":1.5470000000000002},null,0.15,{"$f":"q!E108","v":1.1704999999999999},{"$f":"q!F108","v":1.1280000000000001},{"$f":"q!G108","v":2.5065},{"$f":"q!H108","v":12.5875},{"$f":"q!I108","v":22.450500000000002},{"$f":"q!J108","v":23.385999999999999},{"$f":"q!K108","v":12.1355},{"$f":"q!L108","v":4.8639999999999999},{"$f":"q!M108","v":2.4205000000000001},{"$f":"q!N108","v":2.137},{"$f":"q!O108","v":1.0605},{"$f":"q!P108","v":1.17},null,0.15,{"$f":"q!E128","v":1.2035},{"$f":"q!F128","v":1.0435000000000001},{"$f":"q!G128","v":2.4240000000000004},{"$f":"q!H128","v":12.134500000000001},{"$f":"q!I128","v":21.934000000000001},{"$f":"q!J128","v":22.1435},{"$f":"q!K128","v":12.012},{"$f":"q!L128","v":5.07},{"$f":"q!M128","v":2.4104999999999999},{"$f":"q!N128","v":2.0049999999999999},{"$f":"q!O128","v":1.1000000000000001},{"$f":"q!P128","v":1.1935},null,0.15,{"$f":"q!E148","v":1.19},{"$f":"q!F148","v":1.01},{"$f":"q!G148","v":2.331},{"$f":"q!H148","v":13.054499999999999},{"$f":"q!I148","v":21.1615},{"$f":"q!J148","v":23.927000000000003},{"$f":"q!K148","v":12.012},{"$f":"q!L148","v":4.6840000000000002},{"$f":"q!M148","v":2.4104999999999999},{"$f":"q!N148","v":2.0735000000000001},{"$f":"q!O148","v":1.0605},{"$f":"q!P148","v":1.2}]
[0.2,{"$f":"q!E49","v":1.492},{"$f":"q!F49","v":1.99},{"$f":"q!G49","v":5.1720000000000006},{"$f":"q!H49","v":10.392000000000001},{"$f":"q!I49","v":17.7},{"$f":"q!J49","v":20.268000000000001},{"$f":"q!K49","v":9.234},{"$f":"q!L49","v":6.4259999999999993},{"$f":"q!M49","v":3.0720000000000001},{"$f":"q!N49","v":3.0740000000000003},{"$f":"q!O49","v":1.5399999999999998},{"$f":"q!P49","v":1.2759999999999998},null,null,0.2,{"$f":"q!E69","v":1.6059999999999999},{"$f":"q!F69","v":1.9019999999999999},{"$f":"q!G69","v":4.242},{"$f":"q!H69","v":10.392000000000001},{"$f":"q!I69","v":17.692},{"$f":"q!J69","v":21.632000000000005},{"$f":"q!K69","v":9.234},{"$f":"q!L69","v":5.9200000000000008},{"$f":"q!M69","v":2.8679999999999999},{"$f":"q!N69","v":3.0740000000000003},{"$f":"q!O69","v":1.5740000000000001},{"$f":"q!P69","v":1.256},null,null,0.2,{"$f":"q!E89","v":1.4039999999999999},{"$f":"q!F89","v":1.8979999999999999},{"$f":"q!G89","v":4.7320000000000002},{"$f":"q!H89","v":12.318000000000001},{"$f":"q!I89","v":17.692},{"$f":"q!J89","v":19.826000000000001},{"$f":"q!K89","v":11.244000000000002},{"$f":"q!L89","v":5.306},{"$f":"q!M89","v":2.8780000000000001},{"$f":"q!N89","v":2.794},{"$f":"q!O89","v":1.3939999999999999},{"$f":"q!P89","v":1.28},null,0.2,{"$f":"q!E109","v":1.1060000000000001},{"$f":"q!F109","v":1.008},{"$f":"q!G109","v":2.2599999999999998},{"$f":"q!H109","v":9.1679999999999993},{"$f":"q!I109","v":17.416},{"$f":"q!J109","v":16.952000000000002},{"$f":"q!K109","v":9.0860000000000003},{"$f":"q!L109","v":4.3220000000000001},{"$f":"q!M109","v":1.98},{"$f":"q!N109","v":1.84},{"$f":"q!O109","v":1.026},{"$f":"q!P109","v":1.1299999999999999},null,0.2,{"$f":"q!E129","v":1.1299999999999999},{"$f":"q!F129","v":0.996},{"$f":"q!G129","v":2.0920000000000001},{"$f":"q!H129","v":8.98},{"$f":"q!I129","v":17.16},{"$f":"q!J129","v":16.946000000000002},{"$f":"q!K129","v":8.1379999999999999},{"$f":"q!L129","v":4.2940000000000005},{"$f":"q!M129","v":1.98},{"$f":"q!N129","v":1.6259999999999999},{"$f":"q!O129","v":1.038},{"$f":"q!P129","v":1.1479999999999999},null,0.2,{"$f":"q!E149","v":1.1100000000000001},{"$f":"q!F149","v":0.96799999999999997},{"$f":"q!G149","v":1.89},{"$f":"q!H149","v":8.9820000000000011},{"$f":"q!I149","v":16.966000000000001},{"$f":"q!J149","v":18.37},{"$f":"q!K149","v":9.1460000000000008},{"$f":"q!L149","v":3.8940000000000001},{"$f":"q!M149","v":1.974},{"$f":"q!N149","v":1.5940000000000001},{"$f":"q!O149","v":1.018},{"$f":"q!P149","v":1.1579999999999999}]
[0.3,{"$f":"q!E50","v":1.2950000000000002},{"$f":"q!F50","v":1.2490000000000001},{"$f":"q!G50","v":3.5720000000000001},{"$f":"q!H50","v":5.835},{"$f":"q!I50","v":9.9830000000000005},{"$f":"q!J50","v":14.169},{"$f":"q!K50","v":6.2880000000000003},{"$f":"q!L50","v":4.968},{"$f":"q!M50","v":2.3740000000000001},{"$f":"q!N50","v":2.702},{"$f":"q!O50","v":1.2010000000000001},{"$f":"q!P50","v":1.1400000000000001},null,null,0.3,{"$f":"q!E70","v":1.387},{"$f":"q!F70","v":1.373},{"$f":"q!G70","v":3.004},{"$f":"q!H70","v":5.4760000000000009},{"$f":"q!I70","v":9.6189999999999998},{"$f":"q!J70","v":14.268000000000001},{"$f":"q!K70","v":6.3329999999999993},{"$f":"q!L70","v":4.6470000000000002},{"$f":"q!M70","v":2.0820000000000003},{"$f":"q!N70","v":2.6480000000000001},{"$f":"q!O70","v":1.3270000000000002},{"$f":"q!P70","v":1.1340000000000001},null,null,0.3,{"$f":"q!E90","v":1.2},{"$f":"q!F90","v":1.3380000000000001},{"$f":"q!G90","v":3.492},{"$f":"q!H90","v":6.34},{"$f":"q!I90","v":10.618000000000002},{"$f":"q!J90","v":13.706000000000001},{"$f":"q!K90","v":7.2249999999999996},{"$f":"q!L90","v":4.1450000000000005},{"$f":"q!M90","v":2.5990000000000002},{"$f":"q!N90","v":2.1840000000000002},{"$f":"q!O90","v":1.0740000000000001},{"$f":"q!P90","v":1.17},null,0.3,{"$f":"q!E110","v":0.95},{"$f":"q!F110","v":0.91700000000000004},{"$f":"q!G110","v":1.8290000000000002},{"$f":"q!H110","v":4.1340000000000003},{"$f":"q!I110","v":8.2710000000000008},{"$f":"q!J110","v":11.243000000000002},{"$f":"q!K110","v":5.5329999999999995},{"$f":"q!L110","v":3.1970000000000001},{"$f":"q!M110","v":1.369},{"$f":"q!N110","v":1.2610000000000001},{"$f":"q!O110","v":0.95},{"$f":"q!P110","v":1.0770000000000002},null,0.3,{"$f":"q!E130","v":0.98},{"$f":"q!F130","v":0.91400000000000003},{"$f":"q!G130","v":1.7330000000000003},{"$f":"q!H130","v":3.6980000000000004},{"$f":"q!I130","v":8.2479999999999993},{"$f":"q!J130","v":10.527000000000003},{"$f":"q!K130","v":5.5229999999999997},{"$f":"q!L130","v":3.1680000000000001},{"$f":"q!M130","v":1.369},{"$f":"q!N130","v":1.149},{"$f":"q!O130","v":0.95},{"$f":"q!P130","v":1.0770000000000002},null,0.3,{"$f":"q!E150","v":0.97699999999999998},{"$f":"q!F150","v":0.81699999999999995},{"$f":"q!G150","v":1.4370000000000001},{"$f":"q!H150","v":4.0360000000000005},{"$f":"q!I150","v":9.4890000000000008},{"$f":"q!J150","v":10.329000000000004},{"$f":"q!K150","v":5.516},{"$f":"q!L150","v":3.137},{"$f":"q!M150","v":1.5510000000000002},{"$f":"q!N150","v":1.1000000000000001},{"$f":"q!O150","v":0.95},{"$f":"q!P150","v":1.0940000000000001}]
[0.4,{"$f":"q!E51","v":1.1259999999999999},{"$f":"q!F51","v":0.98799999999999999},{"$f":"q!G51","v":2.6819999999999999},{"$f":"q!H51","v":4.7619999999999996},{"$f":"q!I51","v":5.3159999999999998},{"$f":"q!J51","v":10.184000000000001},{"$f":"q!K51","v":3.0679999999999996},{"$f":"q!L51","v":4.242},{"$f":"q!M51","v":1.9119999999999999},{"$f":"q!N51","v":2.2320000000000002},{"$f":"q!O51","v":1.0920000000000001},{"$f":"q!P51","v":1.0660000000000001},null,null,0.4,{"$f":"q!E71","v":1.2},{"$f":"q!F71","v":1.006},{"$f":"q!G71","v":2.504},{"$f":"q!H71","v":4.266},{"$f":"q!I71","v":5.0339999999999998},{"$f":"q!J71","v":10.768000000000001},{"$f":"q!K71","v":3.286},{"$f":"q!L71","v":4.1019999999999994},{"$f":"q!M71","v":1.8419999999999999},{"$f":"q!N71","v":2.16},{"$f":"q!O71","v":1.1000000000000001},{"$f":"q!P71","v":1.05},null,null,0.4,{"$f":"q!E91","v":1.1020000000000001},{"$f":"q!F91","v":1.01},{"$f":"q!G91","v":2.6379999999999999},{"$f":"q!H91","v":4.6480000000000006},{"$f":"q!I91","v":6.51},{"$f":"q!J91","v":9.7580000000000009},{"$f":"q!K91","v":4.766},{"$f":"q!L91","v":3.76},{"$f":"q!M91","v":1.9339999999999999},{"$f":"q!N91","v":1.9219999999999999},{"$f":"q!O91","v":1.006},{"$f":"q!P91","v":1.1259999999999999},null,0.4,{"$f":"q!E111","v":0.85599999999999998},{"$f":"q!F111","v":0.77600000000000002},{"$f":"q!G111","v":1.298},{"$f":"q!H111","v":2.5739999999999998},{"$f":"q!I111","v":5.0720000000000001},{"$f":"q!J111","v":7.3260000000000005},{"$f":"q!K111","v":3.556},{"$f":"q!L111","v":2.7},{"$f":"q!M111","v":0.97199999999999998},{"$f":"q!N111","v":0.94399999999999995},{"$f":"q!O111","v":0.91600000000000004},{"$f":"q!P111","v":1.016},null,0.4,{"$f":"q!E131","v":0.88},{"$f":"q!F131","v":0.77},{"$f":"q!G131","v":1.33},{"$f":"q!H131","v":2.5020000000000002},{"$f":"q!I131","v":4.46},{"$f":"q!J131","v":6.55},{"$f":"q!K131","v":3.1779999999999999},{"$f":"q!L131","v":2.5960000000000001},{"$f":"q!M131","v":1.026},{"$f":"q!N131","v":0.88600000000000001},{"$f":"q!O131","v":0.89600000000000002},{"$f":"q!P131","v":1.02},null,0.4,{"$f":"q!E151","v":0.83399999999999996},{"$f":"q!F151","v":0.72},{"$f":"q!G151","v":1},{"$f":"q!H151","v":2.4659999999999997},{"$f":"q!I151","v":4.5100000000000007},{"$f":"q!J151","v":6.3220000000000001},{"$f":"q!K151","v":3.1959999999999997},{"$f":"q!L151","v":2.7479999999999998},{"$f":"q!M151","v":1.03},{"$f":"q!N151","v":0.9},{"$f":"q!O151","v":0.86599999999999999},{"$f":"q!P151","v":1.026}]
[0.5,{"$f":"q!E52","v":1.0550000000000002},{"$f":"q!F52","v":0.84499999999999997},{"$f":"q!G52","v":2.16},{"$f":"q!H52","v":3.21},{"$f":"q!I52","v":3.45},{"$f":"q!J52","v":7.1899999999999995},{"$f":"q!K52","v":2.2450000000000001},{"$f":"q!L52","v":3.6399999999999997},{"$f":"q!M52","v":1.48},{"$f":"q!N52","v":2.0099999999999998},{"$f":"q!O52","v":0.98},{"$f":"q!P52","v":0.99},null,null,0.5,{"$f":"q!E72","v":1.1100000000000001},{"$f":"q!F72","v":0.83000000000000007},{"$f":"q!G72","v":2.1550000000000002},{"$f":"q!H72","v":3.21},{"$f":"q!I72","v":3.4699999999999998},{"$f":"q!J72","v":8.5300000000000011},{"$f":"q!K72","v":2.4900000000000002},{"$f":"q!L72","v":3.2850000000000001},{"$f":"q!M72","v":1.4550000000000001},{"$f":"q!N72","v":1.9},{"$f":"q!O72","v":0.96499999999999997},{"$f":"q!P72","v":0.995},null,null,0.5,{"$f":"q!E92","v":1.01},{"$f":"q!F92","v":0.83},{"$f":"q!G92","v":1.92},{"$f":"q!H92","v":3.335},{"$f":"q!I92","v":4.28},{"$f":"q!J92","v":7.1349999999999998},{"$f":"q!K92","v":2.9950000000000001},{"$f":"q!L92","v":3.1749999999999998},{"$f":"q!M92","v":1.4950000000000001},{"$f":"q!N92","v":1.6850000000000001},{"$f":"q!O92","v":0.94499999999999995},{"$f":"q!P92","v":1.06},null,0.5,{"$f":"q!E112","v":0.72499999999999998},{"$f":"q!F112","v":0.70499999999999996},{"$f":"q!G112","v":0.96499999999999997},{"$f":"q!H112","v":1.9449999999999998},{"$f":"q!I112","v":3.1150000000000002},{"$f":"q!J112","v":4.7650000000000006},{"$f":"q!K112","v":2.06},{"$f":"q!L112","v":2.0499999999999998},{"$f":"q!M112","v":0.78500000000000003},{"$f":"q!N112","v":0.82},{"$f":"q!O112","v":0.84},{"$f":"q!P112","v":0.95},null,0.5,{"$f":"q!E132","v":0.76500000000000001},{"$f":"q!F132","v":0.67500000000000004},{"$f":"q!G132","v":0.96499999999999997},{"$f":"q!H132","v":1.82},{"$f":"q!I132","v":2.89},{"$f":"q!J132","v":4.59},{"$f":"q!K132","v":1.9049999999999998},{"$f":"q!L132","v":1.97},{"$f":"q!M132","v":0.84},{"$f":"q!N132","v":0.79500000000000004},{"$f":"q!O132","v":0.82},{"$f":"q!P132","v":0.95499999999999996},null,0.5,{"$f":"q!E152","v":0.72},{"$f":"q!F152","v":0.65500000000000003},{"$f":"q!G152","v":0.83499999999999996},{"$f":"q!H152","v":1.415},{"$f":"q!I152","v":2.6550000000000002},{"$f":"q!J152","v":3.4350000000000001},{"$f":"q!K152","v":1.84},{"$f":"q!L152","v":1.97},{"$f":"q!M152","v":0.875},{"$f":"q!N152","v":0.81},{"$f":"q!O152","v":0.81},{"$f":"q!P152","v":0.96499999999999997}]
[0.6,{"$f":"q!E53","v":0.874},{"$f":"q!F53","v":0.746},{"$f":"q!G53","v":1.786},{"$f":"q!H53","v":2.1059999999999999},{"$f":"q!I53","v":2.3679999999999999},{"$f":"q!J53","v":6.1259999999999994},{"$f":"q!K53","v":1.6839999999999999},{"$f":"q!L53","v":2.95},{"$f":"q!M53","v":1.008},{"$f":"q!N53","v":1.69},{"$f":"q!O53","v":0.89999999999999991},{"$f":"q!P53","v":0.92800000000000005},null,null,0.6,{"$f":"q!E73","v":0.94},{"$f":"q!F73","v":0.78400000000000003},{"$f":"q!G73","v":1.5699999999999998},{"$f":"q!H73","v":1.984},{"$f":"q!I73","v":2.3679999999999999},{"$f":"q!J73","v":6.4580000000000002},{"$f":"q!K73","v":1.8740000000000001},{"$f":"q!L73","v":2.9140000000000001},{"$f":"q!M73","v":0.95199999999999996},{"$f":"q!N73","v":1.6739999999999999},{"$f":"q!O73","v":0.88200000000000001},{"$f":"q!P73","v":0.92800000000000005},null,null,0.6,{"$f":"q!E93","v":0.86},{"$f":"q!F93","v":0.72599999999999998},{"$f":"q!G93","v":1.234},{"$f":"q!H93","v":1.9039999999999999},{"$f":"q!I93","v":3.286},{"$f":"q!J93","v":4.8999999999999995},{"$f":"q!K93","v":2.0019999999999998},{"$f":"q!L93","v":2.706},{"$f":"q!M93","v":0.81400000000000006},{"$f":"q!N93","v":1.3140000000000001},{"$f":"q!O93","v":0.86399999999999999},{"$f":"q!P93","v":0.98},null,0.6,{"$f":"q!E113","v":0.69},{"$f":"q!F113","v":0.63},{"$f":"q!G113","v":0.73799999999999999},{"$f":"q!H113","v":1.06},{"$f":"q!I113","v":1.6320000000000001},{"$f":"q!J113","v":2.6179999999999999},{"$f":"q!K113","v":1.4339999999999999},{"$f":"q!L113","v":1.494},{"$f":"q!M113","v":0.72},{"$f":"q!N113","v":0.76},{"$f":"q!O113","v":0.8},{"$f":"q!P113","v":0.874},null,0.6,{"$f":"q!E133","v":0.68400000000000005},{"$f":"q!F133","v":0.63},{"$f":"q!G133","v":0.74399999999999999},{"$f":"q!H133","v":1.012},{"$f":"q!I133","v":1.6320000000000001},{"$f":"q!J133","v":2.714},{"$f":"q!K133","v":1.3820000000000001},{"$f":"q!L133","v":1.494},{"$f":"q!M133","v":0.72799999999999998},{"$f":"q!N133","v":0.71399999999999997},{"$f":"q!O133","v":0.79},{"$f":"q!P133","v":0.86199999999999999},null,0.6,{"$f":"q!E153","v":0.63},{"$f":"q!F153","v":0.60399999999999998},{"$f":"q!G153","v":0.74},{"$f":"q!H153","v":0.94600000000000006},{"$f":"q!I153","v":1.5840000000000001},{"$f":"q!J153","v":2.5299999999999998},{"$f":"q!K153","v":1.3220000000000001},{"$f":"q!L153","v":1.4379999999999999},{"$f":"q!M153","v":0.74399999999999999},{"$f":"q!N153","v":0.72},{"$f":"q!O153","v":0.78400000000000003},{"$f":"q!P153","v":0.86199999999999999}]
[0.7,{"$f":"q!E54","v":0.76300000000000001},{"$f":"q!F54","v":0.64300000000000002},{"$f":"q!G54","v":1.2430000000000001},{"$f":"q!H54","v":1.5310000000000001},{"$f":"q!I54","v":1.722},{"$f":"q!J54","v":4.6360000000000001},{"$f":"q!K54","v":1.2980000000000003},{"$f":"q!L54","v":2.2950000000000004},{"$f":"q!M54","v":0.78},{"$f":"q!N54","v":1.2},{"$f":"q!O54","v":0.82},{"$f":"q!P54","v":0.83300000000000007},null,null,0.7,{"$f":"q!E74","v":0.81200000000000017},{"$f":"q!F74","v":0.65600000000000003},{"$f":"q!G74","v":1.2430000000000001},{"$f":"q!H74","v":1.516},{"$f":"q!I74","v":1.7120000000000004},{"$f":"q!J74","v":4.8239999999999998},{"$f":"q!K74","v":1.3820000000000001},{"$f":"q!L74","v":2.5170000000000003},{"$f":"q!M74","v":0.78},{"$f":"q!N74","v":1.1860000000000002},{"$f":"q!O74","v":0.79300000000000004},{"$f":"q!P74","v":0.81600000000000006},null,null,0.7,{"$f":"q!E94","v":0.71299999999999997},{"$f":"q!F94","v":0.61299999999999999},{"$f":"q!G94","v":0.93200000000000016},{"$f":"q!H94","v":1.2390000000000001},{"$f":"q!I94","v":2.0670000000000002},{"$f":"q!J94","v":3.4970000000000003},{"$f":"q!K94","v":1.67},{"$f":"q!L94","v":1.9350000000000001},{"$f":"q!M94","v":0.69},{"$f":"q!N94","v":1.056},{"$f":"q!O94","v":0.80300000000000005},{"$f":"q!P94","v":0.93300000000000005},null,0.7,{"$f":"q!E114","v":0.60299999999999998},{"$f":"q!F114","v":0.57299999999999995},{"$f":"q!G114","v":0.64600000000000002},{"$f":"q!H114","v":0.83200000000000007},{"$f":"q!I114","v":1.1380000000000001},{"$f":"q!J114","v":2.0329999999999999},{"$f":"q!K114","v":0.83299999999999996},{"$f":"q!L114","v":0.876},{"$f":"q!M114","v":0.65300000000000002},{"$f":"q!N114","v":0.67300000000000004},{"$f":"q!O114","v":0.78},{"$f":"q!P114","v":0.76300000000000001},null,0.7,{"$f":"q!E134","v":0.56600000000000006},{"$f":"q!F134","v":0.56300000000000006},{"$f":"q!G134","v":0.64600000000000002},{"$f":"q!H134","v":0.82900000000000007},{"$f":"q!I134","v":1.0850000000000002},{"$f":"q!J134","v":2.0329999999999999},{"$f":"q!K134","v":0.85},{"$f":"q!L134","v":0.95299999999999996},{"$f":"q!M134","v":0.66300000000000003},{"$f":"q!N134","v":0.64300000000000002},{"$f":"q!O134","v":0.75},{"$f":"q!P134","v":0.73299999999999998},null,0.7,{"$f":"q!E154","v":0.56000000000000005},{"$f":"q!F154","v":0.56000000000000005},{"$f":"q!G154","v":0.64},{"$f":"q!H154","v":0.79600000000000004},{"$f":"q!I154","v":1.0140000000000002},{"$f":"q!J154","v":1.542},{"$f":"q!K154","v":0.85},{"$f":"q!L154","v":0.88300000000000001},{"$f":"q!M154","v":0.68300000000000005},{"$f":"q!N154","v":0.65300000000000002},{"$f":"q!O154","v":0.75},{"$f":"q!P154","v":0.71900000000000008}]
[0.8,{"$f":"q!E55","v":0.63600000000000001},{"$f":"q!F55","v":0.52},{"$f":"q!G55","v":0.84000000000000008},{"$f":"q!H55","v":0.93199999999999994},{"$f":"q!I55","v":1.3939999999999999},{"$f":"q!J55","v":3.516},{"$f":"q!K55","v":0.91799999999999993},{"$f":"q!L55","v":1.3859999999999999},{"$f":"q!M55","v":0.67400000000000004},{"$f":"q!N55","v":0.98199999999999998},{"$f":"q!O55","v":0.77200000000000002},{"$f":"q!P55","v":0.70200000000000007},null,null,0.8,{"$f":"q!E75","v":0.67400000000000004},{"$f":"q!F75","v":0.52},{"$f":"q!G75","v":0.872},{"$f":"q!H75","v":0.95},{"$f":"q!I75","v":1.3919999999999999},{"$f":"q!J75","v":3.6199999999999997},{"$f":"q!K75","v":0.89200000000000002},{"$f":"q!L75","v":1.6480000000000001},{"$f":"q!M75","v":0.65400000000000003},{"$f":"q!N75","v":0.96399999999999997},{"$f":"q!O75","v":0.75},{"$f":"q!P75","v":0.64400000000000002},null,null,0.8,{"$f":"q!E95","v":0.60399999999999998},{"$f":"q!F95","v":0.55000000000000004},{"$f":"q!G95","v":0.67},{"$f":"q!H95","v":0.99199999999999999},{"$f":"q!I95","v":1.3380000000000001},{"$f":"q!J95","v":2.6280000000000001},{"$f":"q!K95","v":0.93600000000000005},{"$f":"q!L95","v":1.4019999999999999},{"$f":"q!M95","v":0.626},{"$f":"q!N95","v":0.80400000000000005},{"$f":"q!O95","v":0.76200000000000001},{"$f":"q!P95","v":0.81600000000000006},null,0.8,{"$f":"q!E115","v":0.5},{"$f":"q!F115","v":0.51200000000000001},{"$f":"q!G115","v":0.57999999999999996},{"$f":"q!H115","v":0.68200000000000005},{"$f":"q!I115","v":0.82600000000000007},{"$f":"q!J115","v":1.3760000000000001},{"$f":"q!K115","v":0.7},{"$f":"q!L115","v":0.73199999999999998},{"$f":"q!M115","v":0.61},{"$f":"q!N115","v":0.61},{"$f":"q!O115","v":0.75},{"$f":"q!P115","v":0.66},null,0.8,{"$f":"q!E135","v":0.46},{"$f":"q!F135","v":0.50600000000000001},{"$f":"q!G135","v":0.57199999999999995},{"$f":"q!H135","v":0.70599999999999996},{"$f":"q!I135","v":0.79400000000000004},{"$f":"q!J135","v":1.3340000000000001},{"$f":"q!K135","v":0.70199999999999996},{"$f":"q!L135","v":0.748},{"$f":"q!M135","v":0.61199999999999999},{"$f":"q!N135","v":0.61},{"$f":"q!O135","v":0.68200000000000005},{"$f":"q!P135","v":0.56400000000000006},null,0.8,{"$f":"q!E155","v":0.46400000000000002},{"$f":"q!F155","v":0.49199999999999999},{"$f":"q!G155","v":0.56999999999999995},{"$f":"q!H155","v":0.67200000000000004},{"$f":"q!I155","v":0.76},{"$f":"q!J155","v":1.1419999999999999},{"$f":"q!K155","v":0.70199999999999996},{"$f":"q!L155","v":0.73199999999999998},{"$f":"q!M155","v":0.65},{"$f":"q!N155","v":0.61199999999999999},{"$f":"q!O155","v":0.68200000000000005},{"$f":"q!P155","v":0.56000000000000005}]
[0.85,{"$f":"q!E56","v":0.58299999999999996},{"$f":"q!F56","v":0.40649999999999997},{"$f":"q!G56","v":0.74649999999999994},{"$f":"q!H56","v":0.71649999999999991},{"$f":"q!I56","v":1.0114999999999994},{"$f":"q!J56","v":2.9544999999999995},{"$f":"q!K56","v":0.77649999999999997},{"$f":"q!L56","v":1.1524999999999999},{"$f":"q!M56","v":0.61649999999999994},{"$f":"q!N56","v":0.80599999999999994},{"$f":"q!O56","v":0.75},{"$f":"q!P56","v":0.59799999999999964},null,null,0.85,{"$f":"q!E76","v":0.58649999999999991},{"$f":"q!F76","v":0.40649999999999997},{"$f":"q!G76","v":0.75949999999999995},{"$f":"q!H76","v":0.74249999999999983},{"$f":"q!I76","v":1.0324999999999998},{"$f":"q!J76","v":2.7949999999999999},{"$f":"q!K76","v":0.75949999999999995},{"$f":"q!L76","v":1.28},{"$f":"q!M76","v":0.60650000000000004},{"$f":"q!N76","v":0.78},{"$f":"q!O76","v":0.69299999999999984},{"$f":"q!P76","v":0.4624999999999998},null,null,0.85,{"$f":"q!E96","v":0.55299999999999994},{"$f":"q!F96","v":0.52},{"$f":"q!G96","v":0.60649999999999993},{"$f":"q!H96","v":0.80599999999999983},{"$f":"q!I96","v":1.0194999999999999},{"$f":"q!J96","v":2.1559999999999997},{"$f":"q!K96","v":0.77299999999999991},{"$f":"q!L96","v":1.1524999999999999},{"$f":"q!M96","v":0.61},{"$f":"q!N96","v":0.71599999999999986},{"$f":"q!O96","v":0.75},{"$f":"q!P96","v":0.69249999999999978},null,0.85,{"$f":"q!E116","v":0.46},{"$f":"q!F116","v":0.4589999999999998},{"$f":"q!G116","v":0.56000000000000005},{"$f":"q!H116","v":0.5824999999999998},{"$f":"q!I116","v":0.66},{"$f":"q!J116","v":0.96899999999999986},{"$f":"q!K116","v":0.63},{"$f":"q!L116","v":0.65649999999999997},{"$f":"q!M116","v":0.59649999999999992},{"$f":"q!N116","v":0.5694999999999999},{"$f":"q!O116","v":0.71},{"$f":"q!P116","v":0.52649999999999997},null,0.85,{"$f":"q!E136","v":0.39649999999999996},{"$f":"q!F136","v":0.45249999999999979},{"$f":"q!G136","v":0.54},{"$f":"q!H136","v":0.64},{"$f":"q!I136","v":0.71299999999999986},{"$f":"q!J136","v":1.079},{"$f":"q!K136","v":0.64},{"$f":"q!L136","v":0.66649999999999998},{"$f":"q!M136","v":0.60299999999999987},{"$f":"q!N136","v":0.5694999999999999},{"$f":"q!O136","v":0.64649999999999996},{"$f":"q!P136","v":0.5129999999999999},null,0.85,{"$f":"q!E156","v":0.39649999999999996},{"$f":"q!F156","v":0.41},{"$f":"q!G156","v":0.53649999999999998},{"$f":"q!H156","v":0.61299999999999988},{"$f":"q!I156","v":0.7},{"$f":"q!J156","v":0.91949999999999998},{"$f":"q!K156","v":0.63649999999999995},{"$f":"q!L156","v":0.67},{"$f":"q!M156","v":0.61},{"$f":"q!N156","v":0.59649999999999992},{"$f":"q!O156","v":0.6329999999999999},{"$f":"q!P156","v":0.48599999999999988}]
[0.9,{"$f":"q!E57","v":0.48800000000000043},{"$f":"q!F57","v":0.38100000000000006},{"$f":"q!G57","v":0.63},{"$f":"q!H57","v":0.61700000000000033},{"$f":"q!I57","v":0.7420000000000001},{"$f":"q!J57","v":1.8610000000000011},{"$f":"q!K57","v":0.64300000000000013},{"$f":"q!L57","v":1.08},{"$f":"q!M57","v":0.59099999999999997},{"$f":"q!N57","v":0.64100000000000001},{"$f":"q!O57","v":0.68400000000000016},{"$f":"q!P57","v":0.42100000000000004},null,null,0.9,{"$f":"q!E77","v":0.47100000000000003},{"$f":"q!F77","v":0.38},{"$f":"q!G77","v":0.63100000000000001},{"$f":"q!H77","v":0.59099999999999997},{"$f":"q!I77","v":0.76500000000000024},{"$f":"q!J77","v":1.6780000000000004},{"$f":"q!K77","v":0.66999999999999993},{"$f":"q!L77","v":1.1020000000000001},{"$f":"q!M77","v":0.59},{"$f":"q!N77","v":0.64100000000000001},{"$f":"q!O77","v":0.48400000000000026},{"$f":"q!P77","v":0.37100000000000005},null,null,0.9,{"$f":"q!E97","v":0.47100000000000003},{"$f":"q!F97","v":0.42800000000000038},{"$f":"q!G97","v":0.54200000000000015},{"$f":"q!H97","v":0.69400000000000017},{"$f":"q!I97","v":0.76400000000000023},{"$f":"q!J97","v":1.4540000000000011},{"$f":"q!K97","v":0.65200000000000014},{"$f":"q!L97","v":0.95600000000000029},{"$f":"q!M97","v":0.59099999999999997},{"$f":"q!N97","v":0.6130000000000001},{"$f":"q!O97","v":0.71099999999999997},{"$f":"q!P97","v":0.58400000000000019},null,0.9,{"$f":"q!E117","v":0.40400000000000025},{"$f":"q!F117","v":0.37100000000000005},{"$f":"q!G117","v":0.48400000000000021},{"$f":"q!H117","v":0.501},{"$f":"q!I117","v":0.5500000000000006},{"$f":"q!J117","v":0.66100000000000059},{"$f":"q!K117","v":0.54300000000000015},{"$f":"q!L117","v":0.621},{"$f":"q!M117","v":0.54400000000000026},{"$f":"q!N117","v":0.52},{"$f":"q!O117","v":0.64100000000000001},{"$f":"q!P117","v":0.46},null,0.9,{"$f":"q!E137","v":0.37100000000000005},{"$f":"q!F137","v":0.39200000000000013},{"$f":"q!G137","v":0.47200000000000009},{"$f":"q!H137","v":0.55000000000000004},{"$f":"q!I137","v":0.62200000000000011},{"$f":"q!J137","v":0.8280000000000004},{"$f":"q!K137","v":0.58400000000000019},{"$f":"q!L137","v":0.64},{"$f":"q!M137","v":0.54300000000000015},{"$f":"q!N137","v":0.51100000000000001},{"$f":"q!O137","v":0.53},{"$f":"q!P137","v":0.42400000000000021},null,0.9,{"$f":"q!E157","v":0.36100000000000004},{"$f":"q!F157","v":0.36},{"$f":"q!G157","v":0.47100000000000003},{"$f":"q!H157","v":0.53},{"$f":"q!I157","v":0.5500000000000006},{"$f":"q!J157","v":0.67900000000000049},{"$f":"q!K157","v":0.54400000000000026},{"$f":"q!L157","v":0.62200000000000011},{"$f":"q!M157","v":0.59099999999999997},{"$f":"q!N157","v":0.53},{"$f":"q!O157","v":0.52100000000000002},{"$f":"q!P157","v":0.40100000000000008}]
[0.95,{"$f":"q!E58","v":0.38650000000000012},{"$f":"q!F58","v":0.31550000000000006},{"$f":"q!G58","v":0.51200000000000012},{"$f":"q!H58","v":0.49300000000000016},{"$f":"q!I58","v":0.62650000000000006},{"$f":"q!J58","v":1.2150000000000003},{"$f":"q!K58","v":0.6110000000000001},{"$f":"q!L58","v":0.78500000000000025},{"$f":"q!M58","v":0.47650000000000009},{"$f":"q!N58","v":0.59100000000000008},{"$f":"q!O58","v":0.47950000000000031},{"$f":"q!P58","v":0.35550000000000004},null,null,0.95,{"$f":"q!E78","v":0.36},{"$f":"q!F78","v":0.31},{"$f":"q!G78","v":0.48550000000000004},{"$f":"q!H78","v":0.49300000000000016},{"$f":"q!I78","v":0.62650000000000006},{"$f":"q!J78","v":1.2150000000000003},{"$f":"q!K78","v":0.60650000000000015},{"$f":"q!L78","v":0.8905000000000004},{"$f":"q!M78","v":0.43550000000000005},{"$f":"q!N78","v":0.59100000000000008},{"$f":"q!O78","v":0.4},{"$f":"q!P78","v":0.34},null,null,0.95,{"$f":"q!E98","v":0.34650000000000009},{"$f":"q!F98","v":0.36550000000000005},{"$f":"q!G98","v":0.47},{"$f":"q!H98","v":0.52550000000000008},{"$f":"q!I98","v":0.51550000000000007},{"$f":"q!J98","v":1.0485000000000002},{"$f":"q!K98","v":0.59750000000000014},{"$f":"q!L98","v":0.75650000000000006},{"$f":"q!M98","v":0.50100000000000011},{"$f":"q!N98","v":0.58550000000000002},{"$f":"q!O98","v":0.58300000000000018},{"$f":"q!P98","v":0.37550000000000006},null,0.95,{"$f":"q!E118","v":0.30650000000000011},{"$f":"q!F118","v":0.34},{"$f":"q!G118","v":0.4265000000000001},{"$f":"q!H118","v":0.44200000000000012},{"$f":"q!I118","v":0.49650000000000011},{"$f":"q!J118","v":0.49},{"$f":"q!K118","v":0.48550000000000004},{"$f":"q!L118","v":0.5655},{"$f":"q!M118","v":0.47100000000000009},{"$f":"q!N118","v":0.47},{"$f":"q!O118","v":0.46650000000000008},{"$f":"q!P118","v":0.36550000000000005},null,0.95,{"$f":"q!E138","v":0.31100000000000005},{"$f":"q!F138","v":0.34550000000000003},{"$f":"q!G138","v":0.38550000000000006},{"$f":"q!H138","v":0.48550000000000004},{"$f":"q!I138","v":0.52},{"$f":"q!J138","v":0.56650000000000011},{"$f":"q!K138","v":0.50550000000000006},{"$f":"q!L138","v":0.58550000000000002},{"$f":"q!M138","v":0.47100000000000009},{"$f":"q!N138","v":0.47},{"$f":"q!O138","v":0.42550000000000004},{"$f":"q!P138","v":0.36550000000000005},null,0.95,{"$f":"q!E158","v":0.32550000000000007},{"$f":"q!F158","v":0.31},{"$f":"q!G158","v":0.38550000000000006},{"$f":"q!H158","v":0.43200000000000011},{"$f":"q!I158","v":0.52},{"$f":"q!J158","v":0.52300000000000024},{"$f":"q!K158","v":0.49550000000000005},{"$f":"q!L158","v":0.5655},{"$f":"q!M158","v":0.49650000000000011},{"$f":"q!N158","v":0.47},{"$f":"q!O158","v":0.42550000000000004},{"$f":"q!P158","v":0.36}]
[0.99,{"$f":"q!E59","v":0.3},{"$f":"q!F59","v":0.28730000000000006},{"$f":"q!G59","v":0.37910000000000005},{"$f":"q!H59","v":0.37},{"$f":"q!I59","v":0.36910000000000004},{"$f":"q!J59","v":0.95640000000000014},{"$f":"q!K59","v":0.4755000000000002},{"$f":"q!L59","v":0.56830000000000036},{"$f":"q!M59","v":0.42730000000000007},{"$f":"q!N59","v":0.42730000000000007},{"$f":"q!O59","v":0.36},{"$f":"q!P59","v":0.30910000000000004},null,null,0.99,{"$f":"q!E79","v":0.29820000000000008},{"$f":"q!F79","v":0.28730000000000006},{"$f":"q!G79","v":0.36010000000000036},{"$f":"q!H79","v":0.36640000000000011},{"$f":"q!I79","v":0.36910000000000004},{"$f":"q!J79","v":0.93920000000000037},{"$f":"q!K79","v":0.52190000000000036},{"$f":"q!L79","v":0.65020000000000078},{"$f":"q!M79","v":0.39460000000000023},{"$f":"q!N79","v":0.43910000000000005},{"$f":"q!O79","v":0.35640000000000011},{"$f":"q!P79","v":0.30910000000000004},null,null,0.99,{"$f":"q!E99","v":0.28910000000000002},{"$f":"q!F99","v":0.33910000000000007},{"$f":"q!G99","v":0.39460000000000023},{"$f":"q!H99","v":0.40640000000000009},{"$f":"q!I99","v":0.39740000000000042},{"$f":"q!J99","v":0.38910000000000006},{"$f":"q!K99","v":0.42910000000000004},{"$f":"q!L99","v":0.61640000000000017},{"$f":"q!M99","v":0.45820000000000011},{"$f":"q!N99","v":0.42280000000000023},{"$f":"q!O99","v":0.42190000000000027},{"$f":"q!P99","v":0.29910000000000003},null,0.99,{"$f":"q!E119","v":0.25910000000000005},{"$f":"q!F119","v":0.2682000000000001},{"$f":"q!G119","v":0.27910000000000007},{"$f":"q!H119","v":0.35},{"$f":"q!I119","v":0.39740000000000042},{"$f":"q!J119","v":0.42910000000000004},{"$f":"q!K119","v":0.42910000000000004},{"$f":"q!L119","v":0.41820000000000007},{"$f":"q!M119","v":0.39910000000000007},{"$f":"q!N119","v":0.37730000000000008},{"$f":"q!O119","v":0.34},{"$f":"q!P119","v":0.29910000000000003},null,0.99,{"$f":"q!E139","v":0.27550000000000019},{"$f":"q!F139","v":0.29910000000000003},{"$f":"q!G139","v":0.27910000000000007},{"$f":"q!H139","v":0.35},{"$f":"q!I139","v":0.43470000000000059},{"$f":"q!J139","v":0.43820000000000009},{"$f":"q!K139","v":0.42910000000000004},{"$f":"q!L139","v":0.41910000000000003},{"$f":"q!M139","v":0.39910000000000007},{"$f":"q!N139","v":0.37730000000000008},{"$f":"q!O139","v":0.34},{"$f":"q!P139","v":0.29910000000000003},null,0.99,{"$f":"q!E159","v":0.28000000000000003},{"$f":"q!F159","v":0.28910000000000002},{"$f":"q!G159","v":0.27910000000000007},{"$f":"q!H159","v":0.34820000000000007},{"$f":"q!I159","v":0.43470000000000059},{"$f":"q!J159","v":0.43820000000000009},{"$f":"q!K159","v":0.42910000000000004},{"$f":"q!L159","v":0.41910000000000003},{"$f":"q!M159","v":0.39910000000000007},{"$f":"q!N159","v":0.37730000000000008},{"$f":"q!O159","v":0.34},{"$f":"q!P159","v":0.29910000000000003}]
[0.999,{"$f":"q!E60","v":0.3},{"$f":"q!F60","v":0.26},{"$f":"q!G60","v":0.37},{"$f":"q!H60","v":0.37},{"$f":"q!I60","v":0.36},{"$f":"q!J60","v":0.92},{"$f":"q!K60","v":0.43},{"$f":"q!L60","v":0.45},{"$f":"q!M60","v":0.4},{"$f":"q!N60","v":0.4},{"$f":"q!O60","v":0.36},{"$f":"q!P60","v":0.3},null,null,0.999,{"$f":"q!E80","v":0.28000000000000003},{"$f":"q!F80","v":0.26},{"$f":"q!G80","v":0.26},{"$f":"q!H80","v":0.33},{"$f":"q!I80","v":0.36},{"$f":"q!J80","v":0.83},{"$f":"q!K80","v":0.44},{"$f":"q!L80","v":0.45},{"$f":"q!M80","v":0.34},{"$f":"q!N80","v":0.43},{"$f":"q!O80","v":0.32},{"$f":"q!P80","v":0.3},null,null,0.999,{"$f":"q!E100","v":0.28000000000000003},{"$f":"q!F100","v":0.33},{"$f":"q!G100","v":0.34},{"$f":"q!H100","v":0.37},{"$f":"q!I100","v":0.27},{"$f":"q!J100","v":0.38},{"$f":"q!K100","v":0.42},{"$f":"q!L100","v":0.57999999999999996},{"$f":"q!M100","v":0.44},{"$f":"q!N100","v":0.35},{"$f":"q!O100","v":0.34},{"$f":"q!P100","v":0.28999999999999998},null,0.999,{"$f":"q!E120","v":0.25},{"$f":"q!F120","v":0.25},{"$f":"q!G120","v":0.27},{"$f":"q!H120","v":0.35},{"$f":"q!I120","v":0.27},{"$f":"q!J120","v":0.42},{"$f":"q!K120","v":0.42},{"$f":"q!L120","v":0.4},{"$f":"q!M120","v":0.39},{"$f":"q!N120","v":0.35},{"$f":"q!O120","v":0.34},{"$f":"q!P120","v":0.28999999999999998},null,0.999,{"$f":"q!E140","v":0.23},{"$f":"q!F140","v":0.28999999999999998},{"$f":"q!G140","v":0.27},{"$f":"q!H140","v":0.35},{"$f":"q!I140","v":0.28000000000000003},{"$f":"q!J140","v":0.42},{"$f":"q!K140","v":0.42},{"$f":"q!L140","v":0.41},{"$f":"q!M140","v":0.39},{"$f":"q!N140","v":0.35},{"$f":"q!O140","v":0.34},{"$f":"q!P140","v":0.28999999999999998},null,0.999,{"$f":"q!E160","v":0.28000000000000003},{"$f":"q!F160","v":0.28000000000000003},{"$f":"q!G160","v":0.27},{"$f":"q!H160","v":0.33},{"$f":"q!I160","v":0.28000000000000003},{"$f":"q!J160","v":0.42},{"$f":"q!K160","v":0.42},{"$f":"q!L160","v":0.41},{"$f":"q!M160","v":0.39},{"$f":"q!N160","v":0.35},{"$f":"q!O160","v":0.34},{"$f":"q!P160","v":0.28999999999999998}]
[]
[]
[]
["Scenario",{"$f":"B41","v":"Sc 2A"},"vs Natural",null,null,null,null,null,null,null,null,null,null,null,null,"Scenario",{"$f":"Q41","v":"Sc 2B"},"vs Natural",null,null,null,null,null,null,null,null,null,null,null,null,"Scenario",{"$f":"AF41","v":"Sc 3"},"vs Natural",null,null,null,null,null,null,null,null,null,null,null,"Scenario",{"$f":"AT41","v":"Sc 4A"},"vs Natural",null,null,null,null,null,null,null,null,null,null,null,"Scenario",{"$f":"BH41","v":"Sc 4B"},"vs Natural",null,null,null,null,null,null,null,null,null,null,null,"Scenario",{"$f":"BV41","v":"Sc 7"},"vs Natural"]
[1E-3,{"$f":"B43-B3","v":22.65},-1.4100000000000001,-4.7299999999999969,-7.5799999999999983,-9.9399999999999977,-13.730000000000004,-12.719999999999999,-4.6300000000000008,-3.51,6.9999999999999991,2.67,4.8899999999999988,null,null,1E-3,{"$f":"Q43-B3","v":30.91},{"$f":"R43-C3","v":-2.09},-4.740000000000002,-7.5799999999999983,-9.9399999999999977,-13.730000000000004,-12.719999999999999,-4.6300000000000008,-3.51,-2.1500000000000004,-0.66000000000000014,5.24,null,null,1E-3,{"$f":"AF43-B3","v":34.769999999999996},{"$f":"AG43-C3","v":-2.09},-4.740000000000002,-7.5799999999999983,-9.9399999999999977,-13.730000000000004,-12.719999999999999,-4.6300000000000008,-3.51,16.59,-3.5,9.9999999999997868E-3,null,1E-3,{"$f":"AT43-B3","v":-2.02},{"$f":"AU43-C3","v":-4.6499999999999995},-6.6199999999999974,-8.5,-10.780000000000001,-14.650000000000006,-13.61,-5.5500000000000007,-4.3999999999999995,-2.8200000000000003,-4.16,-4.29,null,1E-3,{"$f":"BH43-B3","v":3.4200000000000008},{"$f":"BI43-C3","v":-4.7299999999999995},-6.7899999999999991,-9.019999999999996,-11.290000000000006,-14.739999999999995,-13.709999999999994,-5.67,-4.4999999999999991,-3.86,-4.0299999999999994,-2.37,null,1E-3,{"$f":"BV43-B3","v":-2.9499999999999997},{"$f":"BW43-C3","v":-4.8899999999999997},-6.7899999999999991,-9.019999999999996,-11.290000000000006,-14.739999999999995,-13.709999999999994,-5.67,-4.4999999999999991,-2.4299999999999997,-4.16,-2.1999999999999997]
[0.01,4.080000000000001,-2.4200000000000008,12.849999999999994,-8.9699999999999989,-11.679999999999993,-11.900000000000006,-6.0900000000000034,-3.0299999999999976,-3.0200000000000005,0.35000000000000053,-3.42,3.7,null,null,0.01,28.77,-2.1300000000000008,2.0999999999999979,-8.9699999999999989,-11.679999999999993,-11.900000000000006,-6.0900000000000034,-2.5999999999999979,-3.2800000000000011,-2.2299999999999995,-1.0099999999999998,4.9400000000000004,null,null,0.01,4.3899999999999997,-2.830000000000001,12.79,-8.9699999999999989,-11.680000000000007,-11.899999999999991,-6.0899999999999963,-3.7099999999999991,-3.2800000000000011,0.25,-3.48,-0.35000000000000053,null,0.01,-3.3800000000000003,-6.49,-9.75,-9.8999999999999986,-12.519999999999996,-12.819999999999993,-6.9899999999999949,-2.4799999999999986,-4.1700000000000008,-2.8299999999999996,-4.1099999999999994,-3.58,null,0.01,-2.1300000000000003,-6.58,-9.7900000000000009,-10.469999999999999,-13.019999999999996,-12.899999999999991,-7.0899999999999963,-2.629999999999999,-4.2400000000000011,-3.3899999999999997,-4.08,-3.5700000000000003,null,0.01,-3.0100000000000007,-6.58,-9.7900000000000009,-10.469999999999999,-13.019999999999996,-12.899999999999991,-7.0899999999999963,-2.1899999999999995,-4.2400000000000011,-3.0999999999999996,-4.1199999999999992,-2.1700000000000004]
[0.05,-1.3374999999999995,-1.2090000000000005,-1.6905000000000001,-13.404499999999999,-30.282999999999994,-15.530499999999996,-8.1664999999999992,-4.4280000000000008,-3.7015000000000002,-2.4004999999999996,-2.9894999999999996,-2.5105000000000004,null,null,0.05,0.13550000000000129,-1.572000000000001,-5.6684999999999999,-13.404499999999999,-30.282999999999994,-13.814500000000002,-8.1664999999999992,-4.3949999999999996,-3.8965000000000005,-2.4539999999999997,-2.6454999999999997,-1.5019999999999998,null,null,0.05,-0.70249999999999968,-2.6145000000000005,-5.3340000000000014,-13.264999999999997,-28.32,-17.3005,-8.1664999999999992,-5.3030000000000008,-3.8965000000000005,-1.5849999999999991,-3.2399999999999998,-1.1265000000000001,null,0.05,-3.2925,-4.968,-8.7845000000000013,-16.548499999999997,-29.159999999999997,-17.599000000000004,-9.0665000000000013,-5.6505000000000001,-4.7095000000000002,-3.194,-3.6784999999999997,-3.24,null,0.05,-3.1955,-5.1265000000000001,-8.9954999999999998,-17.235499999999998,-29.416499999999999,-18.320499999999996,-9.1709999999999994,-5.899,-4.7250000000000005,-3.52,-3.6659999999999995,-3.2290000000000001,null,0.05,-3.2119999999999997,-5.9895000000000005,-8.9954999999999998,-17.235499999999998,-29.416499999999999,-17.9465,-9.1709999999999994,-5.5854999999999997,-4.7910000000000004,-3.1194999999999999,-4.0739999999999998,-3.2290000000000001]
[0.1,-2.3210000000000002,-2.8109999999999999,-5.0370000000000017,-9.4870000000000019,-18.649999999999999,-12.110000000000007,-9.7230000000000008,-5.4109999999999987,-3.4059999999999997,-2.1789999999999998,-3.137,-2.492,null,null,0.1,-2.2910000000000004,-2.8109999999999999,-5.5860000000000012,-9.4879999999999995,-14.891999999999996,-12.316000000000003,-9.7230000000000008,-5.1159999999999997,-3.6329999999999996,-2.2570000000000001,-3.0330000000000004,-2.54,null,null,0.1,-2.3479999999999999,-3.0579999999999998,-6.0300000000000011,-9.554000000000002,-11.027000000000001,-12.653999999999996,-9.7230000000000008,-5.5669999999999993,-3.5339999999999998,-2.2370000000000001,-3.1790000000000003,-2.3970000000000002,null,0.1,-3.1580000000000004,-4.3879999999999999,-9.5630000000000006,-11.235000000000001,-12.014999999999993,-13.573999999999998,-10.613,-6.4029999999999996,-4.4239999999999995,-3.1719999999999997,-3.7880000000000003,-3.09,null,0.1,-3.1189999999999998,-4.2119999999999997,-10.110000000000001,-11.245000000000001,-12.375999999999998,-13.673999999999999,-10.743,-6.6249999999999991,-4.4249999999999989,-3.657,-3.7560000000000002,-3.0870000000000002,null,0.1,-3.2120000000000002,-4.4809999999999999,-10.110000000000001,-11.245000000000001,-15.696999999999996,-13.010000000000005,-10.743,-6.5869999999999997,-4.4249999999999989,-3.2169999999999996,-3.863,-3.0870000000000002]
[0.15,-2.1419999999999999,-3.0190000000000001,-5.1065000000000005,-6.9379999999999988,-10.328500000000002,-12.118999999999996,-6.4205000000000023,-4.1324999999999994,-3.2129999999999996,-2.2654999999999998,-3.1034999999999999,-2.5935000000000006,null,null,0.15,-1.9265000000000001,-3.0775000000000001,-6.5080000000000009,-6.990000000000002,-10.216000000000001,-12.222999999999995,-6.4205000000000023,-4.1324999999999994,-3.3724999999999996,-2.1215000000000002,-3.0625,-2.7275000000000005,null,null,0.15,-2.2190000000000003,-3.1614999999999998,-5.9635000000000007,-7.3764999999999983,-9.3734999999999999,-12.875499999999995,-6.4140000000000015,-4.9384999999999994,-3.3294999999999999,-2.42,-3.17,-2.5370000000000004,null,0.15,-2.7130000000000001,-4.3479999999999999,-9.5175000000000018,-10.5055,-10.2135,-14.162499999999998,-7.3105000000000011,-6.2284999999999995,-4.2195,-3.4319999999999999,-3.6929999999999996,-2.9140000000000006,null,0.15,-2.68,-4.4325000000000001,-9.6000000000000014,-10.958499999999999,-10.73,-15.404999999999998,-7.4340000000000011,-6.0224999999999991,-4.2294999999999998,-3.5640000000000001,-3.6534999999999997,-2.8905000000000003,null,0.15,-2.6935000000000002,-4.4660000000000002,-9.6930000000000014,-10.038500000000001,-11.502500000000001,-13.621499999999994,-7.4340000000000011,-6.4084999999999992,-4.2294999999999998,-3.4954999999999998,-3.6929999999999996,-2.8840000000000003]
[0.2,-2.2599999999999998,-3.0700000000000003,-4.2639999999999993,-10.612,-10.864000000000001,-9.2620000000000005,-9.2280000000000033,-3.6700000000000008,-3.0860000000000003,-2.0539999999999998,-2.952,-2.6640000000000001,null,null,0.2,-2.1459999999999999,-3.1580000000000004,-5.194,-10.612,-10.872,-7.8979999999999961,-9.2280000000000033,-4.1759999999999993,-3.2900000000000005,-2.0539999999999998,-2.9180000000000001,-2.6840000000000002,null,null,0.2,-2.3479999999999999,-3.1620000000000008,-4.7039999999999997,-8.6859999999999999,-10.872,-9.7040000000000006,-7.2180000000000017,-4.79,-3.2800000000000002,-2.3340000000000001,-3.0979999999999999,-2.66,null,0.2,-2.6459999999999999,-4.0520000000000005,-7.1760000000000002,-11.836000000000002,-11.148,-12.577999999999999,-9.376000000000003,-5.774,-4.1780000000000008,-3.2880000000000003,-3.4660000000000002,-2.81,null,0.2,-2.6219999999999999,-4.0640000000000001,-7.3439999999999994,-12.024000000000001,-11.404,-12.584,-10.324000000000003,-5.8019999999999996,-4.1780000000000008,-3.5020000000000002,-3.4539999999999997,-2.7919999999999998,null,0.2,-2.6419999999999995,-4.0920000000000005,-7.5460000000000003,-12.022,-11.597999999999999,-11.16,-9.3160000000000025,-6.202,-4.1840000000000002,-3.5339999999999998,-3.4740000000000002,-2.782]
[0.3,-2.1899999999999995,-3.302,-4.1680000000000001,-8.8350000000000009,-6.7419999999999973,-5.27,-7.9779999999999998,-3.9169999999999998,-3.3420000000000001,-2.2780000000000005,-3.0790000000000002,-2.581,null,null,0.3,-2.0979999999999999,-3.1779999999999999,-4.7360000000000007,-9.1940000000000008,-7.1059999999999981,-5.1709999999999994,-7.9330000000000007,-4.2379999999999995,-3.6339999999999999,-2.3320000000000003,-2.9530000000000003,-2.5869999999999997,null,null,0.3,-2.2850000000000001,-3.2130000000000001,-4.2480000000000002,-8.3300000000000018,-6.1069999999999958,-5.7329999999999988,-7.0410000000000004,-4.7399999999999993,-3.117,-2.7960000000000003,-3.2060000000000004,-2.5510000000000002,null,0.3,-2.5350000000000001,-3.6340000000000003,-5.9109999999999996,-10.536000000000001,-8.4539999999999971,-8.195999999999998,-8.7330000000000005,-5.6879999999999997,-4.3470000000000004,-3.7190000000000003,-3.33,-2.6440000000000001,null,0.3,-2.5049999999999999,-3.637,-6.0069999999999997,-10.972000000000001,-8.4769999999999985,-8.9119999999999973,-8.7430000000000003,-5.7169999999999996,-4.3470000000000004,-3.8310000000000004,-3.33,-2.6440000000000001,null,0.3,-2.508,-3.734,-6.3029999999999999,-10.634,-7.2359999999999971,-9.1099999999999959,-8.75,-5.7479999999999993,-4.165,-3.8800000000000003,-3.33,-2.6269999999999998]
[0.4,-2.016,-2.8780000000000001,-3.72,-5.8360000000000012,-8.1460000000000008,-4.4979999999999993,-8.8280000000000012,-3.6100000000000003,-3.5659999999999998,-2.548,-2.9999999999999996,-2.4299999999999997,null,null,0.4,-1.9419999999999999,-2.8600000000000003,-3.8980000000000001,-6.3320000000000007,-8.4280000000000008,-3.9139999999999997,-8.6100000000000012,-3.7500000000000009,-3.6360000000000001,-2.62,-2.9919999999999995,-2.4459999999999997,null,null,0.4,-2.04,-2.8559999999999999,-3.7640000000000002,-5.95,-6.952,-4.9239999999999995,-7.1300000000000008,-4.0920000000000005,-3.5439999999999996,-2.8580000000000005,-3.0859999999999994,-2.37,null,0.4,-2.286,-3.09,-5.1040000000000001,-8.0240000000000009,-8.39,-7.3559999999999999,-8.34,-5.1520000000000001,-4.5060000000000002,-3.8360000000000003,-3.1759999999999997,-2.48,null,0.4,-2.262,-3.0960000000000001,-5.0720000000000001,-8.0960000000000001,-9.0019999999999989,-8.1320000000000014,-8.718,-5.2560000000000002,-4.452,-3.8940000000000001,-3.1959999999999997,-2.476,null,0.4,-2.3079999999999998,-3.1459999999999999,-5.4020000000000001,-8.1320000000000014,-8.9519999999999982,-8.36,-8.7000000000000011,-5.104000000000001,-4.4479999999999995,-3.8800000000000003,-3.2259999999999995,-2.4699999999999998]
[0.5,-1.8399999999999999,-2.7300000000000004,-3.49,-5.9850000000000003,-8.4699999999999989,-4.8450000000000006,-7.0799999999999992,-3.0200000000000005,-3.68,-2.375,-2.81,-2.2949999999999999,null,null,0.5,-1.7849999999999999,-2.7450000000000001,-3.4950000000000001,-5.9850000000000003,-8.4499999999999993,-3.504999999999999,-6.8349999999999991,-3.375,-3.7050000000000001,-2.4849999999999999,-2.8250000000000002,-2.29,null,null,0.5,-1.885,-2.7450000000000001,-3.7300000000000004,-5.86,-7.64,-4.9000000000000004,-6.3299999999999992,-3.4850000000000003,-3.665,-2.6999999999999997,-2.8450000000000002,-2.2250000000000001,null,0.5,-2.17,-2.87,-4.6850000000000005,-7.25,-8.8049999999999997,-7.27,-7.2649999999999988,-4.6100000000000003,-4.375,-3.5649999999999999,-2.95,-2.335,null,0.5,-2.13,-2.9000000000000004,-4.6850000000000005,-7.375,-9.0299999999999994,-7.4450000000000003,-7.42,-4.6900000000000004,-4.32,-3.59,-2.97,-2.33,null,0.5,-2.1749999999999998,-2.92,-4.8150000000000004,-7.78,-9.2650000000000006,-8.6,-7.4849999999999994,-4.6900000000000004,-4.2850000000000001,-3.5749999999999997,-2.98,-2.3200000000000003]
[0.6,-1.8439999999999999,-2.3839999999999999,-3.0179999999999993,-5.2459999999999996,-6.7720000000000002,-2.572000000000001,-5.5259999999999998,-2.7459999999999996,-3.7559999999999993,-2.448,-2.6880000000000002,-2.0859999999999999,null,null,0.6,-1.778,-2.3460000000000001,-3.2339999999999995,-5.3679999999999994,-6.7720000000000002,-2.2400000000000002,-5.3360000000000003,-2.7819999999999996,-3.8119999999999994,-2.464,-2.706,-2.0859999999999999,null,null,0.6,-1.8580000000000001,-2.4039999999999999,-3.5699999999999994,-5.4479999999999995,-5.854000000000001,-3.7980000000000009,-5.2080000000000002,-2.9899999999999998,-3.9499999999999993,-2.8239999999999998,-2.7240000000000002,-2.0339999999999998,null,0.6,-2.028,-2.5,-4.0659999999999989,-6.2919999999999998,-7.5080000000000009,-6.08,-5.7759999999999998,-4.202,-4.0439999999999996,-3.3780000000000001,-2.7880000000000003,-2.1399999999999997,null,0.6,-2.0339999999999998,-2.5,-4.0599999999999996,-6.34,-7.5080000000000009,-5.984,-5.8279999999999994,-4.202,-4.0359999999999996,-3.4239999999999999,-2.798,-2.1519999999999997,null,0.6,-2.0880000000000001,-2.5259999999999998,-4.0639999999999992,-6.4059999999999997,-7.5560000000000009,-6.168000000000001,-5.8879999999999999,-4.258,-4.0199999999999996,-3.4180000000000001,-2.8040000000000003,-2.1519999999999997]
[0.7,-1.7530000000000001,-2.1779999999999999,-2.875,-4.2289999999999992,-5.6190000000000015,-2.7839999999999998,-4.9219999999999997,-2.8279999999999998,-3.5720000000000001,-2.593,-2.5300000000000002,-1.8900000000000001,null,null,0.7,-1.7039999999999997,-2.165,-2.875,-4.2439999999999998,-5.6290000000000004,-2.5960000000000001,-4.8379999999999992,-2.6059999999999999,-3.5720000000000001,-2.6070000000000002,-2.5569999999999999,-1.9070000000000003,null,null,0.7,-1.8029999999999999,-2.2080000000000002,-3.1859999999999999,-4.5209999999999999,-5.2740000000000009,-3.9229999999999996,-4.55,-3.1880000000000002,-3.6620000000000004,-2.7370000000000001,-2.5470000000000002,-1.7900000000000003,null,0.7,-1.913,-2.2480000000000002,-3.4720000000000004,-4.9279999999999999,-6.2030000000000012,-5.3870000000000005,-5.3869999999999996,-4.2469999999999999,-3.6990000000000003,-3.12,-2.5700000000000003,-1.9600000000000004,null,0.7,-1.95,-2.258,-3.4720000000000004,-4.931,-6.2560000000000011,-5.3870000000000005,-5.37,-4.17,-3.6890000000000001,-3.1500000000000004,-2.6,-1.9900000000000002,null,0.7,-1.956,-2.2610000000000001,-3.4780000000000002,-4.9639999999999995,-6.3270000000000008,-5.8780000000000001,-5.37,-4.24,-3.6690000000000005,-3.14,-2.6,-2.0040000000000004]
[0.8,-1.5299999999999998,-1.964,-2.5060000000000002,-4.1500000000000004,-4.87,-2.42,-4.58,-3.2300000000000004,-3.218,-2.46,-2.1840000000000002,-1.7200000000000002,null,null,0.8,-1.492,-1.964,-2.4740000000000002,-4.1319999999999997,-4.8719999999999999,-2.3160000000000003,-4.6059999999999999,-2.9680000000000004,-3.238,-2.4780000000000002,-2.206,-1.778,null,null,0.8,-1.5619999999999998,-1.9339999999999999,-2.6760000000000002,-4.09,-4.9260000000000002,-3.3079999999999998,-4.5620000000000003,-3.2140000000000004,-3.266,-2.6379999999999999,-2.194,-1.6060000000000001,null,0.8,-1.6659999999999999,-1.972,-2.766,-4.3999999999999995,-5.4380000000000006,-4.5599999999999996,-4.798,-3.8840000000000003,-3.282,-2.8320000000000003,-2.206,-1.762,null,0.8,-1.706,-1.978,-2.774,-4.3759999999999994,-5.4700000000000006,-4.6020000000000003,-4.7960000000000003,-3.8680000000000003,-3.28,-2.8320000000000003,-2.274,-1.8580000000000001,null,0.8,-1.702,-1.992,-2.7760000000000002,-4.41,-5.5040000000000004,-4.7940000000000005,-4.7960000000000003,-3.8840000000000003,-3.242,-2.83,-2.274,-1.8620000000000001]
[0.85,-1.4570000000000001,-1.8454999999999999,-2.1955,-3.6149999999999993,-4.5310000000000006,-2.3215000000000003,-4.4614999999999991,-3.3734999999999999,-3.1300000000000003,-2.4504999999999999,-2.0265,-1.7750000000000001,null,null,0.85,-1.4535,-1.8454999999999999,-2.1824999999999997,-3.5889999999999995,-4.51,-2.4809999999999999,-4.4784999999999995,-3.2459999999999996,-3.14,-2.4764999999999997,-2.0834999999999999,-1.9104999999999999,null,null,0.85,-1.4870000000000001,-1.7319999999999998,-2.3354999999999997,-3.5254999999999992,-4.5229999999999997,-3.12,-4.4649999999999999,-3.3734999999999999,-3.1365000000000003,-2.5405000000000002,-2.0265,-1.6804999999999999,null,0.85,-1.58,-1.7929999999999999,-2.3819999999999997,-3.7489999999999997,-4.8824999999999994,-4.3070000000000004,-4.6079999999999997,-3.8694999999999999,-3.1500000000000004,-2.6870000000000003,-2.0665,-1.8464999999999998,null,0.85,-1.6435,-1.7995000000000001,-2.4019999999999997,-3.6914999999999991,-4.8294999999999995,-4.1970000000000001,-4.5979999999999999,-3.8594999999999997,-3.1435000000000004,-2.6870000000000003,-2.13,-1.8599999999999999,null,0.85,-1.6435,-1.8419999999999999,-2.4055,-3.7184999999999993,-4.8424999999999994,-4.3564999999999996,-4.6014999999999997,-3.8559999999999999,-3.1365000000000003,-2.66,-2.1435,-1.887]
[0.9,-1.5329999999999995,-1.6620000000000001,-2.194,-3.0010000000000017,-3.8140000000000001,-2.8139999999999996,-3.9820000000000007,-3.0410000000000004,-2.9850000000000003,-2.492,-1.9530000000000003,-1.7489999999999999,null,null,0.9,-1.5499999999999998,-1.6630000000000003,-2.1929999999999996,-3.0270000000000019,-3.7909999999999999,-2.9970000000000003,-3.955000000000001,-3.0190000000000001,-2.9860000000000002,-2.492,-2.153,-1.7989999999999999,null,null,0.9,-1.5499999999999998,-1.6149999999999998,-2.2819999999999996,-2.9240000000000022,-3.7919999999999998,-3.2209999999999996,-3.9730000000000008,-3.165,-2.9850000000000003,-2.52,-1.9260000000000006,-1.5859999999999999,null,0.9,-1.6169999999999995,-1.6720000000000002,-2.34,-3.1170000000000022,-4.0059999999999993,-4.0140000000000002,-4.0820000000000007,-3.5000000000000004,-3.032,-2.613,-1.9960000000000004,-1.71,null,0.9,-1.65,-1.651,-2.3519999999999999,-3.0680000000000023,-3.9340000000000002,-3.8470000000000004,-4.0410000000000004,-3.4810000000000003,-3.0329999999999999,-2.6219999999999999,-2.1070000000000002,-1.7459999999999998,null,0.9,-1.66,-1.6830000000000003,-2.3529999999999998,-3.0880000000000019,-4.0059999999999993,-3.9960000000000004,-4.0810000000000004,-3.4990000000000006,-2.9850000000000003,-2.6029999999999998,-2.1160000000000005,-1.7689999999999999]
[0.95,-1.302,-1.51,-1.773000000000001,-2.4755000000000011,-3.0185,-2.9624999999999999,-3.2250000000000014,-2.5945000000000014,-2.3855000000000008,-1.9009999999999998,-1.7145000000000001,-1.5390000000000006,null,null,0.95,-1.3285,-1.5155000000000001,-1.799500000000001,-2.4755000000000011,-3.0185,-2.9624999999999999,-3.2295000000000016,-2.4890000000000012,-2.4265000000000008,-1.9009999999999998,-1.7940000000000005,-1.5545000000000004,null,null,0.95,-1.3420000000000001,-1.46,-1.8150000000000011,-2.4430000000000014,-3.1295000000000002,-3.129,-3.2385000000000015,-2.6230000000000016,-2.3610000000000007,-1.9064999999999999,-1.6110000000000002,-1.5190000000000006,null,0.95,-1.3820000000000001,-1.4855,-1.8585000000000009,-2.5265000000000013,-3.1484999999999999,-3.6875,-3.3505000000000016,-2.8140000000000014,-2.3910000000000009,-2.0220000000000002,-1.7275000000000003,-1.5290000000000004,null,0.95,-1.3774999999999999,-1.48,-1.8995000000000011,-2.4830000000000014,-3.125,-3.6110000000000002,-3.3305000000000016,-2.7940000000000014,-2.3910000000000009,-2.0220000000000002,-1.7685000000000004,-1.5290000000000004,null,0.95,-1.363,-1.5155000000000001,-1.8995000000000011,-2.5365000000000015,-3.125,-3.6545000000000001,-3.3405000000000014,-2.8140000000000014,-2.3655000000000008,-2.0220000000000002,-1.7685000000000004,-1.5345000000000004]
[0.99,-1.2477000000000016,-1.1612000000000009,-1.2283000000000006,-1.866900000000002,-2.4251000000000023,-2.0633000000000017,-2.1920000000000006,-1.6109,-1.4337000000000004,-1.2465000000000006,-1.0920000000000005,-0.95909999999999995,null,null,0.99,-1.2495000000000016,-1.1612000000000009,-1.2473000000000003,-1.870500000000002,-2.4251000000000023,-2.0805000000000016,-2.1456000000000004,-1.5289999999999995,-1.4664000000000001,-1.2347000000000006,-1.0956000000000006,-0.95909999999999995,null,null,0.99,-1.2586000000000017,-1.1094000000000008,-1.2128000000000003,-1.830500000000002,-2.3968000000000016,-2.630600000000002,-2.2384000000000008,-1.5628000000000002,-1.4028000000000003,-1.2510000000000003,-1.0301000000000005,-0.96909999999999996,null,0.99,-1.2886000000000015,-1.1803000000000008,-1.3283000000000005,-1.886900000000002,-2.3968000000000016,-2.590600000000002,-2.2384000000000008,-1.7610000000000001,-1.4619000000000004,-1.2965000000000004,-1.1120000000000005,-0.96909999999999996,null,0.99,-1.2722000000000016,-1.1494000000000009,-1.3283000000000005,-1.886900000000002,-2.3595000000000015,-2.5815000000000019,-2.2384000000000008,-1.7601000000000002,-1.4619000000000004,-1.2965000000000004,-1.1120000000000005,-0.96909999999999996,null,0.99,-1.2677000000000016,-1.1594000000000011,-1.3283000000000005,-1.888700000000002,-2.3595000000000015,-2.5815000000000019,-2.2384000000000008,-1.7601000000000002,-1.4619000000000004,-1.2965000000000004,-1.1120000000000005,-0.96909999999999996]
[0.999,{"$f":"B59-B19","v":-0.82000000000000006},-0.86999999999999988,-1.1099999999999999,-1.33,-1.87,-1.4900000000000002,-2.0099999999999998,-1.6199999999999999,-1.37,-1.1099999999999999,-0.91,-0.95,null,null,0.999,-0.84000000000000008,{"$f":"R59-C19","v":-0.86999999999999988},-1.22,-1.3699999999999999,-1.87,-1.58,-2,-1.6199999999999999,-1.43,-1.08,-0.95,-0.95,null,null,0.999,-0.84000000000000008,{"$f":"AG59-C19","v":-0.79999999999999982},-1.1399999999999999,-1.33,-1.96,-2.0300000000000002,-2.02,-1.4899999999999998,-1.33,-1.1600000000000001,-0.92999999999999994,-0.96,null,0.999,-0.87000000000000011,{"$f":"AU59-C19","v":-0.87999999999999989},-1.21,-1.35,-1.96,-1.9900000000000002,-2.02,-1.67,-1.38,-1.1600000000000001,-0.92999999999999994,-0.96,null,0.999,-0.89000000000000012,{"$f":"BI59-C19","v":-0.83999999999999986},-1.21,-1.35,-1.95,-1.9900000000000002,-2.02,-1.66,-1.38,-1.1600000000000001,-0.92999999999999994,-0.96,null,0.999,-0.84000000000000008,{"$f":"BW59-C19","v":-0.84999999999999987},-1.21,-1.3699999999999999,-1.95,-1.9900000000000002,-2.02,-1.66,-1.38,-1.1600000000000001,-0.92999999999999994,-0.96]
["sum",{"$f":"SUM(B64:B80)","v":1.1368000000000018},{"$f":"SUM(C64:C80)","v":-36.423700000000004},-36.255800000000008,-103.56089999999999,-148.0231,-108.69180000000001,-107.13250000000001,-56.892400000000009,-52.374699999999997,-25.451000000000004,-36.918999999999997,-21.644100000000002,null,null,"sum",{"$f":"SUM(Q64:Q80)","v":36.231500000000011},{"$f":"SUM(R64:R80)","v":-37.151700000000005},-54.950800000000008,-104.63150000000002,-144.75459999999998,-103.72450000000001,-106.31459999999998,-56.671500000000002,-54.027900000000002,-37.436700000000002,-37.644100000000002,-19.540599999999998,null,null,"sum",{"$f":"SUM(AF64:AF80)","v":13.631899999999993},{"$f":"SUM(AG64:AG80)","v":-38.992400000000004},-43.94080000000001,-101.6835,-133.76680000000002,-118.88060000000002,-101.08739999999999,-62.861800000000009,-53.249299999999991,-17.666999999999998,-43.792599999999993,-28.351100000000002,null,"sum",{"$f":"SUM(AT64:AT80)","v":-36.545099999999998},{"$f":"SUM(AU64:AU80)","v":-52.220800000000004},-86.533800000000014,-122.58439999999999,-147.0283,-140.82159999999999,-113.5639,-73.483500000000006,-61.768900000000002,-48.964500000000001,-47.747500000000002,-40.259599999999999,null,"sum",{"$f":"SUM(BH64:BH80)","v":-29.746699999999997},{"$f":"SUM(BI64:BI80)","v":-52.433900000000008},-87.891300000000001,-125.52240000000002,-150.17749999999998,-144.31199999999998,-115.57490000000001,-74.106099999999984,-61.830900000000014,-52.001499999999993,-47.855000000000011,-38.452600000000004,null,"sum",{"$f":"SUM(BV64:BV80)","v":-37.230700000000006},{"$f":"SUM(BW64:BW80)","v":-54.127400000000002},-88.958799999999968,-124.95870000000004,-153.64699999999996,-142.86650000000003,-114.73440000000002,-74.156099999999995,-61.527399999999993,-49.360500000000002,-48.668000000000006,-36.906599999999997]
[]
[]
["Scenario",{"$f":"B41","v":"Sc 2A"},"vs Present Hydrology",null,null,null,null,null,null,null,null,null,null,null,null,"Scenario",{"$f":"Q41","v":"Sc 2B"},"vs Present Hydrology",null,null,null,null,null,null,null,null,null,null,null,null,"Scenario",{"$f":"AF41","v":"Sc 3"},"vs Present Hydrology",null,null,null,null,null,null,null,null,null,null,null,"Scenario",{"$f":"AT41","v":"Sc 4A"},"vs Present Hydrology",null,null,null,null,null,null,null,null,null,null,null,"Scenario",{"$f":"BH41","v":"Sc 4B"},"vs Present Hydrology",null,null,null,null,null,null,null,null,null,null,null,"Scenario",{"$f":"BV41","v":"Sc 7"},"vs Present Hydrology"]
[1E-3,{"$f":"B43-B23","v":7.2499999999999964},1.88,-9.7299999999999969,0,0,0,0,0,0,-9.1199999999999992,0.80000000000000071,1.5399999999999991,null,null,1E-3,{"$f":"Q43-B23","v":15.509999999999998},{"$f":"R43-C23","v":1.2000000000000002},-9.740000000000002,0,0,0,0,0,0,-18.27,-2.5299999999999994,1.8900000000000006,null,null,1E-3,{"$f":"AF43-B23","v":19.369999999999997},{"$f":"AG43-C23","v":1.2000000000000002},-9.740000000000002,0,0,0,0,0,0,0.47000000000000242,-5.3699999999999992,-3.34,null,1E-3,{"$f":"AT43-B23","v":-17.420000000000002},{"$f":"AU43-C23","v":-1.3599999999999994},-11.619999999999997,-0.92000000000000171,-0.84000000000000341,-0.92000000000000171,-0.89000000000000057,-0.91999999999999993,-0.88999999999999968,-18.939999999999998,-6.0299999999999994,-7.64,null,1E-3,{"$f":"BH43-B3","v":3.4200000000000008},{"$f":"BI43-C3","v":-4.7299999999999995},-6.7899999999999991,-9.019999999999996,-11.290000000000006,-14.739999999999995,-13.709999999999994,-5.67,-4.4999999999999991,-3.86,-4.0299999999999994,-2.37,null,1E-3,{"$f":"BV43-B23","v":-18.350000000000001},{"$f":"BW43-C23","v":-1.5999999999999996},-11.79,-1.4399999999999977,-1.3500000000000085,-1.0099999999999909,-0.98999999999999488,-1.0399999999999991,-0.98999999999999932,-18.549999999999997,-6.0299999999999994,-5.5499999999999989]
[0.01,-3.0899999999999981,1.2400000000000002,-2.6300000000000026,0,0,0,0,-8.9999999999998082E-2,0.26000000000000068,0.87999999999999989,-4.1500000000000004,-0.28999999999999915,null,null,0.01,21.6,1.5300000000000002,-13.379999999999999,0,0,0,0,0.34000000000000163,0,-1.7000000000000002,-1.7400000000000002,0.95000000000000107,null,null,0.01,-2.7799999999999994,0.83000000000000007,-2.6899999999999977,0,0,0,0,-0.76999999999999957,0,0.77999999999999936,-4.2100000000000009,-4.34,null,0.01,-10.549999999999999,-2.8299999999999996,-25.229999999999997,-0.92999999999999972,-0.8399999999999892,-0.92000000000000171,-0.89999999999999858,0.46000000000000085,-0.88999999999999968,-2.3000000000000003,-4.84,-7.5699999999999994,null,0.01,-2.1300000000000003,-6.58,-9.7900000000000009,-10.469999999999999,-13.019999999999996,-12.899999999999991,-7.0899999999999963,-2.629999999999999,-4.2400000000000011,-3.3899999999999997,-4.08,-3.5700000000000003,null,0.01,-10.18,-2.9199999999999995,-25.269999999999996,-1.5,-1.3399999999999892,-1,-1,0.75,-0.96,-2.5700000000000003,-4.8499999999999996,-6.16]
[0.05,-0.70549999999999979,1.4055,2.6485000000000003,2.8260000000000005,-1.9629999999999939,-0.58399999999999608,0,0.63649999999999984,4.5000000000001705E-3,-5.9999999999997833E-3,-0.34399999999999986,-4.9995000000000003,null,null,0.05,0.76750000000000096,1.0424999999999995,-1.3294999999999995,2.8260000000000005,-1.9629999999999939,1.1319999999999979,0,0.66950000000000109,-0.19050000000000011,-5.9499999999999886E-2,0,-3.9909999999999997,null,null,0.05,-7.0500000000000007E-2,0,-0.99500000000000099,2.9655000000000022,0,-2.3539999999999992,0,-0.23850000000000016,-0.19050000000000011,0.80950000000000077,-0.59450000000000003,-3.6154999999999999,null,0.05,-2.6605000000000003,-2.3534999999999999,-4.4455000000000009,-0.31799999999999784,-0.83999999999999631,-2.6525000000000034,-0.90000000000000213,-0.58599999999999941,-1.0034999999999998,-0.7995000000000001,-1.0330000000000001,-5.7290000000000001,null,0.05,-3.1955,-5.1265000000000001,-8.9954999999999998,-17.235499999999998,-29.416499999999999,-18.320499999999996,-9.1709999999999994,-5.899,-4.7250000000000005,-3.52,-3.6659999999999995,-3.2290000000000001,null,0.05,-2.58,-3.375,-4.6565000000000003,-1.004999999999999,-1.0964999999999989,-3,-1.0045000000000002,-0.52099999999999902,-1.085,-0.72500000000000009,-1.4284999999999999,-5.718]
[0.1,0.36699999999999999,0.24699999999999989,0.41399999999999881,-0.33599999999999852,-6.7830000000000013,-0.55200000000000671,0,0.15600000000000058,0.12800000000000011,0.12300000000000022,-0.37400000000000011,-2.024,null,null,0.1,0.3969999999999998,0.24699999999999989,-0.13500000000000068,-0.33699999999999619,-3.0249999999999986,-0.75800000000000267,0,0.45099999999999962,-9.8999999999999755E-2,4.4999999999999929E-2,-0.27000000000000024,-2.0720000000000001,null,null,0.1,0.3400000000000003,0,-0.57900000000000063,-0.40299999999999869,0.83999999999999631,-1.0959999999999965,0,0,0,6.4999999999999947E-2,-0.41600000000000015,-1.9290000000000003,null,0.1,-0.47,-1.33,-4.1120000000000001,-2.0839999999999979,-0.14799999999999613,-2.0159999999999982,-0.88999999999999879,-0.8360000000000003,-0.88999999999999968,-0.86999999999999966,-1.0250000000000001,-2.6219999999999999,null,0.1,-3.1189999999999998,-4.2119999999999997,-10.110000000000001,-11.245000000000001,-12.375999999999998,-13.673999999999999,-10.743,-6.6249999999999991,-4.4249999999999989,-3.657,-3.7560000000000002,-3.0870000000000002,null,0.1,-0.52400000000000002,-1.423,-4.6590000000000007,-2.0939999999999976,-3.8299999999999983,-1.4520000000000053,-1.0199999999999996,-1.0200000000000005,-0.89099999999999957,-0.91499999999999959,-1.1000000000000001,-2.6190000000000002]
[0.15,0.10800000000000032,0.14249999999999963,1.5635000000000003,0.86900000000000155,-0.11600000000000321,-0.83200000000000074,-6.5000000000008384E-3,0.98499999999999943,0.11650000000000027,0.18100000000000005,-3.4499999999999975E-2,-1.2380000000000004,null,null,0.15,0.32350000000000012,8.3999999999999631E-2,0.16199999999999992,0.81699999999999839,-3.5000000000025011E-3,-0.93599999999999994,-6.5000000000008384E-3,0.98499999999999943,-4.2999999999999705E-2,0.32499999999999973,6.5000000000001723E-3,-1.3720000000000003,null,null,0.15,3.0999999999999917E-2,0,0.70650000000000013,0.4305000000000021,0.83899999999999864,-1.5884999999999998,0,0.17899999999999938,0,2.6499999999999968E-2,-0.10099999999999976,-1.1815000000000002,null,0.15,-0.46300000000000008,-1.1865000000000001,-2.8475000000000001,-2.6984999999999992,-1.0000000000012221E-3,-2.8755000000000024,-0.89649999999999963,-1.1110000000000007,-0.88999999999999968,-0.98550000000000004,-0.62399999999999989,-1.5585000000000004,null,0.15,-2.68,-4.4325000000000001,-9.6000000000000014,-10.958499999999999,-10.73,-15.404999999999998,-7.4340000000000011,-6.0224999999999991,-4.2294999999999998,-3.5640000000000001,-3.6534999999999997,-2.8905000000000003,null,0.15,-0.44350000000000001,-1.3045000000000002,-3.0230000000000001,-2.2315000000000005,-1.2900000000000027,-2.3344999999999985,-1.0199999999999996,-1.2910000000000004,-0.89999999999999991,-1.0489999999999999,-0.62399999999999989,-1.5285000000000004]
[0.2,-2.0000000000000018E-3,0.1619999999999997,1.1340000000000003,-2.2160000000000011,0.10999999999999588,-1.2719999999999985,-1.0760000000000005,1.4439999999999991,0.19399999999999995,0.3879999999999999,5.9999999999997833E-3,-0.88200000000000012,null,null,0.2,0.11199999999999988,7.3999999999999622E-2,0.20399999999999974,-2.2160000000000011,0.10199999999999676,9.2000000000005855E-2,-1.0760000000000005,0.93800000000000061,-1.0000000000000231E-2,0.3879999999999999,4.0000000000000036E-2,-0.90199999999999991,null,null,0.2,-9.000000000000008E-2,6.9999999999999618E-2,0.69399999999999995,-0.29000000000000092,0.10199999999999676,-1.7139999999999986,0.93400000000000105,0.32399999999999984,0,0.10799999999999965,-0.14000000000000012,-0.87799999999999989,null,0.2,-0.3879999999999999,-0.82000000000000028,-1.7780000000000005,-3.4400000000000031,-0.17400000000000304,-4.5879999999999974,-1.2240000000000002,-0.66000000000000014,-0.89800000000000013,-0.84600000000000031,-0.50800000000000001,-1.028,null,0.2,-2.6219999999999999,-4.0640000000000001,-7.3439999999999994,-12.024000000000001,-11.404,-12.584,-10.324000000000003,-5.8019999999999996,-4.1780000000000008,-3.5020000000000002,-3.4539999999999997,-2.7919999999999998,null,0.2,-0.3839999999999999,-0.86000000000000032,-2.1480000000000006,-3.6260000000000012,-0.62400000000000233,-3.1699999999999982,-1.1639999999999997,-1.0880000000000001,-0.90400000000000014,-1.0920000000000003,-0.51600000000000001,-1]
[0.3,4.8000000000000043E-2,0.18199999999999994,0.57500000000000018,-0.61300000000000043,-0.63500000000000156,1.0589999999999993,-0.64200000000000035,0.86399999999999988,-0.10999999999999988,0.53200000000000003,7.7000000000000179E-2,-0.36099999999999999,null,null,0.3,0.1399999999999999,0.30599999999999983,7.0000000000001172E-3,-0.97199999999999953,-0.99900000000000233,1.1579999999999995,-0.59700000000000131,0.54300000000000015,-0.40199999999999969,0.4780000000000002,0.20300000000000029,-0.36699999999999999,null,null,0.3,-4.7000000000000153E-2,0.27099999999999991,0.49500000000000011,-0.10800000000000054,0,0.59600000000000009,0.29499999999999904,4.1000000000000369E-2,0.11500000000000021,1.4000000000000234E-2,-4.9999999999999822E-2,-0.33100000000000018,null,0.3,-0.29700000000000015,-0.15000000000000013,-1.1679999999999997,-2.3140000000000001,-2.3470000000000013,-1.8669999999999991,-1.3970000000000011,-0.90700000000000003,-1.115,-0.90899999999999981,-0.17399999999999993,-0.42399999999999993,null,0.3,-2.5049999999999999,-3.637,-6.0069999999999997,-10.972000000000001,-8.4769999999999985,-8.9119999999999973,-8.7430000000000003,-5.7169999999999996,-4.3470000000000004,-3.8310000000000004,-3.33,-2.6440000000000001,null,0.3,-0.27000000000000013,-0.25000000000000022,-1.5599999999999998,-2.4119999999999999,-1.1290000000000013,-2.780999999999997,-1.4140000000000006,-0.96700000000000008,-0.93299999999999983,-1.0699999999999998,-0.17399999999999993,-0.40700000000000003]
[0.4,2.3999999999999799E-2,4.2000000000000037E-2,0.68599999999999994,0.73999999999999932,-0.53600000000000048,0.49800000000000111,-1.8180000000000005,0.57200000000000006,4.9999999999999822E-2,0.31000000000000028,8.2000000000000073E-2,-7.9999999999999849E-2,null,null,0.4,9.7999999999999865E-2,6.0000000000000053E-2,0.50800000000000001,0.24399999999999977,-0.8180000000000005,1.0820000000000007,-1.6,0.4319999999999995,-2.000000000000024E-2,0.23800000000000021,9.000000000000008E-2,-9.5999999999999863E-2,null,null,0.4,0,6.4000000000000057E-2,0.6419999999999999,0.62600000000000033,0.65799999999999947,7.2000000000000952E-2,-0.12000000000000011,8.9999999999999858E-2,7.1999999999999842E-2,0,-4.0000000000000036E-3,-2.0000000000000018E-2,null,0.4,-0.24600000000000011,-0.16999999999999993,-0.69799999999999995,-1.4480000000000004,-0.78000000000000025,-2.3599999999999994,-1.33,-0.96999999999999975,-0.89000000000000012,-0.97799999999999998,-9.3999999999999972E-2,-0.12999999999999989,null,0.4,-2.262,-3.0960000000000001,-5.0720000000000001,-8.0960000000000001,-9.0019999999999989,-8.1320000000000014,-8.718,-5.2560000000000002,-4.452,-3.8940000000000001,-3.1959999999999997,-2.476,null,0.4,-0.26800000000000013,-0.22599999999999998,-0.996,-1.5560000000000005,-1.3419999999999996,-3.3639999999999999,-1.6900000000000004,-0.92200000000000015,-0.83200000000000007,-1.0219999999999998,-0.14400000000000002,-0.11999999999999988]
[0.5,6.5000000000000169E-2,6.9999999999999951E-2,0.56000000000000005,0.125,-0.16999999999999993,6.4999999999999503E-2,-0.75,0.54,-6.0000000000000053E-2,0.37499999999999978,4.0000000000000036E-2,-5.0000000000000044E-2,null,null,0.5,0.12000000000000011,5.5000000000000049E-2,0.55500000000000016,0.125,-0.15000000000000036,1.4050000000000011,-0.50499999999999989,0.1850000000000005,-8.4999999999999964E-2,0.2649999999999999,2.5000000000000022E-2,-4.500000000000004E-2,null,null,0.5,2.0000000000000018E-2,5.4999999999999938E-2,0.31999999999999984,0.25,0.66000000000000014,9.9999999999997868E-3,0,7.5000000000000178E-2,-4.4999999999999929E-2,5.0000000000000044E-2,5.0000000000000044E-3,2.0000000000000018E-2,null,0.5,-0.26500000000000001,-7.0000000000000062E-2,-0.63500000000000012,-1.1400000000000001,-0.50499999999999989,-2.3599999999999994,-0.93500000000000005,-1.0499999999999998,-0.755,-0.81500000000000006,-9.9999999999999978E-2,-9.000000000000008E-2,null,0.5,-2.13,-2.9000000000000004,-4.6850000000000005,-7.375,-9.0299999999999994,-7.4450000000000003,-7.42,-4.6900000000000004,-4.32,-3.59,-2.97,-2.33,null,0.5,-0.27,-0.12,-0.76500000000000012,-1.67,-0.96499999999999986,-3.69,-1.155,-1.1299999999999997,-0.66500000000000004,-0.82499999999999996,-0.12999999999999989,-7.5000000000000067E-2]
[0.6,1.4000000000000012E-2,7.1999999999999953E-2,0.52600000000000002,9.9999999999997868E-3,-0.42600000000000016,1.5899999999999999,-0.30000000000000004,0.45800000000000018,6.9999999999999951E-2,0.48199999999999998,4.9999999999999933E-2,-3.5999999999999921E-2,null,null,0.6,7.999999999999996E-2,0.10999999999999999,0.30999999999999983,-0.1120000000000001,-0.42600000000000016,1.9220000000000006,-0.10999999999999988,0.42200000000000015,1.3999999999999901E-2,0.46599999999999997,3.2000000000000028E-2,-3.5999999999999921E-2,null,null,0.6,0,5.1999999999999935E-2,-2.6000000000000023E-2,-0.19200000000000017,0.49199999999999999,0.36399999999999988,1.7999999999999794E-2,0.21399999999999997,-0.124,0.10600000000000009,1.4000000000000012E-2,1.6000000000000014E-2,null,0.6,-0.17000000000000004,-4.4000000000000039E-2,-0.52200000000000002,-1.036,-1.1619999999999999,-1.9179999999999997,-0.55000000000000004,-0.998,-0.21800000000000008,-0.44799999999999995,-4.9999999999999933E-2,-8.9999999999999969E-2,null,0.6,-2.0339999999999998,-2.5,-4.0599999999999996,-6.34,-7.5080000000000009,-5.984,-5.8279999999999994,-4.202,-4.0359999999999996,-3.4239999999999999,-2.798,-2.1519999999999997,null,0.6,-0.22999999999999998,-7.0000000000000062E-2,-0.52,-1.1499999999999999,-1.21,-2.0059999999999998,-0.66199999999999992,-1.054,-0.19400000000000006,-0.48799999999999999,-6.5999999999999948E-2,-0.10199999999999998]
[0.7,4.3000000000000038E-2,4.3000000000000038E-2,0.31099999999999994,-7.6999999999999957E-2,-9.4000000000000528E-2,1.1389999999999998,-0.38499999999999979,0.73200000000000021,7.0000000000000062E-3,0.20999999999999996,1.9999999999999907E-2,-6.6999999999999948E-2,null,null,0.7,9.2000000000000193E-2,5.600000000000005E-2,0.31099999999999994,-9.2000000000000082E-2,-0.10400000000000009,1.3269999999999995,-0.30099999999999993,0.95400000000000018,7.0000000000000062E-3,0.19600000000000017,-7.0000000000000062E-3,-8.3999999999999964E-2,null,null,0.7,-7.0000000000000062E-3,1.3000000000000012E-2,0,-0.36899999999999999,0.25099999999999967,0,-1.3000000000000123E-2,0.37199999999999989,-8.3000000000000074E-2,6.6000000000000059E-2,3.0000000000000027E-3,3.3000000000000029E-2,null,0.7,-0.11699999999999999,-2.7000000000000024E-2,-0.28600000000000014,-0.77600000000000002,-0.67800000000000038,-1.4640000000000004,-0.85000000000000009,-0.68700000000000017,-0.12,-0.31699999999999995,-2.0000000000000018E-2,-0.13700000000000001,null,0.7,-1.95,-2.258,-3.4720000000000004,-4.931,-6.2560000000000011,-5.3870000000000005,-5.37,-4.17,-3.6890000000000001,-3.1500000000000004,-2.6,-1.9900000000000002,null,0.7,-0.15999999999999992,-3.9999999999999925E-2,-0.29200000000000015,-0.81200000000000006,-0.80200000000000027,-1.9550000000000003,-0.83300000000000007,-0.68000000000000016,-8.9999999999999969E-2,-0.33699999999999997,-5.0000000000000044E-2,-0.18099999999999994]
[0.8,5.2000000000000046E-2,0,8.8000000000000078E-2,-0.12800000000000011,7.9999999999997851E-3,0.79199999999999982,-0.22799999999999998,0.248,2.4000000000000021E-2,0.19199999999999995,2.200000000000002E-2,-2.7999999999999914E-2,null,null,0.8,9.000000000000008E-2,0,0.12,-0.1100000000000001,5.9999999999997833E-3,0.89599999999999946,-0.25399999999999989,0.51000000000000023,4.0000000000000036E-3,0.17399999999999993,0,-8.5999999999999965E-2,null,null,0.8,2.0000000000000018E-2,3.0000000000000027E-2,-8.1999999999999962E-2,-6.800000000000006E-2,-4.8000000000000043E-2,-9.6000000000000085E-2,-0.20999999999999985,0.26400000000000001,-2.4000000000000021E-2,1.4000000000000012E-2,1.2000000000000011E-2,8.6000000000000076E-2,null,0.8,-8.3999999999999964E-2,-8.0000000000000071E-3,-0.17200000000000004,-0.378,-0.56000000000000005,-1.3480000000000001,-0.44599999999999995,-0.40599999999999992,-4.0000000000000036E-2,-0.18000000000000005,0,-6.9999999999999951E-2,null,0.8,-1.706,-1.978,-2.774,-4.3759999999999994,-5.4700000000000006,-4.6020000000000003,-4.7960000000000003,-3.8680000000000003,-3.28,-2.8320000000000003,-2.274,-1.8580000000000001,null,0.8,-0.11999999999999994,-2.8000000000000025E-2,-0.18200000000000005,-0.38800000000000001,-0.62600000000000011,-1.5820000000000003,-0.44399999999999995,-0.40599999999999992,0,-0.17800000000000005,-6.7999999999999949E-2,-0.16999999999999993]
[0.85,5.3499999999999992E-2,-4.3500000000000039E-2,0.11350000000000005,-0.17499999999999971,-4.7500000000000542E-2,0.95700000000000007,-1.6499999999999959E-2,9.6999999999999975E-2,6.4999999999999503E-3,0.11949999999999994,2.3500000000000076E-2,-4.8000000000000265E-2,null,null,0.85,5.699999999999994E-2,-4.3500000000000039E-2,0.12650000000000006,-0.1489999999999998,-2.650000000000019E-2,0.79750000000000054,-3.3499999999999974E-2,0.22450000000000014,-3.4999999999999476E-3,9.3500000000000028E-2,-3.3500000000000085E-2,-0.18350000000000011,null,null,0.85,2.3499999999999965E-2,7.0000000000000007E-2,-2.6499999999999968E-2,-8.5499999999999798E-2,-3.9500000000000091E-2,0.15850000000000031,-2.0000000000000018E-2,9.6999999999999975E-2,0,2.949999999999986E-2,2.3500000000000076E-2,4.6499999999999875E-2,null,0.85,-6.9499999999999951E-2,8.9999999999997859E-3,-7.2999999999999843E-2,-0.30899999999999983,-0.39899999999999991,-1.0284999999999995,-0.16299999999999992,-0.39899999999999991,-1.3500000000000068E-2,-0.1170000000000001,-1.6499999999999959E-2,-0.11949999999999994,null,0.85,-1.6435,-1.7995000000000001,-2.4019999999999997,-3.6914999999999991,-4.8294999999999995,-4.1970000000000001,-4.5979999999999999,-3.8594999999999997,-3.1435000000000004,-2.6870000000000003,-2.13,-1.8599999999999999,null,0.85,-0.13300000000000001,-4.0000000000000036E-2,-9.6499999999999919E-2,-0.27849999999999975,-0.35899999999999999,-1.0779999999999994,-0.15649999999999997,-0.38549999999999984,0,-9.000000000000008E-2,-9.3500000000000028E-2,-0.16000000000000003]
[0.9,2.6000000000000301E-2,-2.8999999999999915E-2,2.0000000000000018E-2,-0.11799999999999988,-1.7999999999999905E-2,0.11000000000000099,-3.0000000000000027E-2,0.13900000000000012,-9.000000000000008E-3,3.1000000000000028E-2,-5.9999999999997833E-3,-1.0000000000000508E-2,null,null,0.9,8.999999999999897E-3,-2.9999999999999971E-2,2.1000000000000019E-2,-0.14400000000000024,5.0000000000002265E-3,-7.2999999999999732E-2,-3.0000000000002247E-3,0.16100000000000014,-1.0000000000000009E-2,3.1000000000000028E-2,-0.20599999999999968,-6.0000000000000497E-2,null,null,0.9,8.999999999999897E-3,1.8000000000000405E-2,-6.7999999999999838E-2,-4.1000000000000036E-2,4.0000000000002256E-3,-0.29699999999999904,-2.1000000000000019E-2,1.5000000000000346E-2,-9.000000000000008E-3,3.0000000000001137E-3,2.1000000000000019E-2,0.15299999999999964,null,0.9,-5.7999999999999885E-2,-3.8999999999999924E-2,-0.12599999999999978,-0.23400000000000021,-0.20999999999999941,-1.0899999999999994,-0.13,-0.31999999999999995,-5.5999999999999717E-2,-8.9999999999999969E-2,-4.8999999999999932E-2,2.8999999999999471E-2,null,0.9,-1.65,-1.651,-2.3519999999999999,-3.0680000000000023,-3.9340000000000002,-3.8470000000000004,-4.0410000000000004,-3.4810000000000003,-3.0329999999999999,-2.6219999999999999,-2.1070000000000002,-1.7459999999999998,null,0.9,-0.10100000000000009,-4.9999999999999989E-2,-0.13899999999999996,-0.20500000000000018,-0.20999999999999941,-1.0719999999999996,-0.12899999999999989,-0.31899999999999984,-9.000000000000008E-3,-7.999999999999996E-2,-0.16899999999999993,-3.0000000000000471E-2]
[0.95,1.0000000000000564E-3,-3.449999999999992E-2,-3.3499999999999974E-2,-1.4500000000000013E-2,9.5499999999999918E-2,5.950000000000033E-2,1.3499999999999956E-2,4.5000000000000262E-2,-6.9000000000000006E-2,2.4499999999999966E-2,-2.2499999999999798E-2,-4.4999999999999485E-3,null,null,0.95,-2.5500000000000078E-2,-3.999999999999998E-2,-6.0000000000000053E-2,-1.4500000000000013E-2,9.5499999999999918E-2,5.950000000000033E-2,9.000000000000008E-3,0.15050000000000041,-0.11000000000000004,2.4499999999999966E-2,-0.10200000000000009,-1.9999999999999962E-2,null,null,0.95,-3.8999999999999979E-2,1.5500000000000069E-2,-7.5500000000000123E-2,1.7999999999999905E-2,-1.5500000000000069E-2,-0.10699999999999976,0,1.650000000000007E-2,-4.4499999999999984E-2,1.8999999999999906E-2,8.1000000000000072E-2,1.5500000000000069E-2,null,0.95,-7.8999999999999959E-2,-9.9999999999999534E-3,-0.11899999999999999,-6.5500000000000058E-2,-3.4500000000000031E-2,-0.66549999999999998,-0.1120000000000001,-0.17449999999999999,-7.4500000000000011E-2,-9.6500000000000141E-2,-3.5500000000000032E-2,5.5000000000000604E-3,null,0.95,-1.3774999999999999,-1.48,-1.8995000000000011,-2.4830000000000014,-3.125,-3.6110000000000002,-3.3305000000000016,-2.7940000000000014,-2.3910000000000009,-2.0220000000000002,-1.7685000000000004,-1.5290000000000004,null,0.95,-0.06,-3.999999999999998E-2,-0.16000000000000003,-7.5500000000000067E-2,-1.1000000000000121E-2,-0.63249999999999973,-0.10200000000000009,-0.17449999999999999,-4.8999999999999988E-2,-9.6500000000000141E-2,-7.6500000000000068E-2,0]
[0.99,-2.2800000000000264E-2,-8.2000000000000961E-3,-9.0899999999999925E-2,-3.6400000000000099E-2,-2.830000000000038E-2,0.40349999999999953,4.6400000000000163E-2,-4.6299999999999786E-2,-3.0900000000000039E-2,4.9999999999999989E-2,-1.6400000000000137E-2,1.0000000000000009E-2,null,null,0.99,-2.4600000000000177E-2,-8.2000000000000961E-3,-0.10989999999999961,-3.999999999999998E-2,-2.830000000000038E-2,0.38629999999999975,9.2800000000000327E-2,3.5600000000000631E-2,-6.3599999999999879E-2,6.1799999999999966E-2,-2.0000000000000018E-2,1.0000000000000009E-2,null,null,0.99,-3.370000000000023E-2,4.3599999999999917E-2,-7.5399999999999745E-2,0,0,-0.16380000000000056,0,1.8000000000000238E-3,0,4.5500000000000151E-2,4.5500000000000151E-2,0,null,0.99,-6.3700000000000201E-2,-2.7300000000000046E-2,-0.1908999999999999,-5.6400000000000117E-2,0,-0.12380000000000058,0,-0.19640000000000007,-5.9100000000000041E-2,0,-3.6400000000000099E-2,0,null,0.99,-1.2722000000000016,-1.1494000000000009,-1.3283000000000005,-1.886900000000002,-2.3595000000000015,-2.5815000000000019,-2.2384000000000008,-1.7601000000000002,-1.4619000000000004,-1.2965000000000004,-1.1120000000000005,-0.96909999999999996,null,0.99,-4.2800000000000227E-2,-6.4000000000001278E-3,-0.1908999999999999,-5.8200000000000029E-2,3.7300000000000166E-2,-0.11470000000000052,0,-0.19550000000000012,-5.9100000000000041E-2,0,-3.6400000000000099E-2,0]
[0.999,{"$f":"B59-B39","v":4.9999999999999989E-2},1.0000000000000009E-2,-9.9999999999999978E-2,0,8.9999999999999969E-2,0.54,1.0000000000000009E-2,-0.11000000000000004,-3.999999999999998E-2,5.0000000000000044E-2,1.9999999999999962E-2,1.0000000000000009E-2,null,null,0.999,3.0000000000000027E-2,{"$f":"R59-C39","v":1.0000000000000009E-2},-0.20999999999999996,-3.999999999999998E-2,8.9999999999999969E-2,0.44999999999999996,2.0000000000000018E-2,-0.11000000000000004,-9.9999999999999978E-2,8.0000000000000016E-2,-2.0000000000000018E-2,1.0000000000000009E-2,null,null,0.999,3.0000000000000027E-2,{"$f":"AG59-C39","v":8.0000000000000016E-2},-0.12999999999999995,0,0,0,0,1.9999999999999907E-2,0,0,0,0,null,0.999,0,{"$f":"AU59-C39","v":0},-0.19999999999999996,-2.0000000000000018E-2,0,3.999999999999998E-2,0,-0.16000000000000003,-4.9999999999999989E-2,0,0,0,null,0.999,-0.89000000000000012,{"$f":"BI59-C19","v":-0.83999999999999986},-1.21,-1.35,-1.95,-1.9900000000000002,-2.02,-1.66,-1.38,-1.1600000000000001,-0.92999999999999994,-0.96,null,0.999,3.0000000000000027E-2,{"$f":"BW59-C39","v":3.0000000000000027E-2},-0.19999999999999996,-3.999999999999998E-2,1.0000000000000009E-2,3.999999999999998E-2,0,-0.15000000000000008,-4.9999999999999989E-2,0,0,0]
["SUM",{"$f":"SUM(B85:B101)","v":4.281200000000001},{"$f":"SUM(C85:C101)","v":5.3807999999999989},-3.9448999999999983,0.8561000000000013,-10.51330000000001,3.972999999999999,-5.1821000000000019,6.6702000000000021,0.54160000000000097,-5.1779999999999982,-3.8068999999999988,-8.5580000000000034,null,null,"SUM",{"$f":"SUM(Q85:Q101)","v":39.375900000000001},{"$f":"SUM(R85:R101)","v":4.6527999999999992},-22.639900000000001,-0.21449999999999841,-7.2448000000000023,8.9403000000000024,-4.3642000000000021,6.8911000000000033,-1.1115999999999997,-17.163699999999995,-4.5319999999999983,-6.4544999999999995,null,null,"SUM",{"$f":"SUM(AF85:AF101)","v":16.776299999999992},{"$f":"SUM(AG85:AG101)","v":2.8120999999999996},-11.629900000000001,2.7335000000000047,3.7429999999999906,-6.2157999999999927,0.86299999999999977,0.70080000000000009,-0.33300000000000007,2.6060000000000021,-10.680499999999997,-15.265000000000001,null,"SUM",{"$f":"SUM(AT85:AT101)","v":-33.400699999999993},{"$f":"SUM(AU85:AU101)","v":-10.4163},-54.222899999999989,-18.167400000000004,-9.5184999999999889,-28.156800000000004,-11.613500000000004,-9.9208999999999996,-8.8526000000000007,-28.691499999999998,-14.635399999999999,-27.173499999999997,null,"SUM",{"$f":"SUM(BH85:BH101)","v":-29.746699999999997},{"$f":"SUM(BI85:BI101)","v":-52.433900000000008},-87.891300000000001,-125.52240000000002,-150.17749999999998,-144.31199999999998,-115.57490000000001,-74.106099999999984,-61.830900000000014,-52.001499999999993,-47.855000000000011,-38.452600000000004,null,"SUM",{"$f":"SUM(BV85:BV101)","v":-34.086300000000001},{"$f":"SUM(BW85:BW101)","v":-12.322899999999999},-56.647900000000014,-20.541699999999999,-16.137199999999996,-30.201699999999992,-12.783999999999995,-10.593500000000001,-8.6111000000000004,-29.087499999999991,-15.555899999999999,-23.820499999999999]
[]
["Flow Duration options:",1E-3,0.01,0.05,0.1,0.15,0.2,0.3,0.4,0.5,0.6,0.7,0.8,0.85,0.9,0.95,0.99,0.999]
["Flow duration to compare:",0.3]
[null,"Oct","Nov","Dec","Jan","Feb","Mar","Apr","May","Jun","Jul","Aug","Sep"]
["Natural",{"$f":"VLOOKUP($B$105,$A$3:$M$19,2,FALSE)","v":3.4849999999999999},{"$f":"VLOOKUP($B$105,$A$3:$M$19,3,FALSE)","v":4.5510000000000002},{"$f":"VLOOKUP($B$105,$A$3:$M$19,4,FALSE)","v":7.74},{"$f":"VLOOKUP($B$105,$A$3:$M$19,5,FALSE)","v":14.670000000000002},{"$f":"VLOOKUP($B$105,$A$3:$M$19,6,FALSE)","v":16.724999999999998},{"$f":"VLOOKUP($B$105,$A$3:$M$19,7,FALSE)","v":19.439},{"$f":"VLOOKUP($B$105,$A$3:$M$19,8,FALSE)","v":14.266},{"$f":"VLOOKUP($B$105,$A$3:$M$19,9,FALSE)","v":8.8849999999999998},{"$f":"VLOOKUP($B$105,$A$3:$M$19,10,FALSE)","v":5.7160000000000002},{"$f":"VLOOKUP($B$105,$A$3:$M$19,11,FALSE)","v":4.9800000000000004},{"$f":"VLOOKUP($B$105,$A$3:$M$19,12,FALSE)","v":4.28},{"$f":"VLOOKUP($B$105,$A$3:$M$19,13,FALSE)","v":3.7210000000000001}]
["Present",{"$f":"VLOOKUP($B$105,$A$23:$M$39,2,FALSE)","v":1.2470000000000001},{"$f":"VLOOKUP($B$105,$A$23:$M$39,3,FALSE)","v":1.0670000000000002},{"$f":"VLOOKUP($B$105,$A$23:$M$39,4,FALSE)","v":2.9969999999999999},{"$f":"VLOOKUP($B$105,$A$23:$M$39,5,FALSE)","v":6.4480000000000004},{"$f":"VLOOKUP($B$105,$A$23:$M$39,6,FALSE)","v":10.618000000000002},{"$f":"VLOOKUP($B$105,$A$23:$M$39,7,FALSE)","v":13.110000000000001},{"$f":"VLOOKUP($B$105,$A$23:$M$39,8,FALSE)","v":6.9300000000000006},{"$f":"VLOOKUP($B$105,$A$23:$M$39,9,FALSE)","v":4.1040000000000001},{"$f":"VLOOKUP($B$105,$A$23:$M$39,10,FALSE)","v":2.484},{"$f":"VLOOKUP($B$105,$A$23:$M$39,11,FALSE)","v":2.17},{"$f":"VLOOKUP($B$105,$A$23:$M$39,12,FALSE)","v":1.1239999999999999},{"$f":"VLOOKUP($B$105,$A$23:$M$39,13,FALSE)","v":1.5010000000000001}]
[{"$f":"B41","v":"Sc 2A"},{"$f":"VLOOKUP($B$105,$A$43:$M$59,2,FALSE)","v":1.2950000000000002},{"$f":"VLOOKUP($B$105,$A$43:$M$59,3,FALSE)","v":1.2490000000000001},{"$f":"VLOOKUP($B$105,$A$43:$M$59,4,FALSE)","v":3.5720000000000001},{"$f":"VLOOKUP($B$105,$A$43:$M$59,5,FALSE)","v":5.835},{"$f":"VLOOKUP($B$105,$A$43:$M$59,6,FALSE)","v":9.9830000000000005},{"$f":"VLOOKUP($B$105,$A$43:$M$59,7,FALSE)","v":14.169},{"$f":"VLOOKUP($B$105,$A$43:$M$59,8,FALSE)","v":6.2880000000000003},{"$f":"VLOOKUP($B$105,$A$43:$M$59,9,FALSE)","v":4.968},{"$f":"VLOOKUP($B$105,$A$43:$M$59,10,FALSE)","v":2.3740000000000001},{"$f":"VLOOKUP($B$105,$A$43:$M$59,11,FALSE)","v":2.702},{"$f":"VLOOKUP($B$105,$A$43:$M$59,12,FALSE)","v":1.2010000000000001},{"$f":"VLOOKUP($B$105,$A$43:$M$59,13,FALSE)","v":1.1400000000000001}]
[{"$f":"Q63","v":"Sc 2B"},{"$f":"VLOOKUP($B$105,$P$43:$AB$59,2,FALSE)","v":1.387},{"$f":"VLOOKUP($B$105,$P$43:$AB59,3,FALSE)","v":1.373},{"$f":"VLOOKUP($B$105,$P$43:$AB$59,4,FALSE)","v":3.004},{"$f":"VLOOKUP($B$105,$P$43:$AB$59,5,FALSE)","v":5.4760000000000009},{"$f":"VLOOKUP($B$105,$P$43:$AB$59,6,FALSE)","v":9.6189999999999998},{"$f":"VLOOKUP($B$105,$P$43:$AB$59,7,FALSE)","v":14.268000000000001},{"$f":"VLOOKUP($B$105,$P$43:$AB$59,8,FALSE)","v":6.3329999999999993},{"$f":"VLOOKUP($B$105,$P$43:$AB$59,9,FALSE)","v":4.6470000000000002},{"$f":"VLOOKUP($B$105,$P$43:$AB$59,10,FALSE)","v":2.0820000000000003},{"$f":"VLOOKUP($B$105,$P$43:$AB$59,11,FALSE)","v":2.6480000000000001},{"$f":"VLOOKUP($B$105,$P$43:$AB$59,12,FALSE)","v":1.3270000000000002},{"$f":"VLOOKUP($B$105,$P$43:$AB$59,13,FALSE)","v":1.1340000000000001}]
[{"$f":"AF63","v":"Sc 3"},{"$f":"VLOOKUP($B$105,$AE$43:$AQ$59,2,FALSE)","v":1.2},{"$f":"VLOOKUP($B$105,$AE$43:$AQ$59,3,FALSE)","v":1.3380000000000001},{"$f":"VLOOKUP($B$105,$AE$43:$AQ$59,4,FALSE)","v":3.492},{"$f":"VLOOKUP($B$105,$AE$43:$AQ$59,5,FALSE)","v":6.34},{"$f":"VLOOKUP($B$105,$AE$43:$AQ$59,6,FALSE)","v":10.618000000000002},{"$f":"VLOOKUP($B$105,$AE$43:$AQ$59,7,FALSE)","v":13.706000000000001},{"$f":"VLOOKUP($B$105,$AE$43:$AQ$59,8,FALSE)","v":7.2249999999999996},{"$f":"VLOOKUP($B$105,$AE$43:$AQ$59,9,FALSE)","v":4.1450000000000005},{"$f":"VLOOKUP($B$105,$AE$43:$AQ$59,10,FALSE)","v":2.5990000000000002},{"$f":"VLOOKUP($B$105,$AE$43:$AQ$59,11,FALSE)","v":2.1840000000000002},{"$f":"VLOOKUP($B$105,$AE$43:$AQ$59,12,FALSE)","v":1.0740000000000001},{"$f":"VLOOKUP($B$105,$AE$43:$AQ$59,13,FALSE)","v":1.17}]
[{"$f":"AT41","v":"Sc 4A"},{"$f":"VLOOKUP($B$105,$AS$43:$BE$59,2,FALSE)","v":0.95},{"$f":"VLOOKUP($B$105,$AS$43:$BE$59,3,FALSE)","v":0.91700000000000004},{"$f":"VLOOKUP($B$105,$AS$43:$BE$59,4,FALSE)","v":1.8290000000000002},{"$f":"VLOOKUP($B$105,$AS$43:$BE$59,5,FALSE)","v":4.1340000000000003},{"$f":"VLOOKUP($B$105,$AS$43:$BE$59,6,FALSE)","v":8.2710000000000008},{"$f":"VLOOKUP($B$105,$AS$43:$BE$59,7,FALSE)","v":11.243000000000002},{"$f":"VLOOKUP($B$105,$AS$43:$BE$59,8,FALSE)","v":5.5329999999999995},{"$f":"VLOOKUP($B$105,$AS$43:$BE$59,9,FALSE)","v":3.1970000000000001},{"$f":"VLOOKUP($B$105,$AS$43:$BE$59,10,FALSE)","v":1.369},{"$f":"VLOOKUP($B$105,$AS$43:$BE$59,11,FALSE)","v":1.2610000000000001},{"$f":"VLOOKUP($B$105,$AS$43:$BE$59,12,FALSE)","v":0.95},{"$f":"VLOOKUP($B$105,$AS$43:$BE$59,13,FALSE)","v":1.0770000000000002}]
[{"$f":"BH41","v":"Sc 4B"},{"$f":"VLOOKUP($B$105,$BG$43:$BS$59,2,FALSE)","v":0.98},{"$f":"VLOOKUP($B$105,$BG$43:$BS$59,3,FALSE)","v":0.91400000000000003},{"$f":"VLOOKUP($B$105,$BG$43:$BS$59,4,FALSE)","v":1.7330000000000003},{"$f":"VLOOKUP($B$105,$BG$43:$BS$59,5,FALSE)","v":3.6980000000000004},{"$f":"VLOOKUP($B$105,$BG$43:$BS$59,6,FALSE)","v":8.2479999999999993},{"$f":"VLOOKUP($B$105,$BG$43:$BS$59,7,FALSE)","v":10.527000000000003},{"$f":"VLOOKUP($B$105,$BG$43:$BS$59,8,FALSE)","v":5.5229999999999997},{"$f":"VLOOKUP($B$105,$BG$43:$BS$59,9,FALSE)","v":3.1680000000000001},{"$f":"VLOOKUP($B$105,$BG$43:$BS$59,10,FALSE)","v":1.369},{"$f":"VLOOKUP($B$105,$BG$43:$BS$59,11,FALSE)","v":1.149},{"$f":"VLOOKUP($B$105,$BG$43:$BS$59,12,FALSE)","v":0.95},{"$f":"VLOOKUP($B$105,$BG$43:$BS$59,13,FALSE)","v":1.0770000000000002}]
[{"$f":"BV41","v":"Sc 7"},{"$f":"VLOOKUP($B$105,$BU$43:$CG$59,2,FALSE)","v":0.97699999999999998},{"$f":"VLOOKUP($B$105,$BU$43:$CG$59,3,FALSE)","v":0.81699999999999995},{"$f":"VLOOKUP($B$105,$BU$43:$CG$59,4,FALSE)","v":1.4370000000000001},{"$f":"VLOOKUP($B$105,$BU$43:$CG$59,5,FALSE)","v":4.0360000000000005},{"$f":"VLOOKUP($B$105,$BU$43:$CG$59,6,FALSE)","v":9.4890000000000008},{"$f":"VLOOKUP($B$105,$BU$43:$CG$59,7,FALSE)","v":10.329000000000004},{"$f":"VLOOKUP($B$105,$BU$43:$CG$59,8,FALSE)","v":5.516},{"$f":"VLOOKUP($B$105,$BU$43:$CG$59,9,FALSE)","v":3.137},{"$f":"VLOOKUP($B$105,$BU$43:$CG$59,10,FALSE)","v":1.5510000000000002},{"$f":"VLOOKUP($B$105,$BU$43:$CG$59,11,FALSE)","v":1.1000000000000001},{"$f":"VLOOKUP($B$105,$BU$43:$CG$59,12,FALSE)","v":0.95},{"$f":"VLOOKUP($B$105,$BU$43:$CG$59,13,FALSE)","v":1.0940000000000001}]
[]
[]
[]
[]
[]
[]
[]
[]
[]
[]
[]
[]
[]
[]
[]
["Month to compare between scenarios","Oct",null,"Scenario"]
[null,"Natural","Present",{"$f":"B41","v":"Sc 2A"},{"$f":"Q41","v":"Sc 2B"},{"$f":"AF41","v":"Sc 3"},{"$f":"A112","v":"Sc 4A"},{"$f":"A113","v":"Sc 4B"},{"$f":"A114","v":"Sc 7"}]
[1E-3,{"$f":"HLOOKUP($B$130,$A$2:$M$19,2,FALSE)","v":5.13},{"$f":"HLOOKUP($B$130,$A$22:$M$39,2,FALSE)","v":20.53},{"$f":"HLOOKUP($B$130,$A$42:$M$59,2,FALSE)","v":27.779999999999998},{"$f":"HLOOKUP($B$130,$P$42:$AB$59,2,FALSE)","v":5.0599999999999996},{"$f":"HLOOKUP($B$130,$AE$42:$AQ$59,2,FALSE)","v":23.8},{"$f":"HLOOKUP($B$130,$AS$42:$BE$59,2,FALSE)","v":4.3899999999999997},{"$f":"HLOOKUP($B$130,$BG$42:$BS$59,2,FALSE)","v":3.35},{"$f":"HLOOKUP($B$130,$BU$42:$CG$59,2,FALSE)","v":4.78}]
[0.01,{"$f":"HLOOKUP($B$130,$A$2:$M$19,3,FALSE)","v":4.9400000000000004},{"$f":"HLOOKUP($B$130,$A$22:$M$39,3,FALSE)","v":12.11},{"$f":"HLOOKUP($B$130,$A$42:$M$59,3,FALSE)","v":9.0200000000000014},{"$f":"HLOOKUP($B$130,$P$42:$AB$59,3,FALSE)","v":4.49},{"$f":"HLOOKUP($B$130,$AE$42:$AQ$59,3,FALSE)","v":6.97},{"$f":"HLOOKUP($B$130,$AS$42:$BE$59,3,FALSE)","v":3.89},{"$f":"HLOOKUP($B$130,$BG$42:$BS$59,3,FALSE)","v":3.33},{"$f":"HLOOKUP($B$130,$BU$42:$CG$59,3,FALSE)","v":3.62}]
[0.05,{"$f":"HLOOKUP($B$130,$A$2:$M$19,4,FALSE)","v":4.7069999999999999},{"$f":"HLOOKUP($B$130,$A$22:$M$39,4,FALSE)","v":4.0750000000000002},{"$f":"HLOOKUP($B$130,$A$42:$M$59,4,FALSE)","v":3.3695000000000004},{"$f":"HLOOKUP($B$130,$P$42:$AB$59,4,FALSE)","v":3.7450000000000001},{"$f":"HLOOKUP($B$130,$AE$42:$AQ$59,4,FALSE)","v":4.6140000000000008},{"$f":"HLOOKUP($B$130,$AS$42:$BE$59,4,FALSE)","v":3.0049999999999999},{"$f":"HLOOKUP($B$130,$BG$42:$BS$59,4,FALSE)","v":2.6789999999999998},{"$f":"HLOOKUP($B$130,$BU$42:$CG$59,4,FALSE)","v":3.0794999999999999}]
[0.1,{"$f":"HLOOKUP($B$130,$A$2:$M$19,5,FALSE)","v":4.4580000000000002},{"$f":"HLOOKUP($B$130,$A$22:$M$39,5,FALSE)","v":1.77},{"$f":"HLOOKUP($B$130,$A$42:$M$59,5,FALSE)","v":2.137},{"$f":"HLOOKUP($B$130,$P$42:$AB$59,5,FALSE)","v":3.5669999999999997},{"$f":"HLOOKUP($B$130,$AE$42:$AQ$59,5,FALSE)","v":3.5869999999999997},{"$f":"HLOOKUP($B$130,$AS$42:$BE$59,5,FALSE)","v":2.6520000000000001},{"$f":"HLOOKUP($B$130,$BG$42:$BS$59,5,FALSE)","v":2.1669999999999998},{"$f":"HLOOKUP($B$130,$BU$42:$CG$59,5,FALSE)","v":2.6070000000000002}]
[0.15,{"$f":"HLOOKUP($B$130,$A$2:$M$19,6,FALSE)","v":3.8835000000000002},{"$f":"HLOOKUP($B$130,$A$22:$M$39,6,FALSE)","v":1.6335},{"$f":"HLOOKUP($B$130,$A$42:$M$59,6,FALSE)","v":1.7415000000000003},{"$f":"HLOOKUP($B$130,$P$42:$AB$59,6,FALSE)","v":3.4474999999999998},{"$f":"HLOOKUP($B$130,$AE$42:$AQ$59,6,FALSE)","v":3.149},{"$f":"HLOOKUP($B$130,$AS$42:$BE$59,6,FALSE)","v":2.137},{"$f":"HLOOKUP($B$130,$BG$42:$BS$59,6,FALSE)","v":2.0049999999999999},{"$f":"HLOOKUP($B$130,$BU$42:$CG$59,6,FALSE)","v":2.0735000000000001}]
[0.2,{"$f":"HLOOKUP($B$130,$A$2:$M$19,7,FALSE)","v":3.7519999999999998},{"$f":"HLOOKUP($B$130,$A$22:$M$39,7,FALSE)","v":1.494},{"$f":"HLOOKUP($B$130,$A$42:$M$59,7,FALSE)","v":1.492},{"$f":"HLOOKUP($B$130,$P$42:$AB$59,7,FALSE)","v":3.0740000000000003},{"$f":"HLOOKUP($B$130,$AE$42:$AQ$59,7,FALSE)","v":2.794},{"$f":"HLOOKUP($B$130,$AS$42:$BE$59,7,FALSE)","v":1.84},{"$f":"HLOOKUP($B$130,$BG$42:$BS$59,7,FALSE)","v":1.6259999999999999},{"$f":"HLOOKUP($B$130,$BU$42:$CG$59,7,FALSE)","v":1.5940000000000001}]
[0.3,{"$f":"HLOOKUP($B$130,$A$2:$M$19,8,FALSE)","v":3.4849999999999999},{"$f":"HLOOKUP($B$130,$A$22:$M$39,8,FALSE)","v":1.2470000000000001},{"$f":"HLOOKUP($B$130,$A$42:$M$59,8,FALSE)","v":1.2950000000000002},{"$f":"HLOOKUP($B$130,$P$42:$AB$59,8,FALSE)","v":2.6480000000000001},{"$f":"HLOOKUP($B$130,$AE$42:$AQ$59,8,FALSE)","v":2.1840000000000002},{"$f":"HLOOKUP($B$130,$AS$42:$BE$59,8,FALSE)","v":1.2610000000000001},{"$f":"HLOOKUP($B$130,$BG$42:$BS$59,8,FALSE)","v":1.149},{"$f":"HLOOKUP($B$130,$BU$42:$CG$59,8,FALSE)","v":1.1000000000000001}]
[0.4,{"$f":"HLOOKUP($B$130,$A$2:$M$19,9,FALSE)","v":3.1419999999999999},{"$f":"HLOOKUP($B$130,$A$22:$M$39,9,FALSE)","v":1.1020000000000001},{"$f":"HLOOKUP($B$130,$A$42:$M$59,9,FALSE)","v":1.1259999999999999},{"$f":"HLOOKUP($B$130,$P$42:$AB$59,9,FALSE)","v":2.16},{"$f":"HLOOKUP($B$130,$AE$42:$AQ$59,9,FALSE)","v":1.9219999999999999},{"$f":"HLOOKUP($B$130,$AS$42:$BE$59,9,FALSE)","v":0.94399999999999995},{"$f":"HLOOKUP($B$130,$BG$42:$BS$59,9,FALSE)","v":0.88600000000000001},{"$f":"HLOOKUP($B$130,$BU$42:$CG$59,9,FALSE)","v":0.9}]
[0.5,{"$f":"HLOOKUP($B$130,$A$2:$M$19,10,FALSE)","v":2.895},{"$f":"HLOOKUP($B$130,$A$22:$M$39,10,FALSE)","v":0.99},{"$f":"HLOOKUP($B$130,$A$42:$M$59,10,FALSE)","v":1.0550000000000002},{"$f":"HLOOKUP($B$130,$P$42:$AB$59,10,FALSE)","v":1.9},{"$f":"HLOOKUP($B$130,$AE$42:$AQ$59,10,FALSE)","v":1.6850000000000001},{"$f":"HLOOKUP($B$130,$AS$42:$BE$59,10,FALSE)","v":0.82},{"$f":"HLOOKUP($B$130,$BG$42:$BS$59,10,FALSE)","v":0.79500000000000004},{"$f":"HLOOKUP($B$130,$BU$42:$CG$59,10,FALSE)","v":0.81}]
[0.6,{"$f":"HLOOKUP($B$130,$A$2:$M$19,11,FALSE)","v":2.718},{"$f":"HLOOKUP($B$130,$A$22:$M$39,11,FALSE)","v":0.86},{"$f":"HLOOKUP($B$130,$A$42:$M$59,11,FALSE)","v":0.874},{"$f":"HLOOKUP($B$130,$P$42:$AB$59,11,FALSE)","v":1.6739999999999999},{"$f":"HLOOKUP($B$130,$AE$42:$AQ$59,11,FALSE)","v":1.3140000000000001},{"$f":"HLOOKUP($B$130,$AS$42:$BE$59,11,FALSE)","v":0.76},{"$f":"HLOOKUP($B$130,$BG$42:$BS$59,11,FALSE)","v":0.71399999999999997},{"$f":"HLOOKUP($B$130,$BU$42:$CG$59,11,FALSE)","v":0.72}]
[0.7,{"$f":"HLOOKUP($B$130,$A$2:$M$19,12,FALSE)","v":2.516},{"$f":"HLOOKUP($B$130,$A$22:$M$39,12,FALSE)","v":0.72},{"$f":"HLOOKUP($B$130,$A$42:$M$59,12,FALSE)","v":0.76300000000000001},{"$f":"HLOOKUP($B$130,$P$42:$AB$59,12,FALSE)","v":1.1860000000000002},{"$f":"HLOOKUP($B$130,$AE$42:$AQ$59,12,FALSE)","v":1.056},{"$f":"HLOOKUP($B$130,$AS$42:$BE$59,12,FALSE)","v":0.67300000000000004},{"$f":"HLOOKUP($B$130,$BG$42:$BS$59,12,FALSE)","v":0.64300000000000002},{"$f":"HLOOKUP($B$130,$BU$42:$CG$59,12,FALSE)","v":0.65300000000000002}]
[0.8,{"$f":"HLOOKUP($B$130,$A$2:$M$19,13,FALSE)","v":2.1659999999999999},{"$f":"HLOOKUP($B$130,$A$22:$M$39,13,FALSE)","v":0.58399999999999996},{"$f":"HLOOKUP($B$130,$A$42:$M$59,13,FALSE)","v":0.63600000000000001},{"$f":"HLOOKUP($B$130,$P$42:$AB$59,13,FALSE)","v":0.96399999999999997},{"$f":"HLOOKUP($B$130,$AE$42:$AQ$59,13,FALSE)","v":0.80400000000000005},{"$f":"HLOOKUP($B$130,$AS$42:$BE$59,13,FALSE)","v":0.61},{"$f":"HLOOKUP($B$130,$BG$42:$BS$59,13,FALSE)","v":0.61},{"$f":"HLOOKUP($B$130,$BU$42:$CG$59,13,FALSE)","v":0.61199999999999999}]
[0.85,{"$f":"HLOOKUP($B$130,$A$2:$M$19,14,FALSE)","v":2.04},{"$f":"HLOOKUP($B$130,$A$22:$M$39,14,FALSE)","v":0.52949999999999997},{"$f":"HLOOKUP($B$130,$A$42:$M$59,14,FALSE)","v":0.58299999999999996},{"$f":"HLOOKUP($B$130,$P$42:$AB$59,14,FALSE)","v":0.78},{"$f":"HLOOKUP($B$130,$AE$42:$AQ$59,14,FALSE)","v":0.71599999999999986},{"$f":"HLOOKUP($B$130,$AS$42:$BE$59,14,FALSE)","v":0.5694999999999999},{"$f":"HLOOKUP($B$130,$BG$42:$BS$59,14,FALSE)","v":0.5694999999999999},{"$f":"HLOOKUP($B$130,$BU$42:$CG$59,14,FALSE)","v":0.59649999999999992}]
[0.9,{"$f":"HLOOKUP($B$130,$A$2:$M$19,15,FALSE)","v":2.0209999999999999},{"$f":"HLOOKUP($B$130,$A$22:$M$39,15,FALSE)","v":0.46200000000000013},{"$f":"HLOOKUP($B$130,$A$42:$M$59,15,FALSE)","v":0.48800000000000043},{"$f":"HLOOKUP($B$130,$P$42:$AB$59,15,FALSE)","v":0.64100000000000001},{"$f":"HLOOKUP($B$130,$AE$42:$AQ$59,15,FALSE)","v":0.6130000000000001},{"$f":"HLOOKUP($B$130,$AS$42:$BE$59,15,FALSE)","v":0.52},{"$f":"HLOOKUP($B$130,$BG$42:$BS$59,15,FALSE)","v":0.51100000000000001},{"$f":"HLOOKUP($B$130,$BU$42:$CG$59,15,FALSE)","v":0.53}]
[0.95,{"$f":"HLOOKUP($B$130,$A$2:$M$19,16,FALSE)","v":1.6885000000000001},{"$f":"HLOOKUP($B$130,$A$22:$M$39,16,FALSE)","v":0.38550000000000006},{"$f":"HLOOKUP($B$130,$A$42:$M$59,16,FALSE)","v":0.38650000000000012},{"$f":"HLOOKUP($B$130,$P$42:$AB$59,16,FALSE)","v":0.59100000000000008},{"$f":"HLOOKUP($B$130,$AE$42:$AQ$59,16,FALSE)","v":0.58550000000000002},{"$f":"HLOOKUP($B$130,$AS$42:$BE$59,16,FALSE)","v":0.47},{"$f":"HLOOKUP($B$130,$BG$42:$BS$59,16,FALSE)","v":0.47},{"$f":"HLOOKUP($B$130,$BU$42:$CG$59,16,FALSE)","v":0.47}]
[0.99,{"$f":"HLOOKUP($B$130,$A$2:$M$19,17,FALSE)","v":1.5477000000000016},{"$f":"HLOOKUP($B$130,$A$22:$M$39,17,FALSE)","v":0.32280000000000025},{"$f":"HLOOKUP($B$130,$A$42:$M$59,17,FALSE)","v":0.3},{"$f":"HLOOKUP($B$130,$P$42:$AB$59,17,FALSE)","v":0.43910000000000005},{"$f":"HLOOKUP($B$130,$AE$42:$AQ$59,17,FALSE)","v":0.42280000000000023},{"$f":"HLOOKUP($B$130,$AS$42:$BE$59,17,FALSE)","v":0.37730000000000008},{"$f":"HLOOKUP($B$130,$BG$42:$BS$59,17,FALSE)","v":0.37730000000000008},{"$f":"HLOOKUP($B$130,$BU$42:$CG$59,17,FALSE)","v":0.37730000000000008}]
[0.999,{"$f":"HLOOKUP($B$130,$A$2:$M$19,18,FALSE)","v":1.1200000000000001},{"$f":"HLOOKUP($B$130,$A$22:$M$39,18,FALSE)","v":0.25},{"$f":"HLOOKUP($B$130,$A$42:$M$59,18,FALSE)","v":0.3},{"$f":"HLOOKUP($B$130,$P$42:$AB$59,18,FALSE)","v":0.43},{"$f":"HLOOKUP($B$130,$AE$42:$AQ$59,18,FALSE)","v":0.35},{"$f":"HLOOKUP($B$130,$AS$42:$BE$59,18,FALSE)","v":0.35},{"$f":"HLOOKUP($B$130,$BG$42:$BS$59,18,FALSE)","v":0.35},{"$f":"HLOOKUP($B$130,$BU$42:$CG$59,18,FALSE)","v":0.35}]

{"sheet":"Sheet1","index":4,"n_rows":43,"n_cols":21,"rows_kept":43,"cut":false,"hidden":false,"merged":[]}
[]
[]
[]
[]
[]
[]
[null,null,null,null,null,null,null,null,null,"Oct","Nov","Dec","Jan","Feb","Mar","Apr","May","Jun","Jul","Aug","Sep"]
[null,null,null,null,null,null,null,null,0.1,4.4580000000000002,5.734,12.796000000000001,26.995000000000001,47.664999999999999,47.039000000000001,23.806000000000001,12.683999999999999,7.0729999999999995,5.8239999999999998,4.9630000000000001,4.3570000000000002]
[null,null,null,null,null,null,null,null,1,4.4580000000000002,5.734,12.796000000000001,26.995000000000001,47.664999999999999,47.039000000000001,23.806000000000001,12.683999999999999,7.0729999999999995,5.8239999999999998,4.9630000000000001,4.3570000000000002]
[null,null,null,null,null,null,null,null,5,4.4580000000000002,5.734,12.796000000000001,26.995000000000001,47.664999999999999,47.039000000000001,23.806000000000001,12.683999999999999,7.0729999999999995,5.8239999999999998,4.9630000000000001,4.3570000000000002]
[null,null,null,null,null,null,null,null,10,4.4580000000000002,5.734,12.796000000000001,26.995000000000001,47.664999999999999,47.039000000000001,23.806000000000001,12.683999999999999,7.0729999999999995,5.8239999999999998,4.9630000000000001,4.3570000000000002]
[null,null,null,null,null,null,null,null,15,4.1050000000000004,5.3970000000000002,11.116,23.999500000000001,38.1145,38.284500000000001,21.134,11.39,6.6154999999999999,5.476,4.7275,4.1485000000000003]
[null,null,null,null,null,null,null,null,20,3.7519999999999998,5.0600000000000005,9.4359999999999999,21.004000000000001,28.564,29.53,18.462000000000003,10.096,6.1580000000000004,5.1280000000000001,4.492,3.94]
[null,null,null,null,null,null,null,null,30,3.4849999999999999,4.5510000000000002,7.74,14.670000000000002,16.724999999999998,19.439,14.266,8.8849999999999998,5.7160000000000002,4.9800000000000004,4.28,3.7210000000000001]
[null,null,null,null,null,null,null,null,40,3.1419999999999999,3.8660000000000001,6.4020000000000001,10.598000000000001,13.462,14.682,11.896000000000001,7.8520000000000003,5.4779999999999998,4.78,4.0919999999999996,3.496]
[null,null,null,null,null,null,null,null,50,2.895,3.5750000000000002,5.65,9.1950000000000003,11.92,12.035,9.3249999999999993,6.66,5.16,4.3849999999999998,3.79,3.2850000000000001]
[null,null,null,null,null,null,null,null,60,2.718,3.13,4.8039999999999994,7.3519999999999994,9.14,8.6980000000000004,7.21,5.6959999999999997,4.7639999999999993,4.1379999999999999,3.5880000000000001,3.0139999999999998]
[null,null,null,null,null,null,null,null,70,2.516,2.8210000000000002,4.1180000000000003,5.76,7.3410000000000011,7.42,6.22,5.1230000000000002,4.3520000000000003,3.7930000000000001,3.35,2.7230000000000003]
[null,null,null,null,null,null,null,null,80,2.1659999999999999,2.484,3.3460000000000001,5.0819999999999999,6.2640000000000002,5.9359999999999999,5.4980000000000002,4.6160000000000005,3.8919999999999999,3.4420000000000002,2.956,2.4220000000000002]
[null,null,null,null,null,null,null,null,85,2.0934999999999997,2.2635000000000001,3.085,4.3500000000000014,5.41,5.3055000000000003,5.0615000000000006,4.3685000000000009,3.734,3.2875000000000001,2.7965,2.2960000000000003]
[null,null,null,null,null,null,null,null,90,2.0209999999999999,2.0430000000000001,2.8239999999999998,3.6180000000000021,4.556,4.6750000000000007,4.6250000000000009,4.1210000000000004,3.5760000000000001,3.133,2.6370000000000005,2.17]
[null,null,null,null,null,null,null,null,95,2.149888888888889,2.4350000000000001,3.2880000000000003,4.9193333333333333,6.0742222222222226,5.7958888888888893,5.4010000000000007,4.5610000000000008,3.8568888888888888,3.4076666666666666,2.9205555555555556,2.3940000000000001]
[null,null,null,null,null,null,null,null,99,1.5477000000000016,1.448500000000001,1.6074000000000006,2.2369000000000021,2.7942000000000022,3.019700000000002,2.6675000000000009,2.1792000000000002,1.8610000000000004,1.6738000000000006,1.4520000000000006,1.2682]
[null,null,null,null,null,null,null,null,99.9,1.5477000000000016,1.448500000000001,1.6074000000000006,2.2369000000000021,2.7942000000000022,3.019700000000002,2.6675000000000009,2.1792000000000002,1.8610000000000004,1.6738000000000006,1.4520000000000006,1.2682]
[]
[null,null,null,null,null,null,null,null,null,"Oct","Nov","Dec","Jan","Feb","Mar","Apr","May","Jun","Jul","Aug","Sep"]
[null,null,null,null,null,null,null,null,0.1,4.4580000000000002,5.734,12.796000000000001,26.995000000000001,47.664999999999999,47.039000000000001,23.806000000000001,12.683999999999999,7.0729999999999995,5.8239999999999998,4.9630000000000001,4.3570000000000002]
[null,null,null,null,null,null,null,null,1,4.4580000000000002,5.734,12.796000000000001,26.995000000000001,47.664999999999999,47.039000000000001,23.806000000000001,12.683999999999999,7.0729999999999995,5.8239999999999998,4.9630000000000001,4.3570000000000002]
[null,null,null,null,null,null,null,null,5,4.4580000000000002,5.734,12.796000000000001,26.995000000000001,47.664999999999999,47.039000000000001,23.806000000000001,12.683999999999999,7.0729999999999995,5.8239999999999998,4.9630000000000001,4.3570000000000002]
[null,null,null,null,null,null,null,null,10,4.4580000000000002,5.734,12.796000000000001,26.995000000000001,47.664999999999999,47.039000000000001,23.806000000000001,12.683999999999999,7.0729999999999995,5.8239999999999998,4.9630000000000001,4.3570000000000002]
[null,null,null,null,null,null,null,null,15,4.1050000000000004,5.3970000000000002,11.116,23.999500000000001,38.1145,38.284500000000001,21.134,11.39,6.6154999999999999,5.476,4.7275,4.1485000000000003]
[null,null,null,null,null,null,null,null,20,3.7519999999999998,5.0600000000000005,9.4359999999999999,21.004000000000001,28.564,29.53,18.462000000000003,10.096,6.1580000000000004,5.1280000000000001,4.492,3.94]
[null,null,null,null,null,null,null,null,30,3.4849999999999999,4.5510000000000002,7.74,14.670000000000002,16.724999999999998,19.439,14.266,8.8849999999999998,5.7160000000000002,4.9800000000000004,4.28,3.7210000000000001]
[null,null,null,null,null,null,null,null,40,3.1419999999999999,3.8660000000000001,6.4020000000000001,10.598000000000001,13.462,14.682,11.896000000000001,7.8520000000000003,5.4779999999999998,4.78,4.0919999999999996,3.496]
[null,null,null,null,null,null,null,null,50,2.895,3.5750000000000002,5.65,9.1950000000000003,11.92,12.035,9.3249999999999993,6.66,5.16,4.3849999999999998,3.79,3.2850000000000001]
[null,null,null,null,null,null,null,null,60,2.718,3.13,4.8039999999999994,7.3519999999999994,9.14,8.6980000000000004,7.21,5.6959999999999997,4.7639999999999993,4.1379999999999999,3.5880000000000001,3.0139999999999998]
[null,null,null,null,null,null,null,null,70,2.516,2.8210000000000002,4.1180000000000003,5.76,7.3410000000000011,7.42,6.22,5.1230000000000002,4.3520000000000003,3.7930000000000001,3.35,2.7230000000000003]
[null,null,null,null,null,null,null,null,80,2.1659999999999999,2.484,3.3460000000000001,5.0819999999999999,6.2640000000000002,5.9359999999999999,5.4980000000000002,4.6160000000000005,3.8919999999999999,3.4420000000000002,2.956,2.4220000000000002]
[null,null,null,null,null,null,null,null,85,2.0934999999999997,2.2635000000000001,3.085,4.3500000000000014,5.41,5.3055000000000003,5.0615000000000006,4.3685000000000009,3.734,3.2875000000000001,2.7965,2.2960000000000003]
[null,null,null,null,null,null,null,null,90,2.0209999999999999,2.0430000000000001,2.8239999999999998,3.6180000000000021,4.556,4.6750000000000007,4.6250000000000009,4.1210000000000004,3.5760000000000001,3.133,2.6370000000000005,2.17]
[null,null,null,null,null,null,null,null,95,2.149888888888889,2.4350000000000001,3.2880000000000003,4.9193333333333333,6.0742222222222226,5.7958888888888893,5.4010000000000007,4.5610000000000008,3.8568888888888888,3.4076666666666666,2.9205555555555556,2.3940000000000001]
[null,null,null,null,null,null,null,null,99,1.5477000000000016,1.448500000000001,1.6074000000000006,2.2369000000000021,2.7942000000000022,3.019700000000002,2.6675000000000009,2.1792000000000002,1.8610000000000004,1.6738000000000006,1.4520000000000006,1.2682]
[null,null,null,null,null,null,null,null,99.9,1.5477000000000016,1.448500000000001,1.6074000000000006,2.2369000000000021,2.7942000000000022,3.019700000000002,2.6675000000000009,2.1792000000000002,1.8610000000000004,1.6738000000000006,1.4520000000000006,1.2682]

{"sheet":"InputData","index":5,"n_rows":32,"n_cols":9,"rows_kept":32,"cut":false,"hidden":false,"merged":[]}
[]
[null,"Folder:","c:\\WRYM\\HYDRO\\USUTHUB\\"]
[null,"Original file name:","Paramk5.dat"]
[null,"New file name:","Paramk5_new.dat"]
[null,"Number of records:",24,null,null,null,null,1,"Get list and areas"]
[null,null,null,null,null,null,null,2,"Set Areas"]
[null,null,"AREA"]
[null,"List:","From file","To file"]
[null,"C:\\WRYM\\HYDRO\\USUTHU\\W51A                     ",1,624]
[null,"C:\\WRYM\\HYDRO\\USUTHU\\W51B                     ",1,496]
[null,"C:\\WRYM\\HYDRO\\USUTHU\\W51C                     ",1,678]
[null,"C:\\WRYM\\HYDRO\\USUTHU\\W51D                     ",1,527]
[null,"C:\\WRYM\\HYDRO\\USUTHU\\W51F                     ",1,312.5]
[null,"C:\\WRYM\\HYDRO\\USUTHU\\W52A                     ",1,289]
[null,"C:\\WRYM\\HYDRO\\USUTHU\\W52B                     ",1,336]
[null,"C:\\WRYM\\HYDRO\\USUTHU\\W52C                     ",1,178]
[null,"C:\\WRYM\\HYDRO\\USUTHU\\W52D                     ",1,119]
[null,"C:\\WRYM\\HYDRO\\USUTHU\\W53A                     ",1,548]
[null,"C:\\WRYM\\HYDRO\\USUTHU\\W53B                     ",1,219]
[null,"C:\\WRYM\\HYDRO\\USUTHU\\W53C                     ",1,316]
[null,"C:\\WRYM\\HYDRO\\USUTHU\\W53D                     ",1,315]
[null,"C:\\WRYM\\HYDRO\\USUTHU\\W53E                     ",1,177.9]
[null,"C:\\WRYM\\HYDRO\\USUTHU\\W54A                     ",1,251]
[null,"C:\\WRYM\\HYDRO\\USUTHU\\W54B                     ",1,282]
[null,"C:\\WRYM\\HYDRO\\USUTHU\\W54C                     ",1,107]
[null,"C:\\WRYM\\HYDRO\\USUTHU\\W54D                     ",1,139]
[null,"C:\\WRYM\\HYDRO\\USUTHU\\W55A                     ",1,380]
[null,"C:\\WRYM\\HYDRO\\USUTHU\\W55B                     ",1,218]
[null,"C:\\WRYM\\HYDRO\\USUTHU\\W55C                     ",1,532]
[null,"C:\\WRYM\\HYDRO\\USUTHU\\W55D                     ",1,226.2]
[null,"C:\\WRYM\\HYDRO\\USUTHU\\W56A                     ",1,234.8]
[null,"C:\\WRYM\\HYDRO\\USUTHU\\W56B                    ",1,42.9]

{"sheet":"Sheet2","index":6,"n_rows":72,"n_cols":16,"rows_kept":72,"cut":false,"hidden":false,"merged":[]}
[null,null,null,null,null,null,null,null,null,null,null,null,null,"BENNIESAREAS FROM SPREADSHEET"]
[null,null,null,null,null,null,{"$f":"J2","v":"C:\\WRYM\\HYDRO\\LETLUVGW\\A91Agw                   "},232,null,"C:\\WRYM\\HYDRO\\LETLUVGW\\A91Agw                   ","B90A",611,null,"A91A",232,{"$f":"O2-H2","v":0}]
[null,null,null,null,null,null,{"$f":"J3","v":"C:\\WRYM\\HYDRO\\LETLUVGW\\A91Bgw                   "},275,null,"C:\\WRYM\\HYDRO\\LETLUVGW\\A91Bgw                   ","B90B",754,null,"A91B",275,{"$f":"O3-H3","v":0}]
[null,null,null,null,null,null,"C:\\WRYM\\HYDRO\\LETLUVGW\\A91C1gw                  ",107,null,"C:\\WRYM\\HYDRO\\LETLUVGW\\A91C1gw                  ","B90C",535,null,"A91C1",107,0]
[null,null,null,null,null,null,"C:\\WRYM\\HYDRO\\LETLUVGW\\A91C2gw                  ",175,null,"C:\\WRYM\\HYDRO\\LETLUVGW\\A91C2gw                  ","B90D",447,null,"A91C2&F3",175,0]
[null,null,null,null,null,null,"C:\\WRYM\\HYDRO\\LETLUVGW\\A91D1gw                  ",84.7,null,"C:\\WRYM\\HYDRO\\LETLUVGW\\A91D1gw                  ","B90E",474,null,"A91D1",84.7,0]
[null,null,null,null,null,null,"C:\\WRYM\\HYDRO\\LETLUVGW\\A91D2gw                  ",47.3,null,"C:\\WRYM\\HYDRO\\LETLUVGW\\A91D2gw                  ","B90F",819,null,"A91D2",47.3,0]
[null,null,null,null,null,null,"C:\\WRYM\\HYDRO\\LETLUVGW\\A91Egw                   ",223,null,"C:\\WRYM\\HYDRO\\LETLUVGW\\A91Egw                   ","B90G",698,null,"A91E",223,0]
[null,null,null,null,null,null,"C:\\WRYM\\HYDRO\\LETLUVGW\\A91F1gw                  ",276,null,"C:\\WRYM\\HYDRO\\LETLUVGW\\A91F1gw                  ","B90H1",229,null,"A91F1",276,0]
[null,null,null,null,null,null,{"$f":"J10","v":"C:\\WRYM\\HYDRO\\LETLUVGW\\A91F2gw                  "},272,null,"C:\\WRYM\\HYDRO\\LETLUVGW\\A91F2gw                  ","B90H2",546,null,"A91F2",272,0]
[null,null,null,null,null,null,"C:\\WRYM\\HYDRO\\LETLUVGW\\A91G1gw                  ",48,null,"C:\\WRYM\\HYDRO\\LETLUVGW\\A91G1gw                  ","A92A1",282,null,"A91G1",48,0]
[null,null,null,null,null,null,"C:\\WRYM\\HYDRO\\LETLUVGW\\B82agw                   ",467,null,"C:\\WRYM\\HYDRO\\LETLUVGW\\B82agw                   ","A92A2",329,null,"B82A",467,0]
[null,null,null,null,null,null,"C:\\WRYM\\HYDRO\\LETLUVGW\\B82B                     ",365.4,null,"C:\\WRYM\\HYDRO\\LETLUVGW\\B82B                     ","A92B",565,null,"B82B",406,{"$f":"O13-H13","v":40.600000000000023}]
[null,null,null,null,null,null,"C:\\WRYM\\HYDRO\\LETLUVGW\\B82C                     ",240,null,"C:\\WRYM\\HYDRO\\LETLUVGW\\B82C                     ","A92C",455,null,"B82C",300,60]
[null,null,null,null,null,null,"C:\\WRYM\\HYDRO\\LETLUVGW\\B82D                     ",600,null,"C:\\WRYM\\HYDRO\\LETLUVGW\\B82D                     ","A92D",560,null,"B82D",632,32]
[null,null,null,null,null,null,"C:\\WRYM\\HYDRO\\LETLUVGW\\B82egw                   ",432,null,"C:\\WRYM\\HYDRO\\LETLUVGW\\B82egw                   ","A91A",232,null,"B82E",432,0]
[null,null,null,null,null,null,"C:\\WRYM\\HYDRO\\LETLUVGW\\B82fgw                   ",760,null,"C:\\WRYM\\HYDRO\\LETLUVGW\\B82fgw                   ","A91B",275,null,"B82F",760,0]
[null,null,null,null,null,null,"C:\\WRYM\\HYDRO\\LETLUVGW\\B82ggw                   ",921,null,"C:\\WRYM\\HYDRO\\LETLUVGW\\B82ggw                   ","A91C1",107,null,"B82G",921,0]
[null,null,null,null,null,null,"C:\\WRYM\\HYDRO\\LETLUVGW\\B82hgw                   ",749,null,"C:\\WRYM\\HYDRO\\LETLUVGW\\B82hgw                   ","A91C2",175,null,"B82H",749,0]
[null,null,null,null,null,null,"C:\\WRYM\\HYDRO\\LETLUVGW\\B82Jgw                   ",795,null,"C:\\WRYM\\HYDRO\\LETLUVGW\\B82Jgw                   ","A91D1",84.7,null,"B82J",795,0]
[null,null,null,null,null,null,"C:\\WRYM\\HYDRO\\LETLUVGW\\B83agw                   ",1252,null,"C:\\WRYM\\HYDRO\\LETLUVGW\\B83agw                   ","A91D2",47.3,null,"B83A",1252,0]
[null,null,null,null,null,null,"C:\\WRYM\\HYDRO\\LETLUVGW\\B83BCgw                  ",1031,null,"C:\\WRYM\\HYDRO\\LETLUVGW\\B83BCgw                  ","A91E",223,null,"B83BC",1031,0]
[null,null,null,null,null,null,"C:\\WRYM\\HYDRO\\LETLUVGW\\B83dgw                   ",714,null,"C:\\WRYM\\HYDRO\\LETLUVGW\\B83dgw                   ","A91F1",276,null,"B83D",714,0]
[null,null,null,null,null,null,"C:\\WRYM\\HYDRO\\LETLUVGW\\B83egw                   ",267,null,"C:\\WRYM\\HYDRO\\LETLUVGW\\B83egw                   ","A91F2",272,null,"B83E",267,0]
[null,null,null,null,null,null,"C:\\WRYM\\HYDRO\\LETLUVGW\\B81adngw                 ",14,null,"C:\\WRYM\\HYDRO\\LETLUVGW\\B81adngw                 ","A91G1",48,null,"B81ADN",14.1,9.9999999999999645E-2]
[null,null,null,null,null,null,"C:\\WRYM\\HYDRO\\LETLUVGW\\B81agw                   ",156,null,"C:\\WRYM\\HYDRO\\LETLUVGW\\B81agw                   ","A91G2",358,null,"B81A",155.69999999999999,-0.30000000000001137]
[null,null,null,null,null,null,"C:\\WRYM\\HYDRO\\LETLUVGW\\B81B10_16gw              ",124,null,"C:\\WRYM\\HYDRO\\LETLUVGW\\B81B10_16gw              ","A91H1",450,null,"B81B10-16",124,0]
[null,null,null,null,null,null,"C:\\WRYM\\HYDRO\\LETLUVGW\\B81b30gw                 ",89,null,"C:\\WRYM\\HYDRO\\LETLUVGW\\B81b30gw                 ","A91K",625,null,"B81B30",89,0]
[null,null,null,null,null,null,"C:\\WRYM\\HYDRO\\LETLUVGW\\B81b20gw                 ",62,null,"C:\\WRYM\\HYDRO\\LETLUVGW\\B81b20gw                 ","A91J",570,null,"B81B20",62,0]
[null,null,null,null,null,null,"C:\\WRYM\\HYDRO\\LETLUVGW\\B81b01_agw               ",23,null,"C:\\WRYM\\HYDRO\\LETLUVGW\\B81b01_agw               ",null,null,null,"B81B01_A",23,0]
[null,null,null,null,null,null,"C:\\WRYM\\HYDRO\\LETLUVGW\\B81b01gw                 ",183,null,"C:\\WRYM\\HYDRO\\LETLUVGW\\B81b01gw                 ",null,null,null,"B81B01",{"$f":"206-O30","v":183},0]
[null,null,null,null,null,null,"C:\\WRYM\\HYDRO\\LETLUVGW\\B81C                     ",208,null,"C:\\WRYM\\HYDRO\\LETLUVGW\\B81C                     ",null,null,null,"B81C",208,0]
[null,null,null,null,null,null,"C:\\WRYM\\HYDRO\\LETLUVGW\\B81d1gw                  ",208,null,"C:\\WRYM\\HYDRO\\LETLUVGW\\B81d1gw                  ",null,null,null,"B81D1",208,0]
[null,null,null,null,null,null,"C:\\WRYM\\HYDRO\\LETLUVGW\\B81d2gw                  ",269,null,"C:\\WRYM\\HYDRO\\LETLUVGW\\B81d2gw                  ",null,null,null,"B81D2",269,0]
[null,null,null,null,null,null,"C:\\WRYM\\HYDRO\\LETLUVGW\\B81e10gw                 ",254,null,"C:\\WRYM\\HYDRO\\LETLUVGW\\B81e10gw                 ",null,null,null,"B81E10",254,0]
[null,null,null,null,null,null,"C:\\WRYM\\HYDRO\\LETLUVGW\\B81E2gw                  ",172,null,"C:\\WRYM\\HYDRO\\LETLUVGW\\B81E2gw                  ",null,null,null,"B81E2",172,0]
[null,null,null,null,null,null,"C:\\WRYM\\HYDRO\\LETLUVGW\\B81E1gw                  ",239,null,"C:\\WRYM\\HYDRO\\LETLUVGW\\B81E1gw                  ",null,null,null,"B81E1",239,0]
[null,null,null,null,null,null,"C:\\WRYM\\HYDRO\\LETLUVGW\\B81f1gw                  ",186,null,"C:\\WRYM\\HYDRO\\LETLUVGW\\B81f1gw                  ",null,null,null,"B81F1",186,0]
[null,null,null,null,null,null,"C:\\WRYM\\HYDRO\\LETLUVGW\\B81f2gw                  ",584,null,"C:\\WRYM\\HYDRO\\LETLUVGW\\B81f2gw                  ",null,null,null,"B81F2",584,0]
[null,null,null,null,null,null,"C:\\WRYM\\HYDRO\\LETLUVGW\\B81ggw                   ",517,null,"C:\\WRYM\\HYDRO\\LETLUVGW\\B81ggw                   ",null,null,null,"B81G",517,0]
[null,null,null,null,null,null,"C:\\WRYM\\HYDRO\\LETLUVGW\\B81hgw                   ",664,null,"C:\\WRYM\\HYDRO\\LETLUVGW\\B81hgw                   ",null,null,null,"B81H",664,0]
[null,null,null,null,null,null,"C:\\WRYM\\HYDRO\\LETLUVGW\\B81j10gw                 ",568,null,"C:\\WRYM\\HYDRO\\LETLUVGW\\B81j10gw                 ",null,null,null,"B81J10",568,0]
[null,null,null,null,null,null,"C:\\WRYM\\HYDRO\\LETLUVGW\\B81F1020gw               ",430,null,"C:\\WRYM\\HYDRO\\LETLUVGW\\B81F1020gw               ",null,null,null,"B81F1020",430,0]
[null,null,null,null,null,null,{"$f":"J44","v":"C:\\WRYM\\HYDRO\\LETLUVGW\\b82bsfr                  "},40.6,null,"C:\\WRYM\\HYDRO\\LETLUVGW\\b82bsfr                  "]
[null,null,null,null,null,null,{"$f":"J45","v":"C:\\WRYM\\HYDRO\\LETLUVGW\\b82csfr                  "},60,null,"C:\\WRYM\\HYDRO\\LETLUVGW\\b82csfr                  "]
[null,null,null,null,null,null,"C:\\WRYM\\HYDRO\\LETLUVGW\\b82dsfr                  ",32,null,"C:\\WRYM\\HYDRO\\LETLUVGW\\b82dsfr                  "]
[null,null,null,null,null,null,"C:\\WRYM\\HYDRO\\LETLUVGW\\B81cdum                  ",1,null,"C:\\WRYM\\HYDRO\\LETLUVGW\\B81cdum                  "]
[null,null,null,null,null,null,"C:\\WRYM\\HYDRO\\LETLUVGW\\B82bdum                  ",1,null,"C:\\WRYM\\HYDRO\\LETLUVGW\\B82bdum                  "]
[null,null,null,null,null,null,"C:\\WRYM\\HYDRO\\LETLUVGW\\B82cdum                  ",1,null,"C:\\WRYM\\HYDRO\\LETLUVGW\\B82cdum                  "]
[null,null,null,null,null,null,"C:\\WRYM\\HYDRO\\LETLUVGW\\B82ddum                  ",1,null,"C:\\WRYM\\HYDRO\\LETLUVGW\\B82ddum                  "]
[null,null,null,null,null,null,"C:\\WRYM\\HYDRO\\LETLUVGW\\B81Cewr                  ",1,null,"C:\\WRYM\\HYDRO\\LETLUVGW\\B81Cewr                  "]
[null,null,null,null,null,null,"C:\\WRYM\\HYDRO\\LETLUVGW\\B82Bewr                  ",1,null,"C:\\WRYM\\HYDRO\\LETLUVGW\\B82Bewr                  "]
[null,null,null,null,null,null,"C:\\WRYM\\HYDRO\\LETLUVGW\\B82Cewr                  ",1,null,"C:\\WRYM\\HYDRO\\LETLUVGW\\B82Cewr                  "]
[null,null,null,null,null,null,"C:\\WRYM\\HYDRO\\LETLUVGW\\B82Dewr                  ",1,null,"C:\\WRYM\\HYDRO\\LETLUVGW\\B82Dewr                  "]
[null,null,null,null,null,null,"C:\\WRYM\\HYDRO\\LETLUVGW\\A91G2gw                  ",358,null,"C:\\WRYM\\HYDRO\\LETLUVGW\\A91G2gw                  ",null,null,null,"A91G2",358,0]
[null,null,null,null,null,null,"C:\\WRYM\\HYDRO\\LETLUVGW\\A91H1gw                  ",450,null,"C:\\WRYM\\HYDRO\\LETLUVGW\\A91H1gw                  ",null,null,null,"A91H",450,0]
[null,null,null,null,null,null,"C:\\WRYM\\HYDRO\\LETLUVGW\\A91Jgw                   ",625,null,"C:\\WRYM\\HYDRO\\LETLUVGW\\A91Jgw                   ",null,null,null,"A91K",625,0]
[null,null,null,null,null,null,"C:\\WRYM\\HYDRO\\LETLUVGW\\A91Kgw                   ",570,null,"C:\\WRYM\\HYDRO\\LETLUVGW\\A91Kgw                   ",null,null,null,"A91J",570,0]
[null,null,null,null,null,null,"C:\\WRYM\\HYDRO\\LETLUVGW\\B90A                     ",611,null,"C:\\WRYM\\HYDRO\\LETLUVGW\\B90A                     ",null,null,null,"B90A",611,0]
[null,null,null,null,null,null,"C:\\WRYM\\HYDRO\\LETLUVGW\\B90B                     ",754,null,"C:\\WRYM\\HYDRO\\LETLUVGW\\B90B                     ",null,null,null,"B90B",754,0]
[null,null,null,null,null,null,"C:\\WRYM\\HYDRO\\LETLUVGW\\B90C                     ",535,null,"C:\\WRYM\\HYDRO\\LETLUVGW\\B90C                     ",null,null,null,"B90C",535,0]
[null,null,null,null,null,null,"C:\\WRYM\\HYDRO\\LETLUVGW\\B90D                     ",447,null,"C:\\WRYM\\HYDRO\\LETLUVGW\\B90D                     ",null,null,null,"B90D",447,0]
[null,null,null,null,null,null,"C:\\WRYM\\HYDRO\\LETLUVGW\\B90E                     ",474,null,"C:\\WRYM\\HYDRO\\LETLUVGW\\B90E                     ",null,null,null,"B90E",474,0]
[null,null,null,null,null,null,"C:\\WRYM\\HYDRO\\LETLUVGW\\B90F                     ",819,null,"C:\\WRYM\\HYDRO\\LETLUVGW\\B90F                     ",null,null,null,"B90F",819,0]
[null,null,null,null,null,null,"C:\\WRYM\\HYDRO\\LETLUVGW\\B90G                     ",698,null,"C:\\WRYM\\HYDRO\\LETLUVGW\\B90G                     ",null,null,null,"B90G",698,0]
[null,null,null,null,null,null,"C:\\WRYM\\HYDRO\\LETLUVGW\\B90H1                    ",229,null,"C:\\WRYM\\HYDRO\\LETLUVGW\\B90H1                    ",null,null,null,"B90H1",229,0]
[null,null,null,null,null,null,"C:\\WRYM\\HYDRO\\LETLUVGW\\B90H2                    ",546,null,"C:\\WRYM\\HYDRO\\LETLUVGW\\B90H2                    ",null,null,null,"B90H2",546,{"$f":"O67-H67","v":0}]
[null,null,null,null,null,null,"C:\\WRYM\\HYDRO\\LETLUVGW\\A92A1                    ",282,null,"C:\\WRYM\\HYDRO\\LETLUVGW\\A92A1                    ",null,null,null,"A92A1",282,0]
[null,null,null,null,null,null,"C:\\WRYM\\HYDRO\\LETLUVGW\\A92A2                    ",47,null,"C:\\WRYM\\HYDRO\\LETLUVGW\\A92A2                    ",null,null,null,"A92A2",47,0]
[null,null,null,null,null,null,"C:\\WRYM\\HYDRO\\LETLUVGW\\A92B                     ",565,null,"C:\\WRYM\\HYDRO\\LETLUVGW\\A92B                     ",null,null,null,"A92B",565,0]
[null,null,null,null,null,null,"C:\\WRYM\\HYDRO\\LETLUVGW\\A92Cgw                   ",455,null,"C:\\WRYM\\HYDRO\\LETLUVGW\\A92Cgw                   ",null,null,null,"A92C",455,0]
[null,null,null,null,null,null,"C:\\WRYM\\HYDRO\\LETLUVGW\\A92D                     ",560,null,"C:\\WRYM\\HYDRO\\LETLUVGW\\A92D                     ",null,null,null,"A92D",560,0]

{"sheet":"Sheet3","index":7,"n_rows":247,"n_cols":8,"rows_kept":247,"cut":false,"hidden":false,"merged":[]}
[null,null,"WRYM",null,null,"WRPM"]
[null,1,"allem4   ",3628,null,1,"allem4   ",{"$f":"VLOOKUP(G2,$C$2:$D$247,2,FALSE)","v":3628}]
[null,2,"Barr4    ",2828,null,2,"Barr4    ",{"$f":"VLOOKUP(G3,$C$2:$D$247,2,FALSE)","v":2828}]
[null,3,"bloemn3d4",11818,null,3,"bloemn3d4",11818]
[null,4,"bosk4    ",1756,null,4,"bosk4    ",1756]
[null,5,"DELA4    ",4158,null,5,"DELA4    ",4158]
[null,6,"erf4     ",4724,null,6,"erf4     ",4724]
[null,7,"FRAN4    ",15498,null,7,"FRAN4    ",15498]
[null,8,"GROOTD4  ",7995,null,8,"GROOTD4  ",7995]
[null,9,"klerk4   ",1001,null,9,"klerk4   ",1001]
[null,10,"klipbn4  ",6765,null,10,"klipbn4  ",6765]
[null,11,"klipdn4  ",890,null,11,"klipdn4  ",890]
[null,12,"Klipr4   ",2282,null,12,"Klipr4   ",2282]
[null,13,"C70ABC4  ",2160,null,13,"C70ABC4  ",2160]
[null,14,"kromn4   ",2028,null,14,"kromn4   ",2028]
[null,15,"Augn4    ",1,null,15,"D33      ",1]
[null,16,"MthN4    ",1,null,16,"Mu12     ",1]
[null,17,"D41Ared  ",2778,null,17,"D41ARED  ",2778]
[null,18,"sandn4   ",8463,null,18,"sandn4   ",8463]
[null,19,"STERK4   ",195,null,19,"STERK4   ",195]
[null,20,"SUIK4    ",3541,null,20,"SUIK4    ",3541]
[null,21,"VAAL4    ",9893,null,21,"VAAL4    ",9893]
[null,22,"X11D2    ",1,null,22,"X11D2    ",1]
[null,23,"X11J1    ",1,null,23,"X11J1    ",1]
[null,24,"UAub     ",1,null,24,"UAub     ",1]
[null,25,"X11a1    ",1,null,25,"X11a1    ",1]
[null,26,"X11D1    ",1,null,26,"X11D1    ",1]
[null,27,"kat10    ",1,null,27,"kat10    ",1]
[null,28,"mal10    ",1,null,28,"mal10    ",1]
[null,29,"mas10    ",1,null,29,"mas10    ",1]
[null,30,"mat10    ",1,null,30,"mat10    ",1]
[null,31,"moh10    ",1,null,31,"moh10    ",1]
[null,32,"nto10    ",1,null,32,"nto10    ",1]
[null,33,"oran10   ",1,null,33,"ORAN10   ",1]
[null,34,"tso10    ",1,null,34,"Tso10    ",1]
[null,35,"Dehoop4  ",3201,null,35,"Dehoop4  ",3201]
[null,36,"Lolif    ",1,null,36,"Lolif    ",1]
[null,37,"Spits4   ",9205,null,37,"Spits4   ",9205]
[null,38,"D41N     ",1372,null,38,"D41N     ",1372]
[null,39,"Vharts4  ",2509,null,39,"Vharts4  ",2509]
[null,40,"Auch4    ",1847,null,40,"Auch4    ",1847]
[null,41,"Kalkf4   ",8781,null,41,"Kalkf4   ",8781]
[null,42,"Krug4    ",5391,null,42,"Krug4    ",5391]
[null,43,"Rustf4   ",937,null,43,"Rustf4   ",937]
[null,44,"Tier4    ",922,null,44,"Tier4    ",922]
[null,45,"Twee4    ",2236,null,45,"Twee4    ",2236]
[null,46,"D41M     ",1,null,46,"D41M     ",1]
[null,47,"D41K     ",1,null,47,"D41K     ",1]
[null,48,"D41B     ",5193,null,48,"D41B     ",5193]
[null,49,"D41C     ",2995,null,49,"D41C     ",2995]
[null,50,"D41D     ",2744,null,50,"D41D     ",2744]
[null,51,"D41E     ",1,null,51,"D41E     ",1]
[null,52,"D41F     ",1,null,52,"D41F     ",1]
[null,53,"D42B     ",1,null,53,"D42B     ",1]
[null,54,"mntdam4  ",1,null,54,"X11G1    ",1]
[null,55,"UOlif    ",218,null,55,"UOlif    ",218]
[null,56,"SEEIS    ",146,null,56,"SEEIS    ",146]
[null,57,"ti194    ",1,null,57,"X11H1    ",1]
[null,58,"ti294    ",1,null,58,"X11K1    ",1]
[null,59,"ti394    ",1,null,59,"C24ceye4 ",1]
[null,60,"D41G     ",1,null,60,"D41G     ",1]
[null,61,"D42A     ",1388,null,61,"D42A     ",1388]
[null,62,"D42F     ",1360,null,62,"D42F     ",1360]
[null,63,"D42E     ",1552,null,63,"D42E     ",1552]
[null,64,"D42D     ",2946,null,64,"D42D     ",2946]
[null,65,"D42C     ",1,null,65,"D42C     ",1]
[null,66,"vu94     ",1,null,66,"com2124  ",{"$f":"VLOOKUP(G67,$C$2:$D$247,2,FALSE)","v":1}]
[null,67,"aliw4    ",1,null,67,"d12      ",3645]
[null,68,"LOGR1    ",12426,null,68,"LOGR1    ",12426]
[null,69,"HFDU4    ",1,null,69,"d35      ",5638]
[null,70,"Hlodam   ",1,null,70,"hlodam   ",1]
[null,71,"Katjrest ",1,null,71,"katjrest ",1]
[null,72,"Knell    ",1,null,72,"knell    ",1]
[null,73,"pkdu4    ",1,null,73,"vdk      ",18497]
[null,74,"rood4    ",1,null,74,"d13      ",8676]
[null,75,"verw4    ",1,null,75,"d14      ",6145]
[null,76,"LOGR2    ",1,null,76,"LOGR2    ",1]
[null,77,"Water    ",1,null,77,"water    ",1]
[null,78,"Welinc   ",1,null,78,"WELINC   ",1]
[null,79,"tm0194   ",1,null,79,"tm0194   ",1]
[null,80,"tm0294   ",1,null,80,"tm0294   ",1]
[null,81,"tm0394   ",1,null,81,"tm0394   ",1]
[null,82,"tm0494   ",1,null,82,"tm0494   ",1]
[null,83,"Tm05a4   ",1,null,83,"Tm05a4   ",1]
[null,84,"Tm05b4   ",1,null,84,"Tm05b4   ",1]
[null,85,"Tm07b4   ",1,null,85,"Tm07b4   ",1]
[null,86,"Tm08a4   ",1,null,86,"Tm08a4   ",1]
[null,87,"tm0994   ",1,null,87,"tm0994   ",1]
[null,88,"tm1094   ",1,null,88,"tm1094   ",1]
[null,89,"tm1194   ",1,null,89,"tm1194   ",1]
[null,90,"tm1294   ",1,null,90,"tm1294   ",1]
[null,91,"tm1394   ",1,null,91,"tm1394   ",1]
[null,92,"tm1494   ",1,null,92,"tm1494   ",1]
[null,93,"Tm15b4   ",1,null,93,"Tm15b4   ",1]
[null,94,"Tm16c4   ",1,null,94,"Tm16c4   ",1]
[null,95,"tm1794   ",1,null,95,"tm1794   ",1]
[null,96,"tm1894   ",1,null,96,"tm1894   ",1]
[null,97,"tm1994   ",1,null,97,"tm1994   ",1]
[null,98,"Tm29a4   ",1,null,98,"Tm29a4   ",1]
[null,99,"Tm15a4   ",1,null,99,"Tm15a4   ",1]
[null,100,"Tm16b4   ",1,null,100,"Tm16b4   ",1]
[null,101,"Tm16a4   ",1,null,101,"Tm16a4   ",1]
[null,102,"tm2494   ",1,null,102,"tm2494   ",1]
[null,103,"tm2594   ",1,null,103,"tm2594   ",1]
[null,104,"tm2694   ",1,null,104,"tm2694   ",1]
[null,105,"tm2794   ",1,null,105,"tm2794   ",1]
[null,106,"Tm289_a4 ",1,null,106,"Tm289_a4 ",1]
[null,107,"Tm29b4   ",1,null,107,"Tm29b4   ",1]
[null,108,"Tm30a4   ",1,null,108,"Tm30a4   ",1]
[null,109,"tm3194   ",1,null,109,"tm3194   ",1]
[null,110,"Tm329_a4 ",1,null,110,"Tm329_a4 ",1]
[null,111,"bak4     ",1,null,111,"X11B2    ",1]
[null,112,"broad4   ",1,null,112,"X11C1    ",1]
[null,113,"bus4     ",1,null,113,"X11D3    ",1]
[null,114,"W5h84    ",1,null,114,"church9  ",1]
[null,115,"W5r44    ",1,null,115,"heys9    ",1]
[null,116,"ish4     ",1,null,116,"X11E1    ",1]
[null,117,"W5r14    ",1,null,117,"jeri9    ",1]
[null,118,"mer4     ",1,null,118,"X11E2    ",1]
[null,119,"W5r34    ",1,null,119,"morg9    ",1]
[null,120,"W5r24    ",1,null,120,"West9    ",1]
[null,121,"mu1_4    ",1,null,121,"mu1      ",1]
[null,122,"mu2_4    ",1,null,122,"mu2      ",1]
[null,123,"mu3_4    ",1,null,123,"mu3      ",1]
[null,124,"mu4_4    ",1,null,124,"mu4      ",1]
[null,125,"mu5_4    ",1,null,125,"mu5      ",1]
[null,126,"mu6_4    ",1,null,126,"mu6      ",1]
[null,127,"c70k4    ",392,null,127,"c70k4    ",392]
[null,128,"c24d4    ",364,null,128,"c24d4    ",364]
[null,129,"c24e4    ",664,null,129,"c24e4    ",664]
[null,130,"c24f4    ",1180,null,130,"c24f4    ",{"$f":"VLOOKUP(G131,$C$2:$D$247,2,FALSE)","v":1180}]
[null,131,"c24g4    ",985,null,131,"c24g4    ",985]
[null,132,"c24h4    ",1,null,132,"c24h4    ",1]
[null,133,"Mu13_4   ",1,null,133,"Mu13     ",1]
[null,134,"Mu14_4   ",1,null,134,"Mu14     ",1]
[null,135,"Mu15_4   ",1,null,135,"Mu15     ",1]
[null,136,"D43C     ",1,null,136,"D43C     ",1]
[null,137,"D44C     ",1,null,137,"D44C     ",1]
[null,138,"D44D     ",1,null,138,"D44D     ",1]
[null,139,"D41J     ",1,null,139,"D41J     ",1]
[null,140,"D42G     ",1,null,140,"D42G     ",1]
[null,141,"D45C     ",1,null,141,"D45C     ",1]
[null,142,"D45D     ",1,null,142,"D45D     ",1]
[null,143,"Otjv     ",965.5,null,143,"Otjv     ",965.5]
[null,144,"DVilj    ",965.5,null,144,"DVilj    ",965.5]
[null,145,"mu25_4   ",1,null,145,"mu7      ",1]
[null,146,"mu26_4   ",1,null,146,"mu8      ",1]
[null,147,"mu27_4   ",1,null,147,"mu9      ",1]
[null,148,"mu28_4   ",1,null,148,"Mu10     ",1]
[null,149,"mu29_4   ",1,null,149,"Mu11     ",1]
[null,150,"D43B     ",1,null,150,"D43B     ",1]
[null,151,"alb4     ",1,null,151,"com1113  ",1]
[null,152,"duz4     ",1,null,152,"gro      ",1]
[null,153,"haz4     ",1,null,153,"com2327  ",1]
[null,154,"hen4     ",1,null,154,"com22    ",1]
[null,155,"hla4     ",1,null,155,"LOGR3    ",1]
[null,156,"imp4     ",1,null,156,"LOGR4    ",1]
[null,157,"ina4     ",1,null,157,"LOGR5    ",1]
[null,158,"lov4     ",1,null,158,"LOGR6    ",15153]
[null,159,"mbo4     ",1,null,159,"LOGR7    ",1]
[null,160,"mdlm4    ",1,null,160,"LOGR8    ",1]
[null,161,"mgem4    ",1,null,161,"LOGR9    ",1]
[null,162,"mhi4     ",1,null,162,"LOGR10   ",1342]
[null,163,"mhl4     ",1,null,163,"LOGR11   ",1]
[null,164,"mid4     ",1,null,164,"LOGR12   ",1]
[null,165,"mkom4    ",1,null,165,"LOGR13   ",1]
[null,166,"mlam4    ",1,null,166,"LOGR14   ",1]
[null,167,"mea4     ",1,null,167,"LOGR16   ",1]
[null,168,"nag4     ",1,null,168,"LOGR17   ",1]
[null,169,"ngw4     ",1,null,169,"LOGR18   ",1]
[null,170,"nun4     ",1,null,170,"LOGR19   ",1]
[null,171,"sho4     ",1,null,171,"LOGR15   ",1]
[null,172,"smi4     ",1,null,172,"METO     ",757]
[null,173,"sut4     ",1,null,173,"hloabs   ",374]
[null,174,"ton4     ",1,null,174,"holdam   ",157.6]
[null,175,"midd4    ",1,null,175,"holabs   ",157.6]
[null,176,"spr4     ",1,null,176,"armen    ",861]
[null,177,"dar4     ",1,null,177,"muela    ",78.8]
[null,178,"craig4   ",1,null,178,"MAKABS   ",1]
[null,179,"muden4   ",1,null,179,"MAKDAM   ",1]
[null,180,"Barbers4 ",433.8,null,180,"Barbers4 ",433.8]
[null,181,"USWentzD4",5824.8,null,181,"USWentzD4",5824.8]
[null,182,"DSWentzD4",1787.6,null,182,"DSWentzD4",1787.6]
[null,183,"C3H0134  ",1691,null,183,"C3H0134  ",1691]
[null,184,"C9H0074  ",4168,null,184,"C9H0074  ",4168]
[null,185,"C5r54    ",1,null,185,"X11F1    ",1]
[null,186,"Hardp4   ",1,null,186,"F1       ",1]
[null,187,"Konkp4   ",1,null,187,"F2       ",1]
[null,188,"LowF4    ",1,null,188,"F3       ",1]
[null,189,"Naut4    ",1,null,189,"F4       ",1]
[null,190,"Seeh4    ",1,null,190,"F5       ",1]
[null,191,"c70d4    ",675,null,191,"c70d4    ",675]
[null,192,"c70e4    ",693,null,192,"c70e4    ",693]
[null,193,"c70f4    ",564,null,193,"c70f4    ",564]
[null,194,"c70g4    ",1,null,194,"c70g4    ",{"$f":"VLOOKUP(G195,$C$2:$D$247,2,FALSE)","v":1}]
[null,195,"c70h4    ",251,null,195,"c70h4    ",251]
[null,196,"c70j4    ",521,null,196,"c70j4    ",521]
[null,197,"lakesn4  ",345,null,197,"lakesn4  ",345]
[null,198,"Tm07a4   ",1,null,198,"Tm07a4   ",1]
[null,199,"Tm289_b4 ",1,null,199,"Tm289_b4 ",1]
[null,200,"Tm289_c4 ",1,null,200,"Tm289_c4 ",1]
[null,201,"Tm329_b4 ",1,null,201,"Tm329_b4 ",1]
[null,202,"Tm08b4   ",1,null,202,"Tm08b4   ",1]
[null,203,"Tm16d4   ",1,null,203,"Tm16d4   ",1]
[null,204,"Tm30b4   ",1,null,204,"Tm30b4   ",1]
[null,205,"C12D4    ",899,null,205,"C12D4    ",899]
[null,206,"X11B1    ",1,null,206,"X11B1    ",1]
[null,207,"X11B2    ",1,null,207,"d24      ",6614]
[null,208,"X11C1    ",1,null,208,"F6       ",1]
[null,209,"X11D3    ",1,null,209,"F7       ",1]
[null,210,"X11E1    ",1,null,210,"F8       ",1]
[null,211,"X11E2    ",1,null,211,"F9       ",1]
[null,212,"X11F1    ",1,null,212,"F10      ",1]
[null,213,"X11G1    ",1]
[null,214,"X11H1    ",1]
[null,215,"X11K1    ",1]
[null,216,"C24ceye4 ",1]
[null,217,"com2124  ",1]
[null,218,"com1113  ",1]
[null,219,"gro      ",1]
[null,220,"COM2327  ",1]
[null,221,"com22    ",1]
[null,222,"LOGR3    ",1]
[null,223,"LOGR4    ",1]
[null,224,"LOGR5    ",1]
[null,225,"LOGR6    ",15153]
[null,226,"LOGR7    ",1]
[null,227,"LOGR8    ",1]
[null,228,"LOGR9    ",1]
[null,229,"LOGR10   ",1342]
[null,230,"LOGR11   ",1]
[null,231,"LOGR12   ",1]
[null,232,"LOGR13   ",1]
[null,233,"LOGR14   ",1]
[null,234,"LOGR16   ",1]
[null,235,"LOGR17   ",1]
[null,236,"LOGR18   ",1]
[null,237,"LOGR19   ",1]
[null,238,"LOGR15   ",1]
[null,239,"METO     ",1]
[null,240,"HLOABS   ",1]
[null,241,"HOLDAM   ",1]
[null,242,"HOLABS   ",1]
[null,243,"ARMEN    ",1]
[null,244,"MUELA    ",1]
[null,245,"MAKABS   ",1]
[null,246,"MAKDAM   ",1]

{"sheet":"Sheet4","index":8,"n_rows":1272,"n_cols":3,"rows_kept":1272,"cut":false,"hidden":false,"merged":[]}
[]
[null,1,"C:\\WRPM\\HYDRO\\ORASPH3\\allem4    "]
[null,2,"C:\\WRPM\\HYDRO\\ORASPH3\\Barr4     "]
[null,3,"C:\\WRPM\\HYDRO\\ORASPH3\\bloemn3d4 "]
[null,4,"C:\\WRPM\\HYDRO\\ORASPH3\\bosk4     "]
[null,5,"C:\\WRPM\\HYDRO\\ORASPH3\\DELA4     "]
[null,6,"C:\\WRPM\\HYDRO\\ORASPH3\\erf4      "]
[null,7,"C:\\WRPM\\HYDRO\\ORASPH3\\FRAN4     "]
[null,8,"C:\\WRPM\\HYDRO\\ORASPH3\\GROOTD4   "]
[null,9,"C:\\WRPM\\HYDRO\\ORASPH3\\klerk4    "]
[null,10,"C:\\WRPM\\HYDRO\\ORASPH3\\klipbn4   "]
[null,11,"C:\\WRPM\\HYDRO\\ORASPH3\\klipdn4   "]
[null,12,"C:\\WRPM\\HYDRO\\ORASPH3\\Klipr4    "]
[null,13,"C:\\WRPM\\HYDRO\\ORASPH3\\C70ABC4   "]
[null,14,"C:\\WRPM\\HYDRO\\ORASPH3\\kromn4    "]
[null,15,"C:\\WRPM\\HYDRO\\ORASPH3\\D33       "]
[null,16,"C:\\WRPM\\HYDRO\\ORASPH3\\Mu12      "]
[null,17,"C:\\WRPM\\HYDRO\\ORASPH3\\D41ARED   "]
[null,18,"C:\\WRPM\\HYDRO\\ORASPH3\\sandn4    "]
[null,19,"C:\\WRPM\\HYDRO\\ORASPH3\\STERK4    "]
[null,20,"C:\\WRPM\\HYDRO\\ORASPH3\\SUIK4     "]
[null,21,"C:\\WRPM\\HYDRO\\ORASPH3\\VAAL4     "]
[null,22,"C:\\WRPM\\HYDRO\\ORASPH3\\X11D2     "]
[null,23,"C:\\WRPM\\HYDRO\\ORASPH3\\X11J1     "]
[null,24,"C:\\WRPM\\HYDRO\\ORASPH3\\UAub      "]
[null,25,"C:\\WRPM\\HYDRO\\ORASPH3\\X11a1     "]
[null,26,"C:\\WRPM\\HYDRO\\ORASPH3\\X11D1     "]
[null,27,"C:\\WRPM\\HYDRO\\ORASPH3\\kat10     "]
[null,28,"C:\\WRPM\\HYDRO\\ORASPH3\\mal10     "]
[null,29,"C:\\WRPM\\HYDRO\\ORASPH3\\mas10     "]
[null,30,"C:\\WRPM\\HYDRO\\ORASPH3\\mat10     "]
[null,31,"C:\\WRPM\\HYDRO\\ORASPH3\\moh10     "]
[null,32,"C:\\WRPM\\HYDRO\\ORASPH3\\nto10     "]
[null,33,"C:\\WRPM\\HYDRO\\ORASPH3\\ORAN10    "]
[null,34,"C:\\WRPM\\HYDRO\\ORASPH3\\Tso10     "]
[null,35,"C:\\WRPM\\HYDRO\\ORASPH3\\Dehoop4   "]
[null,36,"C:\\WRPM\\HYDRO\\ORASPH3\\Lolif     "]
[null,37,"C:\\WRPM\\HYDRO\\ORASPH3\\Spits4    "]
[null,38,"C:\\WRPM\\HYDRO\\ORASPH3\\D41N      "]
[null,39,"C:\\WRPM\\HYDRO\\ORASPH3\\Vharts4   "]
[null,40,"C:\\WRPM\\HYDRO\\ORASPH3\\Auch4     "]
[null,41,"C:\\WRPM\\HYDRO\\ORASPH3\\Kalkf4    "]
[null,42,"C:\\WRPM\\HYDRO\\ORASPH3\\Krug4     "]
[null,43,"C:\\WRPM\\HYDRO\\ORASPH3\\Rustf4    "]
[null,44,"C:\\WRPM\\HYDRO\\ORASPH3\\Tier4     "]
[null,45,"C:\\WRPM\\HYDRO\\ORASPH3\\Twee4     "]
[null,46,"C:\\WRPM\\HYDRO\\ORASPH3\\D41M      "]
[null,47,"C:\\WRPM\\HYDRO\\ORASPH3\\D41K      "]
[null,48,"C:\\WRPM\\HYDRO\\ORASPH3\\D41B      "]
[null,49,"C:\\WRPM\\HYDRO\\ORASPH3\\D41C      "]
[null,50,"C:\\WRPM\\HYDRO\\ORASPH3\\D41D      "]
[null,51,"C:\\WRPM\\HYDRO\\ORASPH3\\D41E      "]
[null,52,"C:\\WRPM\\HYDRO\\ORASPH3\\D41F      "]
[null,53,"C:\\WRPM\\HYDRO\\ORASPH3\\D42B      "]
[null,54,"C:\\WRPM\\HYDRO\\ORASPH3\\X11G1     "]
[null,55,"C:\\WRPM\\HYDRO\\ORASPH3\\UOlif     "]
[null,56,"C:\\WRPM\\HYDRO\\ORASPH3\\SEEIS     "]
[null,57,"C:\\WRPM\\HYDRO\\ORASPH3\\X11H1     "]
[null,58,"C:\\WRPM\\HYDRO\\ORASPH3\\X11K1     "]
[null,59,"C:\\WRPM\\HYDRO\\ORASPH3\\C24ceye4  "]
[null,60,"C:\\WRPM\\HYDRO\\ORASPH3\\D41G      "]
[null,61,"C:\\WRPM\\HYDRO\\ORASPH3\\D42A      "]
[null,62,"C:\\WRPM\\HYDRO\\ORASPH3\\D42F      "]
[null,63,"C:\\WRPM\\HYDRO\\ORASPH3\\D42E      "]
[null,64,"C:\\WRPM\\HYDRO\\ORASPH3\\D42D      "]
[null,65,"C:\\WRPM\\HYDRO\\ORASPH3\\D42C      "]
[null,66,"C:\\WRPM\\HYDRO\\ORASPH3\\com2124   "]
[null,67,"C:\\WRPM\\HYDRO\\ORASPH3\\d12       "]
[null,68,"C:\\WRPM\\HYDRO\\ORASPH3\\LOGR1     "]
[null,69,"C:\\WRPM\\HYDRO\\ORASPH3\\d35       "]
[null,70,"C:\\WRPM\\HYDRO\\ORASPH3\\hlodam    "]
[null,71,"C:\\WRPM\\HYDRO\\ORASPH3\\katjrest  "]
[null,72,"C:\\WRPM\\HYDRO\\ORASPH3\\knell     "]
[null,73,"C:\\WRPM\\HYDRO\\ORASPH3\\vdk       "]
[null,74,"C:\\WRPM\\HYDRO\\ORASPH3\\d13       "]
[null,75,"C:\\WRPM\\HYDRO\\ORASPH3\\d14       "]
[null,76,"C:\\WRPM\\HYDRO\\ORASPH3\\LOGR2     "]
[null,77,"C:\\WRPM\\HYDRO\\ORASPH3\\water     "]
[null,78,"C:\\WRPM\\HYDRO\\ORASPH3\\WELINC    "]
[null,79,"C:\\WRPM\\HYDRO\\ORASPH3\\tm0194    "]
[null,80,"C:\\WRPM\\HYDRO\\ORASPH3\\tm0294    "]
[null,81,"C:\\WRPM\\HYDRO\\ORASPH3\\tm0394    "]
[null,82,"C:\\WRPM\\HYDRO\\ORASPH3\\tm0494    "]
[null,83,"C:\\WRPM\\HYDRO\\ORASPH3\\Tm05a4    "]
[null,84,"C:\\WRPM\\HYDRO\\ORASPH3\\Tm05b4    "]
[null,85,"C:\\WRPM\\HYDRO\\ORASPH3\\Tm07b4    "]
[null,86,"C:\\WRPM\\HYDRO\\ORASPH3\\Tm08a4    "]
[null,87,"C:\\WRPM\\HYDRO\\ORASPH3\\tm0994    "]
[null,88,"C:\\WRPM\\HYDRO\\ORASPH3\\tm1094    "]
[null,89,"C:\\WRPM\\HYDRO\\ORASPH3\\tm1194    "]
[null,90,"C:\\WRPM\\HYDRO\\ORASPH3\\tm1294    "]
[null,91,"C:\\WRPM\\HYDRO\\ORASPH3\\tm1394    "]
[null,92,"C:\\WRPM\\HYDRO\\ORASPH3\\tm1494    "]
[null,93,"C:\\WRPM\\HYDRO\\ORASPH3\\Tm15b4    "]
[null,94,"C:\\WRPM\\HYDRO\\ORASPH3\\Tm16c4    "]
[null,95,"C:\\WRPM\\HYDRO\\ORASPH3\\tm1794    "]
[null,96,"C:\\WRPM\\HYDRO\\ORASPH3\\tm1894    "]
[null,97,"C:\\WRPM\\HYDRO\\ORASPH3\\tm1994    "]
[null,98,"C:\\WRPM\\HYDRO\\ORASPH3\\Tm29a4    "]
[null,99,"C:\\WRPM\\HYDRO\\ORASPH3\\Tm15a4    "]
[null,100,"C:\\WRPM\\HYDRO\\ORASPH3\\Tm16b4    "]
[null,101,"C:\\WRPM\\HYDRO\\ORASPH3\\Tm16a4    "]
[null,102,"C:\\WRPM\\HYDRO\\ORASPH3\\tm2494    "]
[null,103,"C:\\WRPM\\HYDRO\\ORASPH3\\tm2594    "]
[null,104,"C:\\WRPM\\HYDRO\\ORASPH3\\tm2694    "]
[null,105,"C:\\WRPM\\HYDRO\\ORASPH3\\tm2794    "]
[null,106,"C:\\WRPM\\HYDRO\\ORASPH3\\Tm289_a4  "]
[null,107,"C:\\WRPM\\HYDRO\\ORASPH3\\Tm29b4    "]
[null,108,"C:\\WRPM\\HYDRO\\ORASPH3\\Tm30a4    "]
[null,109,"C:\\WRPM\\HYDRO\\ORASPH3\\tm3194    "]
[null,110,"C:\\WRPM\\HYDRO\\ORASPH3\\Tm329_a4  "]
[null,111,"C:\\WRPM\\HYDRO\\ORASPH3\\X11B2     "]
[null,112,"C:\\WRPM\\HYDRO\\ORASPH3\\X11C1     "]
[null,113,"C:\\WRPM\\HYDRO\\ORASPH3\\X11D3     "]
[null,114,"C:\\WRPM\\HYDRO\\ORASPH3\\church9   "]
[null,115,"C:\\WRPM\\HYDRO\\ORASPH3\\heys9     "]
[null,116,"C:\\WRPM\\HYDRO\\ORASPH3\\X11E1     "]
[null,117,"C:\\WRPM\\HYDRO\\ORASPH3\\jeri9     "]
[null,118,"C:\\WRPM\\HYDRO\\ORASPH3\\X11E2     "]
[null,119,"C:\\WRPM\\HYDRO\\ORASPH3\\morg9     "]
[null,120,"C:\\WRPM\\HYDRO\\ORASPH3\\West9     "]
[null,121,"C:\\WRPM\\HYDRO\\ORASPH3\\mu1       "]
[null,122,"C:\\WRPM\\HYDRO\\ORASPH3\\mu2       "]
[null,123,"C:\\WRPM\\HYDRO\\ORASPH3\\mu3       "]
[null,124,"C:\\WRPM\\HYDRO\\ORASPH3\\mu4       "]
[null,125,"C:\\WRPM\\HYDRO\\ORASPH3\\mu5       "]
[null,126,"C:\\WRPM\\HYDRO\\ORASPH3\\mu6       "]
[null,127,"C:\\WRPM\\HYDRO\\ORASPH3\\c70k4     "]
[null,128,"C:\\WRPM\\HYDRO\\ORASPH3\\c24d4     "]
[null,129,"C:\\WRPM\\HYDRO\\ORASPH3\\c24e4     "]
[null,130,"C:\\WRPM\\HYDRO\\ORASPH3\\c24f4     "]
[null,131,"C:\\WRPM\\HYDRO\\ORASPH3\\c24g4     "]
[null,132,"C:\\WRPM\\HYDRO\\ORASPH3\\c24h4     "]
[null,133,"C:\\WRPM\\HYDRO\\ORASPH3\\Mu13      "]
[null,134,"C:\\WRPM\\HYDRO\\ORASPH3\\Mu14      "]
[null,135,"C:\\WRPM\\HYDRO\\ORASPH3\\Mu15      "]
[null,136,"C:\\WRPM\\HYDRO\\ORASPH3\\D43C      "]
[null,137,"C:\\WRPM\\HYDRO\\ORASPH3\\D44C      "]
[null,138,"C:\\WRPM\\HYDRO\\ORASPH3\\D44D      "]
[null,139,"C:\\WRPM\\HYDRO\\ORASPH3\\D41J      "]
[null,140,"C:\\WRPM\\HYDRO\\ORASPH3\\D42G      "]
[null,141,"C:\\WRPM\\HYDRO\\ORASPH3\\D45C      "]
[null,142,"C:\\WRPM\\HYDRO\\ORASPH3\\D45D      "]
[null,143,"C:\\WRPM\\HYDRO\\ORASPH3\\Otjv      "]
[null,144,"C:\\WRPM\\HYDRO\\ORASPH3\\DVilj     "]
[null,145,"C:\\WRPM\\HYDRO\\ORASPH3\\mu7       "]
[null,146,"C:\\WRPM\\HYDRO\\ORASPH3\\mu8       "]
[null,147,"C:\\WRPM\\HYDRO\\ORASPH3\\mu9       "]
[null,148,"C:\\WRPM\\HYDRO\\ORASPH3\\Mu10      "]
[null,149,"C:\\WRPM\\HYDRO\\ORASPH3\\Mu11      "]
[null,150,"C:\\WRPM\\HYDRO\\ORASPH3\\D43B      "]
[null,151,"C:\\WRPM\\HYDRO\\ORASPH3\\com1113   "]
[null,152,"C:\\WRPM\\HYDRO\\ORASPH3\\gro       "]
[null,153,"C:\\WRPM\\HYDRO\\ORASPH3\\com2327   "]
[null,154,"C:\\WRPM\\HYDRO\\ORASPH3\\com22     "]
[null,155,"C:\\WRPM\\HYDRO\\ORASPH3\\LOGR3     "]
[null,156,"C:\\WRPM\\HYDRO\\ORASPH3\\LOGR4     "]
[null,157,"C:\\WRPM\\HYDRO\\ORASPH3\\LOGR5     "]
[null,158,"C:\\WRPM\\HYDRO\\ORASPH3\\LOGR6     "]
[null,159,"C:\\WRPM\\HYDRO\\ORASPH3\\LOGR7     "]
[null,160,"C:\\WRPM\\HYDRO\\ORASPH3\\LOGR8     "]
[null,161,"C:\\WRPM\\HYDRO\\ORASPH3\\LOGR9     "]
[null,162,"C:\\WRPM\\HYDRO\\ORASPH3\\LOGR10    "]
[null,163,"C:\\WRPM\\HYDRO\\ORASPH3\\LOGR11    "]
[null,164,"C:\\WRPM\\HYDRO\\ORASPH3\\LOGR12    "]
[null,165,"C:\\WRPM\\HYDRO\\ORASPH3\\LOGR13    "]
[null,166,"C:\\WRPM\\HYDRO\\ORASPH3\\LOGR14    "]
[null,167,"C:\\WRPM\\HYDRO\\ORASPH3\\LOGR16    "]
[null,168,"C:\\WRPM\\HYDRO\\ORASPH3\\LOGR17    "]
[null,169,"C:\\WRPM\\HYDRO\\ORASPH3\\LOGR18    "]
[null,170,"C:\\WRPM\\HYDRO\\ORASPH3\\LOGR19    "]
[null,171,"C:\\WRPM\\HYDRO\\ORASPH3\\LOGR15    "]
[null,172,"C:\\WRPM\\HYDRO\\ORASPH3\\METO      "]
[null,173,"C:\\WRPM\\HYDRO\\ORASPH3\\hloabs    "]
[null,174,"C:\\WRPM\\HYDRO\\ORASPH3\\holdam    "]
[null,175,"C:\\WRPM\\HYDRO\\ORASPH3\\holabs    "]
[null,176,"C:\\WRPM\\HYDRO\\ORASPH3\\armen     "]
[null,177,"C:\\WRPM\\HYDRO\\ORASPH3\\muela     "]
[null,178,"C:\\WRPM\\HYDRO\\ORASPH3\\MAKABS    "]
[null,179,"C:\\WRPM\\HYDRO\\ORASPH3\\MAKDAM    "]
[null,180,"C:\\WRPM\\HYDRO\\ORASPH3\\Barbers4  "]
[null,181,"C:\\WRPM\\HYDRO\\ORASPH3\\USWentzD4 "]
[null,182,"C:\\WRPM\\HYDRO\\ORASPH3\\DSWentzD4 "]
[null,183,"C:\\WRPM\\HYDRO\\ORASPH3\\C3H0134   "]
[null,184,"C:\\WRPM\\HYDRO\\ORASPH3\\C9H0074   "]
[null,185,"C:\\WRPM\\HYDRO\\ORASPH3\\X11F1     "]
[null,186,"C:\\WRPM\\HYDRO\\ORASPH3\\F1        "]
[null,187,"C:\\WRPM\\HYDRO\\ORASPH3\\F2        "]
[null,188,"C:\\WRPM\\HYDRO\\ORASPH3\\F3        "]
[null,189,"C:\\WRPM\\HYDRO\\ORASPH3\\F4        "]
[null,190,"C:\\WRPM\\HYDRO\\ORASPH3\\F5        "]
[null,191,"C:\\WRPM\\HYDRO\\ORASPH3\\c70d4     "]
[null,192,"C:\\WRPM\\HYDRO\\ORASPH3\\c70e4     "]
[null,193,"C:\\WRPM\\HYDRO\\ORASPH3\\c70f4     "]
[null,194,"C:\\WRPM\\HYDRO\\ORASPH3\\c70g4     "]
[null,195,"C:\\WRPM\\HYDRO\\ORASPH3\\c70h4     "]
[null,196,"C:\\WRPM\\HYDRO\\ORASPH3\\c70j4     "]
[null,197,"C:\\WRPM\\HYDRO\\ORASPH3\\lakesn4   "]
[null,198,"C:\\WRPM\\HYDRO\\ORASPH3\\Tm07a4    "]
[null,199,"C:\\WRPM\\HYDRO\\ORASPH3\\Tm289_b4  "]
[null,200,"C:\\WRPM\\HYDRO\\ORASPH3\\Tm289_c4  "]
[null,201,"C:\\WRPM\\HYDRO\\ORASPH3\\Tm329_b4  "]
[null,202,"C:\\WRPM\\HYDRO\\ORASPH3\\Tm08b4    "]
[null,203,"C:\\WRPM\\HYDRO\\ORASPH3\\Tm16d4    "]
[null,204,"C:\\WRPM\\HYDRO\\ORASPH3\\Tm30b4    "]
[null,205,"C:\\WRPM\\HYDRO\\ORASPH3\\C12D4     "]
[null,206,"C:\\WRPM\\HYDRO\\ORASPH3\\X11B1     "]
[null,207,"C:\\WRPM\\HYDRO\\ORASPH3\\d24       "]
[null,208,"C:\\WRPM\\HYDRO\\ORASPH3\\F6        "]
[null,209,"C:\\WRPM\\HYDRO\\ORASPH3\\F7        "]
[null,210,"C:\\WRPM\\HYDRO\\ORASPH3\\F8        "]
[null,211,"C:\\WRPM\\HYDRO\\ORASPH3\\F9        "]
[null,212,"C:\\WRPM\\HYDRO\\ORASPH3\\F10       "]
[null,null,"          85        1920     -1."]
[null,null," 1           -5.0324095         "]
[null,null,"     0.00000     1.00000    -0.6"]
[null,null,"    94.89647    85.20718    44.1"]
[]
[null,null,"          85        1920     -0."]
[null,null," 3            1.1264274         "]
[null,null,"     0.00000     1.00000     0.0"]
[null,null,"    72.23541    55.65972    46.7"]
[]
[null,null,"          85        1920     -0."]
[null,null," 3            1.7920447         "]
[null,null,"     0.00000     1.00000     0.0"]
[null,null,"   130.59565   148.06092    42.8"]
[]
[null,null,"          85        1920     -0."]
[null,null," 1           -8.2404410         "]
[null,null,"     0.00000     1.00000     0.4"]
[null,null,"    37.53882    17.23859    38.9"]
[]
[null,null,"          85        1920      0."]
[null,null," 3            1.9169340         "]
[null,null,"     0.00000     1.00000     0.1"]
[null,null,"   261.14341   216.55797    45.0"]
[]
[null,null,"          85        1920     -0."]
[null,null," 1           -5.3003973         "]
[null,null,"     0.00000     1.00000     0.0"]
[null,null,"   163.58694   151.48105    45.8"]
[]
[null,null,"          85        1920      0."]
[null,null," 3            1.4125173         "]
[null,null,"     0.00000     1.00000     0.0"]
[null,null,"   760.01424   645.14598    47.3"]
[]
[null,null,"          85        1920     -0."]
[null,null," 1           -7.2679376         "]
[null,null,"     0.00000     1.00000     0.0"]
[null,null,"   462.01859   375.20740    45.4"]
[]
[null,null,"          85        1920     -0."]
[null,null," 1           -3.3954442         "]
[null,null,"     0.00000     1.00000     0.3"]
[null,null,"    39.73494    29.17258    42.8"]
[]
[null,null,"          85        1920     -0."]
[null,null," 3            1.5936593         "]
[null,null,"     0.00000     1.00000     0.2"]
[null,null,"   153.28518   147.04876    45.9"]
[]
[null,null,"          85        1920      0."]
[null,null," 3            1.6727071         "]
[null,null,"     0.00000     1.00000     0.0"]
[null,null,"    21.19259    23.09855    45.6"]
[]
[null,null,"          85        1920     -0."]
[null,null," 1           -4.9880191         "]
[null,null,"     0.00000     1.00000     0.0"]
[null,null,"   102.66141    79.21884    48.0"]
[]
[null,null,"          85        1920      0."]
[null,null," 3            1.6823822         "]
[null,null,"     0.00000     1.00000     0.0"]
[null,null,"    61.11424    52.91144    45.3"]
[]
[null,null,"          85        1920      0."]
[null,null," 3            1.9036414         "]
[null,null,"     0.00000     1.00000     0.0"]
[null,null,"    42.04400    40.23417    46.2"]
[]
[null,null,"          85        1920     -0."]
[null,null," 1           -1.0453343         "]
[null,null,"     0.00000     1.00000     0.0"]
[null,null,"    14.23788    29.95161    45.7"]
[]
[null,null,"          76        1920      2."]
[null,null," 3            2.1232826         "]
[null,null,"     0.00000     1.00000     0.0"]
[null,null,"     1.70921     1.54483    42.5"]
[]
[null,null,"          85        1920      0."]
[null,null," 1           -0.6900257         "]
[null,null,"     0.00000     1.00000     0.0"]
[null,null,"     5.05776     8.11791    86.0"]
[]
[null,null,"          85        1920     -0."]
[null,null," 3            1.8873966         "]
[null,null,"     0.00000     1.00000     0.0"]
[null,null,"   160.20835   162.66087    44.8"]
[]
[null,null,"          85        1920      0."]
[null,null," 3            1.3624266         "]
[null,null,"     0.00000     1.00000     0.0"]
[null,null,"    19.52824    14.82743    45.1"]
[]
[null,null,"          85        1920     -0."]
[null,null," 1           -4.0364741         "]
[null,null,"     0.00000     1.00000     0.0"]
[null,null,"    99.87282    98.19664    46.9"]
[]
[null,null,"          85        1920     -0."]
[null,null," 3            1.7884372         "]
[null,null,"     0.00000     1.00000     0.2"]
[null,null,"   493.18576   463.44515    45.7"]
[]
[null,null,"          85        1920      0."]
[null,null," 3            1.7397328         "]
[null,null,"     0.00000     1.00000     0.0"]
[null,null,"     6.21918     3.73183    48.5"]
[]
[null,null,"          85        1920     -0."]
[null,null," 1           -9.1331817         "]
[null,null,"     0.00000     1.00000     0.0"]
[null,null,"    49.19965    20.22182    45.9"]
[]
[null,null,"          85        1920      0."]
[null,null," 1            0.1451519         "]
[null,null,"     0.00000     1.00000     0.0"]
[null,null,"     4.16753    15.00831    54.0"]
[]
[null,null,"          85        1920      0."]
[null,null," 3            1.6655918         "]
[null,null,"     0.00000     1.00000     0.0"]
[null,null,"    26.30847    24.63034    47.8"]
[]
[null,null,"          85        1920      0."]
[null,null," 3            1.3602345         "]
[null,null,"     0.00000     1.00000     0.0"]
[null,null,"    21.02824    12.44352    48.3"]
[]
[null,null,"          85        1920      0."]
[null,null," 1          -14.9253515         "]
[null,null,"     0.00000     1.00000     0.0"]
[null,null,"   559.43694   231.28126    40.4"]
[]
[null,null,"          85        1920      0."]
[null,null," 3            1.8586603         "]
[null,null,"     0.00000     1.00000     0.0"]
[null,null,"   291.71529   146.15700    45.5"]
[]
[null,null,"          85        1920      0."]
[null,null," 1          -11.9169960         "]
[null,null,"     0.00000     1.00000     0.2"]
[null,null,"   792.91376   440.50073    44.1"]
[]
[null,null,"          85        1920      1."]
[null,null," 1           -8.8887039         "]
[null,null,"     0.00000     1.00000     0.0"]
[null,null,"    98.10847    51.36450    43.8"]
[]
[null,null,"          85        1920      0."]
[null,null," 3            1.7211694         "]
[null,null,"     0.00000     1.00000     0.0"]
[null,null,"   303.23635   125.23401    45.9"]
[]
[null,null,"          85        1920     -2."]
[null,null," 3            1.7083497         "]
[null,null,"     0.00000     1.00000     0.1"]
[null,null,"   154.54918    87.00215    45.6"]
[]
[null,null,"          85        1920     -1."]
[null,null," 3            1.2076177         "]
[null,null,"     0.00000     1.00000     0.0"]
[null,null,"  1018.20494   522.30773    45.8"]
[]
[null,null,"          85        1920     -0."]
[null,null," 3            1.3865972         "]
[null,null,"     0.00000     1.00000     0.0"]
[null,null,"   362.64353   180.91587    44.2"]
[]
[null,null,"          85        1920      0."]
[null,null," 1           -2.0724009         "]
[null,null,"     0.00000     1.00000     0.0"]
[null,null,"    15.32141    25.07053    85.0"]
[]
[null,null,"          85        1920      0."]
[null,null," 1            0.4464721         "]
[null,null,"     0.00000     1.00000     0.0"]
[null,null,"     2.10412     7.73018    54.0"]
[]
[null,null,"          85        1920     -0."]
[null,null," 1           -3.4635108         "]
[null,null,"     0.00000     1.00000    -0.7"]
[null,null,"    81.28871   141.23277    44.9"]
[]
[null,null,"          85        1920      0."]
[null,null," 1           -0.2212373         "]
[null,null,"     0.00000     1.00000     0.0"]
[null,null,"    16.84118    56.73146    84.0"]
[]
[null,null,"          85        1920      0."]
[null,null," 1           -1.0010816         "]
[null,null,"     0.00000     1.00000     0.0"]
[null,null,"     9.96553    18.29456    86.0"]
[]
[null,null,"          85        1920      0."]
[null,null," 1           -0.1014556         "]
[null,null,"     0.00000     1.00000     0.0"]
[null,null,"     5.80247    18.12670    85.0"]
[]
[null,null,"          85        1920     -2."]
[null,null," 1           -4.8454441         "]
[null,null,"     0.00000     1.00000    -0.2"]
[null,null,"   185.85141   270.33082    44.2"]
[]
[null,null,"          85        1920     -0."]
[null,null," 1           -4.3045500         "]
[null,null,"     0.00000     1.00000     0.8"]
[null,null,"   118.06459   129.83637    45.0"]
[]
[null,null,"          85        1920     -1."]
[null,null," 1           -2.3249325         "]
[null,null,"     0.00000     1.00000    -0.1"]
[null,null,"    30.96482    41.80242    44.9"]
[]
[null,null,"          85        1920     -0."]
[null,null," 1           -2.1419627         "]
[null,null,"     0.00000     1.00000     0.0"]
[null,null,"    23.23118    29.43042    45.2"]
[]
[null,null,"          85        1920     -0."]
[null,null," 1           -2.0440545         "]
[null,null,"     0.00000     1.00000     0.0"]
[null,null,"    15.66682    24.36387    45.1"]
[]
[null,null,"          85        1920      0."]
[null,null," 1            0.3869183         "]
[null,null,"     0.00000     1.00000     0.0"]
[null,null,"     3.56624    11.38011    74.0"]
[]
[null,null,"          85        1920      0."]
[null,null," 3            1.8395603         "]
[null,null,"     0.00000     1.00000     0.0"]
[null,null,"     0.64035     1.51570    61.0"]
[]
[null,null,"          85        1920      0."]
[null,null," 3            1.7576645         "]
[null,null,"     0.00000     1.00000     0.0"]
[null,null,"    12.76353    18.49210    86.0"]
[]
[null,null,"          85        1920      0."]
[null,null," 3            1.5989213         "]
[null,null,"     0.00000     1.00000     0.0"]
[null,null,"     9.65129    17.03117    85.0"]
[]
[null,null,"          85        1920      0."]
[null,null," 3            1.5860517         "]
[null,null,"     0.00000     1.00000     0.0"]
[null,null,"     5.99165    11.05274    83.0"]
[]
[null,null,"          85        1920      0."]
[null,null," 3            1.8334718         "]
[null,null,"     0.00000     1.00000     0.0"]
[null,null,"     0.67094     1.30391    71.0"]
[]
[null,null,"          85        1920      0."]
[null,null," 3            1.6720082         "]
[null,null,"     0.00000     1.00000     0.0"]
[null,null,"     1.94071     3.81315    76.0"]
[]
[null,null,"          85        1920      0."]
[null,null," 3            1.8567814         "]
[null,null,"     0.00000     1.00000     0.0"]
[null,null,"     7.12624    12.66976    85.0"]
[]
[null,null,"          85        1920     -0."]
[null,null," 1           -8.0997930         "]
[null,null,"     0.00000     1.00000     0.0"]
[null,null,"    45.28412    20.16889    45.3"]
[]
[null,null,"          85        1920      0."]
[null,null," 1            1.0293263         "]
[null,null,"     0.00000     1.00000     0.0"]
[null,null,"     0.59012     1.66352    72.0"]
[]
[null,null,"          85        1920      0."]
[null,null," 1            0.8357464         "]
[null,null,"     0.00000     1.00000     0.0"]
[null,null,"     0.88153     2.48457    75.0"]
[]
[null,null,"          85        1920     -0."]
[null,null," 1           -8.3035699         "]
[null,null,"     0.00000     1.00000     0.0"]
[null,null,"    54.48141    24.73321    46.1"]
[]
[null,null,"          85        1920     -0."]
[null,null," 1           -5.9206300         "]
[null,null,"     0.00000     1.00000     0.0"]
[null,null,"    13.74341     5.96372    45.5"]
[]
[null,null,"          85        1920     -0."]
[null,null," 3            0.6181649         "]
[null,null,"     0.00000     1.00000     1.1"]
[null,null,"    46.82294    24.93827   -28.6"]
[]
[null,null,"          85        1920      0."]
[null,null," 3            1.8445156         "]
[null,null,"     0.00000     1.00000     0.0"]
[null,null,"     0.84565     1.86482    65.0"]
[]
[null,null,"          85        1920      0."]
[null,null," 3            1.6674038         "]
[null,null,"     0.00000     1.00000     0.0"]
[null,null,"     1.57576     3.42772    72.0"]
[]
[null,null,"          85        1920      0."]
[null,null," 1           -0.0053321         "]
[null,null,"     0.00000     1.00000     0.0"]
[null,null,"     3.65859    10.06764    81.0"]
[]
[null,null,"          85        1920      0."]
[null,null," 1           -0.1480936         "]
[null,null,"     0.00000     1.00000     0.0"]
[null,null,"     4.53094    12.36583    81.0"]
[]
[null,null,"          85        1920      0."]
[null,null," 1           -0.8758388         "]
[null,null,"     0.00000     1.00000     0.0"]
[null,null,"    18.02482    45.45273    85.0"]
[]
[null,null,"          85        1920      0."]
[null,null," 3            1.8826198         "]
[null,null,"     0.00000     1.00000     0.0"]
[null,null,"     0.88647     1.63709    81.0"]
[]
[null,null,"          85        1920     -0."]
[null,null," 1           -3.5966883         "]
[null,null,"     0.00000     1.00000     0.7"]
[null,null,"    10.81988     4.94808   -28.1"]
[]
[null,null,"          85        1920     -1."]
[null,null," 3            2.0821413         "]
[null,null,"     0.00000     1.00000     0.0"]
[null,null,"   165.74329   167.66348    45.6"]
[]
[null,null,"          85        1920      0."]
[null,null," 1           -0.9563432         "]
[null,null,"     0.00000     1.00000     0.0"]
[null,null,"    22.12106    50.99390    86.0"]
[]
[null,null,"          85        1920     -1."]
[null,null," 1           -1.9749798         "]
[null,null,"     0.00000     1.00000    -0.1"]
[null,null,"    56.61647   106.97268    45.7"]
[]
[null,null,"          85        1920     -0."]
[null,null," 3            1.4475733         "]
[null,null,"     0.00000     1.00000     0.0"]
[null,null,"    99.48341    43.38933    46.3"]
[]
[null,null,"          85        1920     -0."]
[null,null," 3            1.6291055         "]
[null,null,"     0.00000     1.00000     0.0"]
[null,null,"   206.83353   138.47415    45.5"]
[]
[null,null,"          85        1920     -0."]
[null,null," 1           -2.0619398         "]
[null,null,"     0.00000     1.00000     0.8"]
[null,null,"    17.57494    23.20309    45.6"]
[]
[null,null,"          85        1920     -1."]
[null,null," 1           -1.7214046         "]
[null,null,"     0.00000     1.00000     0.0"]
[null,null,"   108.04694   258.49386    45.4"]
[]
[null,null,"          85        1920     -0."]
[null,null," 1           -8.9680324         "]
[null,null,"     0.00000     1.00000    -0.1"]
[null,null,"   719.00859   509.55159    45.2"]
[]
[null,null,"          85        1920     -1."]
[null,null," 1           -3.0195891         "]
[null,null,"     0.00000     1.00000    -0.1"]
[null,null,"   127.82318   193.46807    45.5"]
[]
[null,null,"          85        1920     -1."]
[null,null," 1           -1.2325573         "]
[null,null,"     0.00000     1.00000    -0.8"]
[null,null,"    30.19506    64.97083    45.3"]
[]
[null,null,"          85        1920      0."]
[null,null," 3            1.0494072         "]
[null,null,"     0.00000     1.00000    -0.8"]
[null,null,"    63.64459    59.84428    45.3"]
[]
[null,null,"          85        1920     -0."]
[null,null," 3            1.5376065         "]
[null,null,"     0.00000     1.00000     0.0"]
[null,null,"   556.42106   430.91453    45.8"]
[]
[null,null,"          85        1920     -0."]
[null,null," 3            1.2106338         "]
[null,null,"     0.00000     1.00000     0.0"]
[null,null,"    76.29541    31.62166    45.9"]
[]
[null,null,"          85        1920     -0."]
[null,null," 3            1.2108160         "]
[null,null,"     0.00000     1.00000     0.0"]
[null,null,"   372.50106   154.39753    45.9"]
[]
[null,null,"          85        1920     -0."]
[null,null," 3            0.8540535         "]
[null,null,"     0.00000     1.00000    -0.9"]
[null,null,"    20.23588     9.96216    45.8"]
[]
[null,null,"          85        1920      0."]
[null,null," 3            1.1992463         "]
[null,null,"     0.00000     1.00000    -0.0"]
[null,null,"   227.95035    87.52589    46.0"]
[]
[null,null,"          75        1920     -0."]
[null,null," 3            0.8325319         "]
[null,null,"     0.00000     1.00000     0.0"]
[null,null,"    37.85813    21.18126    40.6"]
[]
[null,null,"          75        1920     -1."]
[null,null," 3            0.8091467         "]
[null,null,"     0.00000     1.00000     0.0"]
[null,null,"    81.49893    47.06476    40.3"]
[]
[null,null,"          75        1920     -0."]
[null,null," 1           -1.1451498         "]
[null,null,"     0.00000     1.00000    -0.1"]
[null,null,"     2.82307     2.24131    39.9"]
[]
[null,null,"          75        1920     -1."]
[null,null," 1          -11.8228234         "]
[null,null,"     0.00000     1.00000     0.0"]
[null,null,"   289.30387   143.50924    39.0"]
[]
[null,null,"          75        1920     -1."]
[null,null," 3            1.5370215         "]
[null,null,"     0.00000     1.00000     0.0"]
[null,null,"     7.09547     6.25939    42.2"]
[]
[null,null,"          75        1920     -0."]
[null,null," 1           -6.1043182         "]
[null,null,"     0.00000     1.00000     0.7"]
[null,null,"    91.59947    73.99189    39.8"]
[]
[null,null,"          75        1920     -2."]
[null,null," 3            1.5873907         "]
[null,null,"     0.00000     1.00000     0.0"]
[null,null,"   231.29973   132.94433    40.6"]
[]
[null,null,"          75        1920     -0."]
[null,null," 1           -4.0978798         "]
[null,null,"     0.00000     1.00000     0.0"]
[null,null,"    37.26880    31.86870    40.4"]
[]
[null,null,"          75        1920     -1."]
[null,null," 1           -5.8101814         "]
[null,null,"     0.00000     1.00000    -1.0"]
[null,null,"    20.04587    10.30215    39.6"]
[]
[null,null,"          75        1920     -1."]
[null,null," 3            1.9228724         "]
[null,null,"     0.00000     1.00000     0.0"]
[null,null,"    85.51653    58.18384    40.7"]
[]
[null,null,"          75        1920     -1."]
[null,null," 1           -6.7021903         "]
[null,null,"     0.00000     1.00000     0.0"]
[null,null,"   107.00013    74.54916    40.8"]
[]
[null,null,"          75        1920     -0."]
[null,null," 1           -1.1292062         "]
[null,null,"     0.00000     1.00000     0.0"]
[null,null,"     3.80573     3.71886    35.5"]
[]
[null,null,"          75        1920     -1."]
[null,null," 3            1.6445063         "]
[null,null,"     0.00000     1.00000     0.0"]
[null,null,"    33.55040    23.29103    42.8"]
[]
[null,null,"          75        1920     -1."]
[null,null," 1           -5.6875928         "]
[null,null,"     0.00000     1.00000    -1.0"]
[null,null,"    26.25187    14.73839    40.2"]
[]
[null,null,"          75        1920     -1."]
[null,null," 1          -13.9391245         "]
[null,null,"     0.00000     1.00000     0.0"]
[null,null,"   207.10427    80.11907    39.8"]
[]
[null,null,"          75        1920     -0."]
[null,null," 1           -3.8967495         "]
[null,null,"     0.00000     1.00000     0.0"]
[null,null,"    38.52227    40.01900    36.3"]
[]
[null,null,"          75        1920     -1."]
[null,null," 1           -2.3028147         "]
[null,null,"     0.00000     1.00000     0.0"]
[null,null,"     7.78040     6.22172    40.5"]
[]
[null,null,"          75        1920     -1."]
[null,null," 3            1.5225249         "]
[null,null,"     0.00000     1.00000     0.0"]
[null,null,"    15.65680    13.81204    42.2"]
[]
[null,null,"          75        1920     -0."]
[null,null," 1           -1.9988495         "]
[null,null,"     0.00000     1.00000     0.6"]
[null,null,"     7.66000     7.47156    38.0"]
[]
[null,null,"          75        1920     -0."]
[null,null," 3            1.9221330         "]
[null,null,"     0.00000     1.00000     0.0"]
[null,null,"   110.82667    67.84458    40.9"]
[]
[null,null,"          75        1920     -1."]
[null,null," 1           -8.1336728         "]
[null,null,"     0.00000     1.00000     0.0"]
[null,null,"   140.38693    84.11468    40.6"]
[]
[null,null,"          75        1920     -2."]
[null,null," 3            1.2728341         "]
[null,null,"     0.00000     1.00000     0.0"]
[null,null,"    99.99213    60.56435    40.5"]
[]
[null,null,"          75        1920     -1."]
[null,null," 3            1.2180086         "]
[null,null,"     0.00000     1.00000     0.0"]
[null,null,"   164.71787   145.24826    41.5"]
[]
[null,null,"          75        1920     -1."]
[null,null," 3            2.0243144         "]
[null,null,"     0.00000     1.00000     0.0"]
[null,null,"    65.93333    47.33131    41.0"]
[]
[null,null,"          75        1920     -1."]
[null,null," 1           -5.8174993         "]
[null,null,"     0.00000     1.00000     0.0"]
[null,null,"    81.18827    58.65323    40.7"]
[]
[null,null,"          75        1920     -0."]
[null,null," 1           -7.0738006         "]
[null,null,"     0.00000     1.00000     0.0"]
[null,null,"   160.97707   111.51817    40.6"]
[]
[null,null,"          75        1920     -1."]
[null,null," 3            1.9523154         "]
[null,null,"     0.00000     1.00000     0.0"]
[null,null,"   148.15827    98.53256    40.5"]
[]
[null,null,"          75        1920     -1."]
[null,null," 1           -5.8029888         "]
[null,null,"     0.00000     1.00000     0.0"]
[null,null,"    63.79120    44.49307    40.9"]
[]
[null,null,"          85        1920      0."]
[null,null," 3            1.4821480         "]
[null,null,"     0.00000     1.00000     0.0"]
[null,null,"    12.00518    10.52264    47.5"]
[]
[null,null,"          85        1920      0."]
[null,null," 3            1.4840267         "]
[null,null,"     0.00000     1.00000     0.0"]
[null,null,"    11.35306    10.08009    47.5"]
[]
[null,null,"          85        1920      0."]
[null,null," 3            1.3168584         "]
[null,null,"     0.00000     1.00000     0.0"]
[null,null,"    20.24435    11.94566    48.2"]
[]
[null,null,"          75        1920     -0."]
[null,null," 3            1.0142641         "]
[null,null,"     0.00000     1.00000     0.0"]
[null,null,"     6.87947     3.87045    39.7"]
[]
[null,null,"          75        1920     -1."]
[null,null," 3            1.9572541         "]
[null,null,"     0.00000     1.00000     0.0"]
[null,null,"   129.03253    83.53858    40.3"]
[]
[null,null,"          85        1920      0."]
[null,null," 3            1.2074739         "]
[null,null,"     0.00000     1.00000     0.0"]
[null,null,"    14.75706     8.46545    48.1"]
[]
[null,null,"          75        1920     -1."]
[null,null," 3            1.4759606         "]
[null,null,"     0.00000     1.00000    -0.1"]
[null,null,"    23.68933    15.57878    40.7"]
[]
[null,null,"          85        1920      0."]
[null,null," 3            1.4130345         "]
[null,null,"     0.00000     1.00000     0.0"]
[null,null,"     6.83788     4.09653    48.2"]
[]
[null,null,"          75        1920     -1."]
[null,null," 3            1.1334459         "]
[null,null,"     0.00000     1.00000     0.0"]
[null,null,"    56.33360    38.50958    40.1"]
[]
[null,null,"          75        1920     -1."]
[null,null," 3            1.1896098         "]
[null,null,"     0.00000     1.00000     0.0"]
[null,null,"    43.61387    29.04237    40.6"]
[]
[null,null,"          76        1920      2."]
[null,null," 1           -0.5657294         "]
[null,null,"     0.00000     1.00000     0.0"]
[null,null,"     3.50974     3.71808    41.7"]
[]
[null,null,"          76        1920      2."]
[null,null," 3            2.1320190         "]
[null,null,"     0.00000     1.00000     0.0"]
[null,null,"    11.74750    12.37601    41.9"]
[]
[null,null,"          76        1920      2."]
[null,null," 3            1.9658333         "]
[null,null,"     0.00000     1.00000     0.0"]
[null,null,"     5.31316     5.51104    42.1"]
[]
[null,null,"          76        1920      2."]
[null,null," 3            2.1433057         "]
[null,null,"     0.00000     1.00000     0.0"]
[null,null,"     4.16066     4.40241    41.7"]
[]
[null,null,"          76        1920      2."]
[null,null," 3            2.1315867         "]
[null,null,"     0.00000     1.00000     0.0"]
[null,null,"    12.21658    12.75390    41.9"]
[]
[null,null,"          76        1920      2."]
[null,null," 3            2.1279891         "]
[null,null,"     0.00000     1.00000     0.0"]
[null,null,"     2.97526     3.17333    41.6"]
[]
[null,null,"          85        1920     -0."]
[null,null," 3            2.1459100         "]
[null,null,"     0.00000     1.00000    -1.0"]
[null,null,"    10.24551    11.08480    46.1"]
[]
[null,null,"          85        1920      0."]
[null,null," 3            1.6511545         "]
[null,null,"     0.00000     1.00000     0.0"]
[null,null,"     7.35424    10.35265    43.1"]
[]
[null,null,"          85        1920      0."]
[null,null," 1           -0.7940559         "]
[null,null,"     0.00000     1.00000     0.0"]
[null,null,"     9.80871    14.78301    41.7"]
[]
[null,null,"          85        1920      0."]
[null,null," 3            1.8477440         "]
[null,null,"     0.00000     1.00000    -0.7"]
[null,null,"    19.55271    28.76631    42.6"]
[]
[null,null,"          85        1920      0."]
[null,null," 3            1.8144248         "]
[null,null,"     0.00000     1.00000    -0.7"]
[null,null,"    16.90753    24.67726    42.6"]
[]
[null,null,"          85        1920      0."]
[null,null," 1           -1.0901380         "]
[null,null,"     0.00000     1.00000     0.9"]
[null,null,"     8.49565    13.40538    36.6"]
[]
[null,null,"          76        1920      2."]
[null,null," 3            2.1216792         "]
[null,null,"     0.00000     1.00000     0.0"]
[null,null,"     9.25684     8.37234    42.6"]
[]
[null,null,"          76        1920      2."]
[null,null," 3            2.0556580         "]
[null,null,"     0.00000     1.00000     0.0"]
[null,null,"    12.47079    11.27419    42.6"]
[]
[null,null,"          76        1920      2."]
[null,null," 1           -0.0621664         "]
[null,null,"     0.00000     1.00000     0.0"]
[null,null,"     2.10250     1.91179    42.6"]
[]
[null,null,"          85        1920      0."]
[null,null," 1            1.3979181         "]
[null,null,"     0.00000     1.00000     0.0"]
[null,null,"     0.22200     0.88197    40.1"]
[]
[null,null,"          85        1920      0."]
[null,null," 1            2.1335380         "]
[null,null,"     0.00000     1.00000     0.0"]
[null,null,"     0.00835     0.04601     9.0"]
[]
[null,null,"          85        1920      0."]
[null,null," 1            2.4830986         "]
[null,null,"     0.00000     1.00000     0.0"]
[null,null,"     0.01165     0.05587    13.4"]
[]
[null,null,"          85        1920      0."]
[null,null," 1            1.8490169         "]
[null,null,"     0.00000     1.00000     0.0"]
[null,null,"     0.10106     0.39987    37.1"]
[]
[null,null,"          85        1920      0."]
[null,null," 1            0.7903999         "]
[null,null,"     0.00000     1.00000     0.0"]
[null,null,"     1.05388     3.89057    60.0"]
[]
[null,null,"          85        1920      0."]
[null,null," 1            2.2675920         "]
[null,null,"     0.00000     1.00000     0.0"]
[null,null,"     0.02682     0.11853    20.2"]
[]
[null,null,"          85        1920      0."]
[null,null," 1            1.2920199         "]
[null,null,"     0.00000     1.00000     0.0"]
[null,null,"     0.24188     1.03701    36.1"]
[]
[null,null,"          85        1920      0."]
[null,null," 1            0.4875748         "]
[null,null,"     0.00000     1.00000     0.0"]
[null,null,"     1.15412     2.53063    65.0"]
[]
[null,null,"          85        1920      0."]
[null,null," 1            0.4875748         "]
[null,null,"     0.00000     1.00000     0.0"]
[null,null,"     1.15412     2.53063    65.0"]
[]
[null,null,"          76        1920      2."]
[null,null," 3            2.1377091         "]
[null,null,"     0.00000     1.00000     0.0"]
[null,null,"    27.61934    29.43306    41.8"]
[]
[null,null,"          76        1920      2."]
[null,null," 3            1.9879780         "]
[null,null,"     0.00000     1.00000     0.0"]
[null,null,"    49.75987    50.89765    42.0"]
[]
[null,null,"          76        1920      2."]
[null,null," 1           -1.9538149         "]
[null,null,"     0.00000     1.00000     0.0"]
[null,null,"     9.55039     9.84046    41.0"]
[]
[null,null,"          76        1920      2."]
[null,null," 1           -1.8549350         "]
[null,null,"     0.00000     1.00000     0.0"]
[null,null,"    12.92289    11.68415    42.6"]
[]
[null,null,"          76        1920      2."]
[null,null," 3            2.0618228         "]
[null,null,"     0.00000     1.00000     0.0"]
[null,null,"     2.73105     2.46371    42.5"]
[]
[null,null,"          85        1920      0."]
[null,null," 3            1.4349462         "]
[null,null,"     0.00000     1.00000     0.0"]
[null,null,"    15.83459    38.36848    70.0"]
[]
[null,null,"          85        1920      0."]
[null,null," 3            1.4341320         "]
[null,null,"     0.00000     1.00000     0.0"]
[null,null,"     0.26706     0.88191    15.3"]
[]
[null,null,"          85        1920      0."]
[null,null," 1           -0.0877840         "]
[null,null,"     0.00000     1.00000     0.0"]
[null,null,"     0.11953     0.74347     8.0"]
[]
[null,null,"          85        1920      0."]
[null,null," 1            0.9647700         "]
[null,null,"     0.00000     1.00000     0.0"]
[null,null,"     0.02035     0.14019     9.0"]
[]
[null,null,"          85        1920     -0."]
[null,null," 1           -1.2612820         "]
[null,null,"     0.00000     1.00000     0.7"]
[null,null,"     2.77894     1.20860   -22.2"]
[]
[null,null,"          85        1920     -0."]
[null,null," 1           -0.9088238         "]
[null,null,"     0.00000     1.00000     0.0"]
[null,null,"    17.45471    41.88709    45.7"]
[]
[null,null,"          85        1920      0."]
[null,null," 1           -0.5815379         "]
[null,null,"     0.00000     1.00000     0.0"]
[null,null,"    11.60482    28.38508    86.0"]
[]
[null,null,"          85        1920      0."]
[null,null," 1           -1.0416327         "]
[null,null,"     0.00000     1.00000     0.0"]
[null,null,"    21.06765    47.97683    86.0"]
[]
[null,null,"          85        1920     -1."]
[null,null," 3            1.8803753         "]
[null,null,"     0.00000     1.00000     0.0"]
[null,null,"    46.35729    99.09442    46.4"]
[]
[null,null,"          85        1920      0."]
[null,null," 3            1.7781034         "]
[null,null,"     0.00000     1.00000     0.0"]
[null,null,"    22.10624    45.51905    86.0"]
[]
[null,null,"          85        1920      0."]
[null,null," 3            2.0789182         "]
[null,null,"     0.00000     1.00000     0.0"]
[null,null,"     3.88953     8.88623    78.0"]
[]
[null,null,"          85        1920      0."]
[null,null," 1           -0.2996438         "]
[null,null,"     0.00000     1.00000     0.0"]
[null,null,"     9.57529    25.53657    82.0"]
[]
[null,null,"          85        1920      0."]
[null,null," 1            0.5906312         "]
[null,null,"     0.00000     1.00000     0.0"]
[null,null,"     1.36600     3.64858    78.0"]
[]
[null,null,"          85        1920      0."]
[null,null," 3            2.0949245         "]
[null,null,"     0.00000     1.00000     0.0"]
[null,null,"    15.95435    42.09675    84.0"]
[]
[null,null,"          85        1920      0."]
[null,null," 3            1.9543647         "]
[null,null,"     0.00000     1.00000     0.0"]
[null,null,"    10.88118    31.33887    74.0"]
[]
[null,null,"          85        1920      0."]
[null,null," 3            1.9731483         "]
[null,null,"     0.00000     1.00000     0.0"]
[null,null,"     4.48000     9.83549    86.0"]
[]
[null,null,"          85        1920      0."]
[null,null," 1           -0.0360457         "]
[null,null,"     0.00000     1.00000     0.0"]
[null,null,"     3.13741     5.84412    86.0"]
[]
[null,null,"          85        1920      0."]
[null,null," 3            2.0112391         "]
[null,null,"     0.00000     1.00000     0.0"]
[null,null,"     4.59459     9.42381    84.0"]
[]
[null,null,"          85        1920      0."]
[null,null," 3            1.9681019         "]
[null,null,"     0.00000     1.00000     0.0"]
[null,null,"    13.01506    31.74974    86.0"]
[]
[null,null,"          85        1920      0."]
[null,null," 1            0.6377091         "]
[null,null,"     0.00000     1.00000     0.0"]
[null,null,"     1.59812     5.71335    80.0"]
[]
[null,null,"          85        1920      0."]
[null,null," 1           -0.0317810         "]
[null,null,"     0.00000     1.00000     0.0"]
[null,null,"     4.49471    11.02012    84.0"]
[]
[null,null,"          85        1920      0."]
[null,null," 1           -1.3355068         "]
[null,null,"     0.00000     1.00000     0.0"]
[null,null,"    53.07541   123.63295    45.4"]
[]
[null,null,"          85        1920     -0."]
[null,null," 3            1.5375129         "]
[null,null,"     0.00000     1.00000     0.0"]
[null,null,"    61.82788    47.87942    45.8"]
[]
[null,null,"          85        1920     -0."]
[null,null," 3            1.7425696         "]
[null,null,"     0.00000     1.00000     0.0"]
[null,null,"   103.93694    43.72362    46.3"]
[]
[null,null,"          85        1920     -0."]
[null,null," 1           -7.7925851         "]
[null,null,"     0.00000     1.00000     0.0"]
[null,null,"    36.34082    16.59056    45.6"]
[]
[null,null,"          85        1920     -0."]
[null,null," 3            1.9407314         "]
[null,null,"     0.00000     1.00000     0.0"]
[null,null,"    43.72071    24.71395    45.9"]
[]
[null,null,"          85        1920     -0."]
[null,null," 3            2.0237190         "]
[null,null,"     0.00000     1.00000     0.8"]
[null,null,"    30.07506    27.62693    45.8"]
[]
[null,null,"          85        1920     -0."]
[null,null," 3            2.0519931         "]
[null,null,"     0.00000     1.00000     0.0"]
[null,null,"     5.90706     3.34394    46.0"]
[]
[null,null,"          85        1920     -1."]
[null,null," 3            1.2078818         "]
[null,null,"     0.00000     1.00000     0.0"]
[null,null,"   354.83224   182.01438    45.8"]
[]
[null,null,"          85        1920     -1."]
[null,null," 3            1.2079222         "]
[null,null,"     0.00000     1.00000     0.0"]
[null,null,"   169.69976    87.05102    45.8"]
[]
[null,null,"          85        1920      0."]
[null,null," 1           -0.4029140         "]
[null,null,"     0.00000     1.00000     0.0"]
[null,null,"     2.94059     4.43872    43.1"]
[]
[null,null,"          85        1920      0."]
[null,null," 1           -2.7800327         "]
[null,null,"     0.00000     1.00000     0.0"]
[null,null,"    39.49188    59.58340    43.2"]
[]
[null,null,"          85        1920      0."]
[null,null," 1           -1.7042491         "]
[null,null,"     0.00000     1.00000     0.0"]
[null,null,"    12.11012    18.26970    43.2"]
[]
[null,null,"          85        1920      1."]
[null,null," 1           -0.6449259         "]
[null,null,"     0.00000     1.00000     0.0"]
[null,null,"    11.71424    39.07875    46.8"]
[]
[null,null,"          85        1920      1."]
[null,null," 1           -0.9411216         "]
[null,null,"     0.00000     1.00000     0.0"]
[null,null,"    18.63106    62.14513    46.8"]
[]
[null,null,"          85        1920     -0."]
[null,null," 1           -5.0600926         "]
[null,null,"     0.00000     1.00000     0.0"]
[null,null,"    22.13082    12.40202    45.4"]
[]
[null,null,"          65        1930     -0."]
[null,null," 1           -2.4876200         "]
[null,null,"     0.00000     1.00000     0.1"]
[null,null,"    94.63062   162.42120    34.5"]
[]
[null,null,"          65        1930     -0."]
[null,null," 1           -2.9097315         "]
[null,null,"     0.00000     1.00000     0.1"]
[null,null,"   101.96508   174.16425    34.5"]
[]
[null,null,"          65        1930     -0."]
[null,null," 1           -1.8003987         "]
[null,null,"     0.00000     1.00000     0.0"]
[null,null,"    36.70492    65.52396    36.2"]
[]
[null,null,"          65        1930     -0."]
[null,null," 1           -2.1163476         "]
[null,null,"     0.00000     1.00000     0.4"]
[null,null,"   107.13031   214.37289    31.8"]
[]
[null,null,"          65        1930     -0."]
[null,null," 1           -3.5432333         "]
[null,null,"     0.00000     1.00000     0.0"]
[null,null,"    82.55985   135.13961    35.7"]
[]
[null,null,"          85        1920     -0."]
[null,null," 3            1.3163511         "]
[null,null,"     0.00000     1.00000     0.7"]
[null,null,"    12.59522    11.51747    42.6"]
[]
[null,null,"          85        1920     -0."]
[null,null," 3            1.3479384         "]
[null,null,"     0.00000     1.00000     0.7"]
[null,null,"    11.96856    10.88921    42.8"]
[]
[null,null,"          85        1920     -0."]
[null,null," 3            1.3731280         "]
[null,null,"     0.00000     1.00000     0.7"]
[null,null,"     9.45527     8.60224    42.8"]
[]
[null,null,"          85        1920     -0."]
[null,null," 3            1.4032206         "]
[null,null,"     0.00000     1.00000    -0.8"]
[null,null,"    14.16326    12.63855    44.8"]
[]
[null,null,"          85        1920     -0."]
[null,null," 3            1.4101860         "]
[null,null,"     0.00000     1.00000     0.7"]
[null,null,"     3.98300     3.62043    42.7"]
[]
[null,null,"          85        1920     -0."]
[null,null," 3            1.3861583         "]
[null,null,"     0.00000     1.00000     0.7"]
[null,null,"     8.57874     7.76256    42.8"]
[]
[null,null,"          85        1920      0."]
[null,null," 1           -2.9299098         "]
[null,null,"     0.00000     1.00000     0.0"]
[null,null,"     9.67976     7.31501    39.0"]
[]
[null,null,"          75        1920     -0."]
[null,null," 1           -3.3444268         "]
[null,null,"     0.00000     1.00000    -0.1"]
[null,null,"    12.86387    10.19900    39.9"]
[]
[null,null,"          75        1920     -1."]
[null,null," 1           -6.0598069         "]
[null,null,"     0.00000     1.00000     0.0"]
[null,null,"   142.69413   113.46951    41.0"]
[]
[null,null,"          75        1920     -1."]
[null,null," 1           -2.9061852         "]
[null,null,"     0.00000     1.00000     0.0"]
[null,null,"    13.58827    10.50757    41.2"]
[]
[null,null,"          75        1920     -1."]
[null,null," 1           -6.4331703         "]
[null,null,"     0.00000     1.00000     0.0"]
[null,null,"    97.94627    68.32495    40.9"]
[]
[null,null,"          75        1920     -1."]
[null,null," 3            1.9439941         "]
[null,null,"     0.00000     1.00000     0.0"]
[null,null,"    16.23200    12.11628    41.1"]
[]
[null,null,"          75        1920     -0."]
[null,null," 1           -5.1116541         "]
[null,null,"     0.00000     1.00000     0.0"]
[null,null,"    55.99627    47.47424    40.7"]
[]
[null,null,"          75        1920     -0."]
[null,null," 1           -4.8643959         "]
[null,null,"     0.00000     1.00000     0.0"]
[null,null,"    35.33480    24.47998    40.6"]
[]
[null,null,"          85        1920      0."]
[null,null," 3            0.6721991         "]
[null,null,"     0.00000     1.00000     0.0"]
[null,null,"    77.38365    49.17049    45.0"]
[]
[null,null,"          85        1920      0."]
[null,null," 3            1.4595948         "]
[null,null,"     0.00000     1.00000     0.0"]
[null,null,"    17.73282    15.20706    47.4"]
[]
[null,null,"          85        1920     -1."]
[null,null," 1           -3.2607267         "]
[null,null,"     0.00000     1.00000    -0.1"]
[null,null,"   151.64706   221.84282    46.0"]
[]
[null,null,"          65        1930     -1."]
[null,null," 1           -3.2406261         "]
[null,null,"     0.00000     1.00000     0.0"]
[null,null,"    84.67769   143.28360    36.2"]
[]
[null,null,"          65        1930      0."]
[null,null," 1           -0.6327247         "]
[null,null,"     0.00000     1.00000     0.0"]
[null,null,"     4.73600    17.02806    32.1"]
[]
[null,null,"          65        1930      0."]
[null,null," 1           -0.8264773         "]
[null,null,"     0.00000     1.00000     0.0"]
[null,null,"     3.37246    10.37965    22.2"]
[]
[null,null,"          65        1930     -0."]
[null,null," 1           -2.7099614         "]
[null,null,"     0.00000     1.00000     0.1"]
[null,null,"    76.20523   157.31710    36.1"]
[]
[null,null,"          65        1930      0."]
[null,null," 3            1.7488301         "]
[null,null,"     0.00000     1.00000     0.0"]
[null,null,"    24.12969    52.80394    62.0"]